{"text_format":"1","workbook":"xlsx","n_sheets":15,"sheets":["Data","Annual Summary","Charts","January","February","March","April","May","June","July","August","September","October","November","December"],"not_rendered":{"charts":33,"images":1,"macros":1,"external_links":0,"defined_names":26,"comments":0,"pivot_tables":0},"unopened":[],"bounds":{"document_bytes":16777216,"sheet_cells":100000,"rows_first":2000,"rows_last":500,"rows_between":2000,"halvings":0,"cell_chars":16384,"cell_head_chars":4096},"cells_cut":0,"cells_raw":0,"read":"whole","date_system":"1900"}

{"sheet":"Data","index":0,"n_rows":366,"n_cols":20,"rows_kept":366,"cut":false,"hidden":true,"merged":[[2,13,2,14]]}
["Date","Month","GP","Rainfall","Min Air Temp","Max Air Temp","Dry Day","Wet Day","Frost Day","Smith Kerns","E.T","Humidity",null,null,null,"day","Month","year",null,"Date"]
[{"$f":"T2","v":"2023-01-01"},{"$f":"TEXT($A2,\"mmmm\")","v":"January"},{"$f":"VLOOKUP($A2,INDIRECT($B2 & \"!$B$10:$P$40\"),9,FALSE)","v":""},{"$f":"IF($C2<>\"\",IF(VLOOKUP($A2,INDIRECT($B2 & \"!$B$10:$P$40\"),5,FALSE)<>\"\",VLOOKUP($A2,INDIRECT($B2 & \"!$B$10:$P$40\"),5,FALSE),0),\"\")","v":""},{"$f":"IF(VLOOKUP($A2,INDIRECT($B2 & \"!$B$10:$P$40\"),2,FALSE)<>\"\",VLOOKUP($A2,INDIRECT($B2 & \"!$B$10:$P$40\"),2,FALSE),\"\")","v":""},{"$f":"IF(VLOOKUP($A2,INDIRECT($B2 & \"!$B$10:$P$40\"),3,FALSE)<>\"\",VLOOKUP($A2,INDIRECT($B2 & \"!$B$10:$P$40\"),3,FALSE),\"\")","v":""},{"$f":"IF($C2<>\"\",IF($D2=0,1,0),\"\")","v":""},{"$f":"IF($G2<>\"\",IF($D2>0,1,0),\"\")","v":""},{"$f":"IF($E2<>\"\",IF($E2<=0,1,0),\"\")","v":""},{"$f":"IFERROR(IF((-11.4041+(0.0894*AVERAGE(#REF!))+(0.1932*AVERAGE(#REF!)))<>\"\",IF(OR(AVERAGE(#REF!)<=10,AVERAGE(#REF!)>=35),\"\",(EXP((-11.4041+(0.0894*AVERAGE(#REF!))+(0.1932*AVERAGE(#REF!)))))/(1+EXP((-11.4041+(0.0894*AVERAGE(#REF!))+(0.1932*AVERAGE(#REF!)))))),\"\"),\"\")","v":""},{"$f":"IF(VLOOKUP($A2,INDIRECT($B2 & \"!$B$10:$P$40\"),14,FALSE)<>\"\",VLOOKUP($A2,INDIRECT($B2 & \"!$B$10:$P$40\"),14,FALSE),\"\")","v":""},{"$f":"IF(VLOOKUP($A2,INDIRECT($B2 & \"!$B$10:$P$40\"),13,FALSE)<>\"\",VLOOKUP($A2,INDIRECT($B2 & \"!$B$10:$P$40\"),13,FALSE),\"\")","v":""},null,null,null,1,1,2023,null,{"$f":"DATE(R2,Q2,P2)","v":"2023-01-01"}]
[{"$f":"T3","v":"2023-01-02"},{"$f":"TEXT($A3,\"mmmm\")","v":"January"},{"$f":"VLOOKUP($A3,INDIRECT($B3 & \"!$B$10:$P$40\"),9,FALSE)","v":""},{"$f":"IF($C3<>\"\",IF(VLOOKUP($A3,INDIRECT($B3 & \"!$B$10:$P$40\"),5,FALSE)<>\"\",VLOOKUP($A3,INDIRECT($B3 & \"!$B$10:$P$40\"),5,FALSE),0),\"\")","v":""},{"$f":"IF(VLOOKUP($A3,INDIRECT($B3 & \"!$B$10:$P$40\"),2,FALSE)<>\"\",VLOOKUP($A3,INDIRECT($B3 & \"!$B$10:$P$40\"),2,FALSE),\"\")","v":""},{"$f":"IF(VLOOKUP($A3,INDIRECT($B3 & \"!$B$10:$P$40\"),3,FALSE)<>\"\",VLOOKUP($A3,INDIRECT($B3 & \"!$B$10:$P$40\"),3,FALSE),\"\")","v":""},{"$f":"IF($C3<>\"\",IF($D3=0,1,0),\"\")","v":""},{"$f":"IF($G3<>\"\",IF($D3>0,1,0),\"\")","v":""},{"$f":"IF($E3<>\"\",IF($E3<=0,1,0),\"\")","v":""},{"$f":"IFERROR(IF((-11.4041+(0.0894*AVERAGE(#REF!))+(0.1932*AVERAGE(#REF!)))<>\"\",IF(OR(AVERAGE(#REF!)<=10,AVERAGE(#REF!)>=35),\"\",(EXP((-11.4041+(0.0894*AVERAGE(#REF!))+(0.1932*AVERAGE(#REF!)))))/(1+EXP((-11.4041+(0.0894*AVERAGE(#REF!))+(0.1932*AVERAGE(#REF!)))))),\"\"),\"\")","v":""},{"$f":"IF(VLOOKUP($A3,INDIRECT($B3 & \"!$B$10:$P$40\"),14,FALSE)<>\"\",VLOOKUP($A3,INDIRECT($B3 & \"!$B$10:$P$40\"),14,FALSE),\"\")","v":""},{"$f":"IF(VLOOKUP($A3,INDIRECT($B3 & \"!$B$10:$P$40\"),13,FALSE)<>\"\",VLOOKUP($A3,INDIRECT($B3 & \"!$B$10:$P$40\"),13,FALSE),\"\")","v":""},null,"HIDE THESE CELLS->",null,2,1,{"$f":"'Annual Summary'!G$7","v":2023},null,{"$f":"DATE(R3,Q3,P3)","v":"2023-01-02"}]
["2023-01-03","January","","","","","","","",{"$f":"IFERROR(IF((-11.4041+(0.0894*AVERAGE(#REF!))+(0.1932*AVERAGE(#REF!)))<>\"\",IF(OR(AVERAGE(#REF!)<=10,AVERAGE(#REF!)>=35),\"\",(EXP((-11.4041+(0.0894*AVERAGE(#REF!))+(0.1932*AVERAGE(#REF!)))))/(1+EXP((-11.4041+(0.0894*AVERAGE(#REF!))+(0.1932*AVERAGE(#REF!)))))),\"\"),\"\")","v":""},"","",null,null,null,3,1,{"$f":"'Annual Summary'!G$7","v":2023},null,"2023-01-03"]
["2023-01-04","January","","","","","","","",{"$f":"IFERROR(IF((-11.4041+(0.0894*AVERAGE($L1:$L5))+(0.1932*AVERAGE($E1:$F5)))<>\"\",IF(OR(AVERAGE($E1:$F5)<=10,AVERAGE($E1:$F5)>=35),\"\",(EXP((-11.4041+(0.0894*AVERAGE($L1:$L5))+(0.1932*AVERAGE($E1:$F5)))))/(1+EXP((-11.4041+(0.0894*AVERAGE($L1:$L5))+(0.1932*AVERAGE($E1:$F5)))))),\"\"),\"\")","v":""},"","",null,null,null,4,1,{"$f":"'Annual Summary'!G$7","v":2023},null,"2023-01-04"]
["2023-01-05","January","","","","","","","",{"$f":"IFERROR(IF((-11.4041+(0.0894*AVERAGE($L2:$L6))+(0.1932*AVERAGE($E2:$F6)))<>\"\",IF(OR(AVERAGE($E2:$F6)<=10,AVERAGE($E2:$F6)>=35),\"\",(EXP((-11.4041+(0.0894*AVERAGE($L2:$L6))+(0.1932*AVERAGE($E2:$F6)))))/(1+EXP((-11.4041+(0.0894*AVERAGE($L2:$L6))+(0.1932*AVERAGE($E2:$F6)))))),\"\"),\"\")","v":""},"","",null,null,null,5,1,{"$f":"'Annual Summary'!G$7","v":2023},null,"2023-01-05"]
["2023-01-06","January","","","","","","","",{"$f":"IFERROR(IF((-11.4041+(0.0894*AVERAGE($L3:$L7))+(0.1932*AVERAGE($E3:$F7)))<>\"\",IF(OR(AVERAGE($E3:$F7)<=10,AVERAGE($E3:$F7)>=35),\"\",(EXP((-11.4041+(0.0894*AVERAGE($L3:$L7))+(0.1932*AVERAGE($E3:$F7)))))/(1+EXP((-11.4041+(0.0894*AVERAGE($L3:$L7))+(0.1932*AVERAGE($E3:$F7)))))),\"\"),\"\")","v":""},"","",null,null,null,6,1,{"$f":"'Annual Summary'!G$7","v":2023},null,"2023-01-06"]
["2023-01-07","January","","","","","","","","","","",null,null,null,7,1,{"$f":"'Annual Summary'!G$7","v":2023},null,"2023-01-07"]
["2023-01-08","January","","","","","","","","","","",null,null,null,8,1,{"$f":"'Annual Summary'!G$7","v":2023},null,"2023-01-08"]
["2023-01-09","January","","","","","","","","","","",null,null,null,9,1,{"$f":"'Annual Summary'!G$7","v":2023},null,"2023-01-09"]
["2023-01-10","January","","","","","","","","","","",null,null,null,10,1,{"$f":"'Annual Summary'!G$7","v":2023},null,"2023-01-10"]
["2023-01-11","January","","","","","","","","","","",null,null,null,11,1,{"$f":"'Annual Summary'!G$7","v":2023},null,"2023-01-11"]
["2023-01-12","January","","","","","","","","","","",null,null,null,12,1,{"$f":"'Annual Summary'!G$7","v":2023},null,"2023-01-12"]
["2023-01-13","January","","","","","","","","","","",null,null,null,13,1,{"$f":"'Annual Summary'!G$7","v":2023},null,"2023-01-13"]
["2023-01-14","January","","","","","","","","","","",null,null,null,14,1,{"$f":"'Annual Summary'!G$7","v":2023},null,"2023-01-14"]
["2023-01-15","January","","","","","","","","","","",null,null,null,15,1,{"$f":"'Annual Summary'!G$7","v":2023},null,"2023-01-15"]
["2023-01-16","January","","","","","","","","","","",null,null,null,16,1,{"$f":"'Annual Summary'!G$7","v":2023},null,"2023-01-16"]
["2023-01-17","January","","","","","","","","","","",null,null,null,17,1,{"$f":"'Annual Summary'!G$7","v":2023},null,"2023-01-17"]
["2023-01-18","January","","","","","","","","","","",null,null,null,18,1,{"$f":"'Annual Summary'!G$7","v":2023},null,"2023-01-18"]
["2023-01-19","January","","","","","","","","","","",null,null,null,19,1,{"$f":"'Annual Summary'!G$7","v":2023},null,"2023-01-19"]
["2023-01-20","January","","","","","","","","","","",null,null,null,20,1,{"$f":"'Annual Summary'!G$7","v":2023},null,"2023-01-20"]
["2023-01-21","January","","","","","","","","","","",null,null,null,21,1,{"$f":"'Annual Summary'!G$7","v":2023},null,"2023-01-21"]
["2023-01-22","January","","","","","","","","","","",null,null,null,22,1,{"$f":"'Annual Summary'!G$7","v":2023},null,"2023-01-22"]
["2023-01-23","January","","","","","","","","","","",null,null,null,23,1,{"$f":"'Annual Summary'!G$7","v":2023},null,"2023-01-23"]
["2023-01-24","January","","","","","","","","","","",null,null,null,24,1,{"$f":"'Annual Summary'!G$7","v":2023},null,"2023-01-24"]
["2023-01-25","January","","","","","","","","","","",null,null,null,25,1,{"$f":"'Annual Summary'!G$7","v":2023},null,"2023-01-25"]
["2023-01-26","January","","","","","","","","","","",null,null,null,26,1,{"$f":"'Annual Summary'!G$7","v":2023},null,"2023-01-26"]
["2023-01-27","January","","","","","","","","","","",null,null,null,27,1,{"$f":"'Annual Summary'!G$7","v":2023},null,"2023-01-27"]
["2023-01-28","January","","","","","","","","","","",null,null,null,28,1,{"$f":"'Annual Summary'!G$7","v":2023},null,"2023-01-28"]
["2023-01-29","January","","","","","","","","","","",null,null,null,29,1,{"$f":"'Annual Summary'!G$7","v":2023},null,"2023-01-29"]
["2023-01-30","January","","","","","","","","","","",null,null,null,30,1,{"$f":"'Annual Summary'!G$7","v":2023},null,"2023-01-30"]
["2023-01-31","January","","","","","","","","","","",null,null,null,31,1,{"$f":"'Annual Summary'!G$7","v":2023},null,"2023-01-31"]
["2023-02-01","February","","","","","","","","","","",null,null,null,32,1,{"$f":"'Annual Summary'!G$7","v":2023},null,"2023-02-01"]
["2023-02-02","February","","","","","","","","","","",null,null,null,33,1,{"$f":"'Annual Summary'!G$7","v":2023},null,"2023-02-02"]
["2023-02-03","February","","","","","","","","","","",null,null,null,34,1,{"$f":"'Annual Summary'!G$7","v":2023},null,"2023-02-03"]
["2023-02-04","February","","","","","","","","","","",null,null,null,35,1,{"$f":"'Annual Summary'!G$7","v":2023},null,"2023-02-04"]
["2023-02-05","February","","","","","","","","","","",null,null,null,36,1,{"$f":"'Annual Summary'!G$7","v":2023},null,"2023-02-05"]
["2023-02-06","February","","","","","","","","","","",null,null,null,37,1,{"$f":"'Annual Summary'!G$7","v":2023},null,"2023-02-06"]
["2023-02-07","February","","","","","","","","","","",null,null,null,38,1,{"$f":"'Annual Summary'!G$7","v":2023},null,"2023-02-07"]
["2023-02-08","February","","","","","","","","","","",null,null,null,39,1,{"$f":"'Annual Summary'!G$7","v":2023},null,"2023-02-08"]
["2023-02-09","February","","","","","","","","","","",null,null,null,40,1,{"$f":"'Annual Summary'!G$7","v":2023},null,"2023-02-09"]
["2023-02-10","February","","","","","","","","","","",null,null,null,41,1,{"$f":"'Annual Summary'!G$7","v":2023},null,"2023-02-10"]
["2023-02-11","February","","","","","","","","","","",null,null,null,42,1,{"$f":"'Annual Summary'!G$7","v":2023},null,"2023-02-11"]
["2023-02-12","February","","","","","","","","","","",null,null,null,43,1,{"$f":"'Annual Summary'!G$7","v":2023},null,"2023-02-12"]
["2023-02-13","February","","","","","","","","","","",null,null,null,44,1,{"$f":"'Annual Summary'!G$7","v":2023},null,"2023-02-13"]
["2023-02-14","February","","","","","","","","","","",null,null,null,45,1,{"$f":"'Annual Summary'!G$7","v":2023},null,"2023-02-14"]
["2023-02-15","February","","","","","","","","","","",null,null,null,46,1,{"$f":"'Annual Summary'!G$7","v":2023},null,"2023-02-15"]
["2023-02-16","February","","","","","","","","","","",null,null,null,47,1,{"$f":"'Annual Summary'!G$7","v":2023},null,"2023-02-16"]
["2023-02-17","February","","","","","","","","","","",null,null,null,48,1,{"$f":"'Annual Summary'!G$7","v":2023},null,"2023-02-17"]
["2023-02-18","February","","","","","","","","","","",null,null,null,49,1,{"$f":"'Annual Summary'!G$7","v":2023},null,"2023-02-18"]
["2023-02-19","February","","","","","","","","","","",null,null,null,50,1,{"$f":"'Annual Summary'!G$7","v":2023},null,"2023-02-19"]
["2023-02-20","February","","","","","","","","","","",null,null,null,51,1,{"$f":"'Annual Summary'!G$7","v":2023},null,"2023-02-20"]
["2023-02-21","February","","","","","","","","","","",null,null,null,52,1,{"$f":"'Annual Summary'!G$7","v":2023},null,"2023-02-21"]
["2023-02-22","February","","","","","","","","","","",null,null,null,53,1,{"$f":"'Annual Summary'!G$7","v":2023},null,"2023-02-22"]
["2023-02-23","February","","","","","","","","","","",null,null,null,54,1,{"$f":"'Annual Summary'!G$7","v":2023},null,"2023-02-23"]
["2023-02-24","February","","","","","","","","","","",null,null,null,55,1,{"$f":"'Annual Summary'!G$7","v":2023},null,"2023-02-24"]
["2023-02-25","February","","","","","","","","","","",null,null,null,56,1,{"$f":"'Annual Summary'!G$7","v":2023},null,"2023-02-25"]
["2023-02-26","February","","","","","","","","","","",null,null,null,57,1,{"$f":"'Annual Summary'!G$7","v":2023},null,"2023-02-26"]
["2023-02-27","February","","","","","","","","","","",null,null,null,58,1,{"$f":"'Annual Summary'!G$7","v":2023},null,"2023-02-27"]
["2023-02-28","February","","","","","","","","","","",null,null,null,59,1,{"$f":"'Annual Summary'!G$7","v":2023},null,"2023-02-28"]
["2023-03-01","March","","","","","","","","","","",null,null,null,60,1,{"$f":"'Annual Summary'!G$7","v":2023},null,"2023-03-01"]
["2023-03-02","March","","","","","","","","","","",null,null,null,61,1,{"$f":"'Annual Summary'!G$7","v":2023},null,"2023-03-02"]
["2023-03-03","March","","","","","","","","","","",null,null,null,62,1,{"$f":"'Annual Summary'!G$7","v":2023},null,"2023-03-03"]
["2023-03-04","March","","","","","","","","","","",null,null,null,63,1,{"$f":"'Annual Summary'!G$7","v":2023},null,"2023-03-04"]
["2023-03-05","March","","","","","","","","","","",null,null,null,64,1,{"$f":"'Annual Summary'!G$7","v":2023},null,"2023-03-05"]
["2023-03-06","March","","","","","","","","","","",null,null,null,65,1,{"$f":"'Annual Summary'!G$7","v":2023},null,"2023-03-06"]
[{"$f":"T67","v":"2023-03-07"},{"$f":"TEXT($A67,\"mmmm\")","v":"March"},{"$f":"VLOOKUP($A67,INDIRECT($B67 & \"!$B$10:$P$40\"),9,FALSE)","v":""},{"$f":"IF($C67<>\"\",IF(VLOOKUP($A67,INDIRECT($B67 & \"!$B$10:$P$40\"),5,FALSE)<>\"\",VLOOKUP($A67,INDIRECT($B67 & \"!$B$10:$P$40\"),5,FALSE),0),\"\")","v":""},{"$f":"IF(VLOOKUP($A67,INDIRECT($B67 & \"!$B$10:$P$40\"),2,FALSE)<>\"\",VLOOKUP($A67,INDIRECT($B67 & \"!$B$10:$P$40\"),2,FALSE),\"\")","v":""},{"$f":"IF(VLOOKUP($A67,INDIRECT($B67 & \"!$B$10:$P$40\"),3,FALSE)<>\"\",VLOOKUP($A67,INDIRECT($B67 & \"!$B$10:$P$40\"),3,FALSE),\"\")","v":""},{"$f":"IF($C67<>\"\",IF($D67=0,1,0),\"\")","v":""},{"$f":"IF($G67<>\"\",IF($D67>0,1,0),\"\")","v":""},{"$f":"IF($E67<>\"\",IF($E67<=0,1,0),\"\")","v":""},"",{"$f":"IF(VLOOKUP($A67,INDIRECT($B67 & \"!$B$10:$P$40\"),14,FALSE)<>\"\",VLOOKUP($A67,INDIRECT($B67 & \"!$B$10:$P$40\"),14,FALSE),\"\")","v":""},{"$f":"IF(VLOOKUP($A67,INDIRECT($B67 & \"!$B$10:$P$40\"),13,FALSE)<>\"\",VLOOKUP($A67,INDIRECT($B67 & \"!$B$10:$P$40\"),13,FALSE),\"\")","v":""},null,null,null,66,1,{"$f":"'Annual Summary'!G$7","v":2023},null,{"$f":"DATE(R67,Q67,P67)","v":"2023-03-07"}]
["2023-03-08","March","","","","","","","","","","",null,null,null,67,1,{"$f":"'Annual Summary'!G$7","v":2023},null,"2023-03-08"]
["2023-03-09","March","","","","","","","","","","",null,null,null,68,1,{"$f":"'Annual Summary'!G$7","v":2023},null,"2023-03-09"]
["2023-03-10","March","","","","","","","","","","",null,null,null,69,1,{"$f":"'Annual Summary'!G$7","v":2023},null,"2023-03-10"]
["2023-03-11","March","","","","","","","",{"$f":"IFERROR(IF((-11.4041+(0.0894*AVERAGE($L67:$L71))+(0.1932*AVERAGE($E67:$F71)))<>\"\",IF(OR(AVERAGE($E67:$F71)<=10,AVERAGE($E67:$F71)>=35),\"\",(EXP((-11.4041+(0.0894*AVERAGE($L67:$L71))+(0.1932*AVERAGE($E67:$F71)))))/(1+EXP((-11.4041+(0.0894*AVERAGE($L67:$L71))+(0.1932*AVERAGE($E67:$F71)))))),\"\"),\"\")","v":""},"","",null,null,null,70,1,{"$f":"'Annual Summary'!G$7","v":2023},null,"2023-03-11"]
["2023-03-12","March","","","","","","","","","","",null,null,null,71,1,{"$f":"'Annual Summary'!G$7","v":2023},null,"2023-03-12"]
["2023-03-13","March","","","","","","","","","","",null,null,null,72,1,{"$f":"'Annual Summary'!G$7","v":2023},null,"2023-03-13"]
["2023-03-14","March","","","","","","","","","","",null,null,null,73,1,{"$f":"'Annual Summary'!G$7","v":2023},null,"2023-03-14"]
["2023-03-15","March","","","","","","","","","","",null,null,null,74,1,{"$f":"'Annual Summary'!G$7","v":2023},null,"2023-03-15"]
["2023-03-16","March","","","","","","","","","","",null,null,null,75,1,{"$f":"'Annual Summary'!G$7","v":2023},null,"2023-03-16"]
["2023-03-17","March","","","","","","","","","","",null,null,null,76,1,{"$f":"'Annual Summary'!G$7","v":2023},null,"2023-03-17"]
["2023-03-18","March","","","","","","","","","","",null,null,null,77,1,{"$f":"'Annual Summary'!G$7","v":2023},null,"2023-03-18"]
["2023-03-19","March","","","","","","","","","","",null,null,null,78,1,{"$f":"'Annual Summary'!G$7","v":2023},null,"2023-03-19"]
["2023-03-20","March","","","","","","","","","","",null,null,null,79,1,{"$f":"'Annual Summary'!G$7","v":2023},null,"2023-03-20"]
["2023-03-21","March","","","","","","","","","","",null,null,null,80,1,{"$f":"'Annual Summary'!G$7","v":2023},null,"2023-03-21"]
["2023-03-22","March","","","","","","","","","","",null,null,null,81,1,{"$f":"'Annual Summary'!G$7","v":2023},null,"2023-03-22"]
["2023-03-23","March","","","","","","","","","","",null,null,null,82,1,{"$f":"'Annual Summary'!G$7","v":2023},null,"2023-03-23"]
["2023-03-24","March","","","","","","","","","","",null,null,null,83,1,{"$f":"'Annual Summary'!G$7","v":2023},null,"2023-03-24"]
["2023-03-25","March","","","","","","","","","","",null,null,null,84,1,{"$f":"'Annual Summary'!G$7","v":2023},null,"2023-03-25"]
["2023-03-26","March","","","","","","","","","","",null,null,null,85,1,{"$f":"'Annual Summary'!G$7","v":2023},null,"2023-03-26"]
["2023-03-27","March","","","","","","","","","","",null,null,null,86,1,{"$f":"'Annual Summary'!G$7","v":2023},null,"2023-03-27"]
["2023-03-28","March","","","","","","","","","","",null,null,null,87,1,{"$f":"'Annual Summary'!G$7","v":2023},null,"2023-03-28"]
["2023-03-29","March","","","","","","","","","","",null,null,null,88,1,{"$f":"'Annual Summary'!G$7","v":2023},null,"2023-03-29"]
["2023-03-30","March","","","","","","","","","","",null,null,null,89,1,{"$f":"'Annual Summary'!G$7","v":2023},null,"2023-03-30"]
["2023-03-31","March","","","","","","","","","","",null,null,null,90,1,{"$f":"'Annual Summary'!G$7","v":2023},null,"2023-03-31"]
["2023-04-01","April","","","","","","","","","","",null,null,null,91,1,{"$f":"'Annual Summary'!G$7","v":2023},null,"2023-04-01"]
["2023-04-02","April","","","","","","","","","","",null,null,null,92,1,{"$f":"'Annual Summary'!G$7","v":2023},null,"2023-04-02"]
["2023-04-03","April","","","","","","","","","","",null,null,null,93,1,{"$f":"'Annual Summary'!G$7","v":2023},null,"2023-04-03"]
["2023-04-04","April","","","","","","","","","","",null,null,null,94,1,{"$f":"'Annual Summary'!G$7","v":2023},null,"2023-04-04"]
["2023-04-05","April","","","","","","","","","","",null,null,null,95,1,{"$f":"'Annual Summary'!G$7","v":2023},null,"2023-04-05"]
["2023-04-06","April","","","","","","","","","","",null,null,null,96,1,{"$f":"'Annual Summary'!G$7","v":2023},null,"2023-04-06"]
["2023-04-07","April","","","","","","","","","","",null,null,null,97,1,{"$f":"'Annual Summary'!G$7","v":2023},null,"2023-04-07"]
["2023-04-08","April","","","","","","","","","","",null,null,null,98,1,{"$f":"'Annual Summary'!G$7","v":2023},null,"2023-04-08"]
["2023-04-09","April","","","","","","","","","","",null,null,null,99,1,{"$f":"'Annual Summary'!G$7","v":2023},null,"2023-04-09"]
["2023-04-10","April","","","","","","","","","","",null,null,null,100,1,{"$f":"'Annual Summary'!G$7","v":2023},null,"2023-04-10"]
["2023-04-11","April","","","","","","","","","","",null,null,null,101,1,{"$f":"'Annual Summary'!G$7","v":2023},null,"2023-04-11"]
["2023-04-12","April","","","","","","","","","","",null,null,null,102,1,{"$f":"'Annual Summary'!G$7","v":2023},null,"2023-04-12"]
["2023-04-13","April","","","","","","","","","","",null,null,null,103,1,{"$f":"'Annual Summary'!G$7","v":2023},null,"2023-04-13"]
["2023-04-14","April","","","","","","","","","","",null,null,null,104,1,{"$f":"'Annual Summary'!G$7","v":2023},null,"2023-04-14"]
["2023-04-15","April","","","","","","","","","","",null,null,null,105,1,{"$f":"'Annual Summary'!G$7","v":2023},null,"2023-04-15"]
["2023-04-16","April","","","","","","","","","","",null,null,null,106,1,{"$f":"'Annual Summary'!G$7","v":2023},null,"2023-04-16"]
["2023-04-17","April","","","","","","","","","","",null,null,null,107,1,{"$f":"'Annual Summary'!G$7","v":2023},null,"2023-04-17"]
["2023-04-18","April","","","","","","","","","","",null,null,null,108,1,{"$f":"'Annual Summary'!G$7","v":2023},null,"2023-04-18"]
["2023-04-19","April","","","","","","","","","","",null,null,null,109,1,{"$f":"'Annual Summary'!G$7","v":2023},null,"2023-04-19"]
["2023-04-20","April","","","","","","","","","","",null,null,null,110,1,{"$f":"'Annual Summary'!G$7","v":2023},null,"2023-04-20"]
["2023-04-21","April","","","","","","","","","","",null,null,null,111,1,{"$f":"'Annual Summary'!G$7","v":2023},null,"2023-04-21"]
["2023-04-22","April","","","","","","","","","","",null,null,null,112,1,{"$f":"'Annual Summary'!G$7","v":2023},null,"2023-04-22"]
["2023-04-23","April","","","","","","","","","","",null,null,null,113,1,{"$f":"'Annual Summary'!G$7","v":2023},null,"2023-04-23"]
["2023-04-24","April","","","","","","","","","","",null,null,null,114,1,{"$f":"'Annual Summary'!G$7","v":2023},null,"2023-04-24"]
["2023-04-25","April","","","","","","","","","","",null,null,null,115,1,{"$f":"'Annual Summary'!G$7","v":2023},null,"2023-04-25"]
["2023-04-26","April","","","","","","","","","","",null,null,null,116,1,{"$f":"'Annual Summary'!G$7","v":2023},null,"2023-04-26"]
["2023-04-27","April","","","","","","","","","","",null,null,null,117,1,{"$f":"'Annual Summary'!G$7","v":2023},null,"2023-04-27"]
["2023-04-28","April","","","","","","","","","","",null,null,null,118,1,{"$f":"'Annual Summary'!G$7","v":2023},null,"2023-04-28"]
["2023-04-29","April","","","","","","","","","","",null,null,null,119,1,{"$f":"'Annual Summary'!G$7","v":2023},null,"2023-04-29"]
["2023-04-30","April","","","","","","","","","","",null,null,null,120,1,{"$f":"'Annual Summary'!G$7","v":2023},null,"2023-04-30"]
["2023-05-01","May","","","","","","","","","","",null,null,null,121,1,{"$f":"'Annual Summary'!G$7","v":2023},null,"2023-05-01"]
["2023-05-02","May","","","","","","","","","","",null,null,null,122,1,{"$f":"'Annual Summary'!G$7","v":2023},null,"2023-05-02"]
["2023-05-03","May","","","","","","","","","","",null,null,null,123,1,{"$f":"'Annual Summary'!G$7","v":2023},null,"2023-05-03"]
["2023-05-04","May","","","","","","","","","","",null,null,null,124,1,{"$f":"'Annual Summary'!G$7","v":2023},null,"2023-05-04"]
["2023-05-05","May","","","","","","","","","","",null,null,null,125,1,{"$f":"'Annual Summary'!G$7","v":2023},null,"2023-05-05"]
["2023-05-06","May","","","","","","","","","","",null,null,null,126,1,{"$f":"'Annual Summary'!G$7","v":2023},null,"2023-05-06"]
["2023-05-07","May","","","","","","","","","","",null,null,null,127,1,{"$f":"'Annual Summary'!G$7","v":2023},null,"2023-05-07"]
["2023-05-08","May","","","","","","","","","","",null,null,null,128,1,{"$f":"'Annual Summary'!G$7","v":2023},null,"2023-05-08"]
["2023-05-09","May","","","","","","","","","","",null,null,null,129,1,{"$f":"'Annual Summary'!G$7","v":2023},null,"2023-05-09"]
[{"$f":"T131","v":"2023-05-10"},{"$f":"TEXT($A131,\"mmmm\")","v":"May"},{"$f":"VLOOKUP($A131,INDIRECT($B131 & \"!$B$10:$P$40\"),9,FALSE)","v":""},{"$f":"IF($C131<>\"\",IF(VLOOKUP($A131,INDIRECT($B131 & \"!$B$10:$P$40\"),5,FALSE)<>\"\",VLOOKUP($A131,INDIRECT($B131 & \"!$B$10:$P$40\"),5,FALSE),0),\"\")","v":""},{"$f":"IF(VLOOKUP($A131,INDIRECT($B131 & \"!$B$10:$P$40\"),2,FALSE)<>\"\",VLOOKUP($A131,INDIRECT($B131 & \"!$B$10:$P$40\"),2,FALSE),\"\")","v":""},{"$f":"IF(VLOOKUP($A131,INDIRECT($B131 & \"!$B$10:$P$40\"),3,FALSE)<>\"\",VLOOKUP($A131,INDIRECT($B131 & \"!$B$10:$P$40\"),3,FALSE),\"\")","v":""},{"$f":"IF($C131<>\"\",IF($D131=0,1,0),\"\")","v":""},{"$f":"IF($G131<>\"\",IF($D131>0,1,0),\"\")","v":""},{"$f":"IF($E131<>\"\",IF($E131<=0,1,0),\"\")","v":""},"",{"$f":"IF(VLOOKUP($A131,INDIRECT($B131 & \"!$B$10:$P$40\"),14,FALSE)<>\"\",VLOOKUP($A131,INDIRECT($B131 & \"!$B$10:$P$40\"),14,FALSE),\"\")","v":""},{"$f":"IF(VLOOKUP($A131,INDIRECT($B131 & \"!$B$10:$P$40\"),13,FALSE)<>\"\",VLOOKUP($A131,INDIRECT($B131 & \"!$B$10:$P$40\"),13,FALSE),\"\")","v":""},null,null,null,130,1,{"$f":"'Annual Summary'!G$7","v":2023},null,{"$f":"DATE(R131,Q131,P131)","v":"2023-05-10"}]
["2023-05-11","May","","","","","","","","","","",null,null,null,131,1,{"$f":"'Annual Summary'!G$7","v":2023},null,"2023-05-11"]
["2023-05-12","May","","","","","","","","","","",null,null,null,132,1,{"$f":"'Annual Summary'!G$7","v":2023},null,"2023-05-12"]
["2023-05-13","May","","","","","","","","","","",null,null,null,133,1,{"$f":"'Annual Summary'!G$7","v":2023},null,"2023-05-13"]
["2023-05-14","May","","","","","","","",{"$f":"IFERROR(IF((-11.4041+(0.0894*AVERAGE($L131:$L135))+(0.1932*AVERAGE($E131:$F135)))<>\"\",IF(OR(AVERAGE($E131:$F135)<=10,AVERAGE($E131:$F135)>=35),\"\",(EXP((-11.4041+(0.0894*AVERAGE($L131:$L135))+(0.1932*AVERAGE($E131:$F135)))))/(1+EXP((-11.4041+(0.0894*AVERAGE($L131:$L135))+(0.1932*AVERAGE($E131:$F135)))))),\"\"),\"\")","v":""},"","",null,null,null,134,1,{"$f":"'Annual Summary'!G$7","v":2023},null,"2023-05-14"]
["2023-05-15","May","","","","","","","","","","",null,null,null,135,1,{"$f":"'Annual Summary'!G$7","v":2023},null,"2023-05-15"]
["2023-05-16","May","","","","","","","","","","",null,null,null,136,1,{"$f":"'Annual Summary'!G$7","v":2023},null,"2023-05-16"]
["2023-05-17","May","","","","","","","","","","",null,null,null,137,1,{"$f":"'Annual Summary'!G$7","v":2023},null,"2023-05-17"]
["2023-05-18","May","","","","","","","","","","",null,null,null,138,1,{"$f":"'Annual Summary'!G$7","v":2023},null,"2023-05-18"]
["2023-05-19","May","","","","","","","","","","",null,null,null,139,1,{"$f":"'Annual Summary'!G$7","v":2023},null,"2023-05-19"]
["2023-05-20","May","","","","","","","","","","",null,null,null,140,1,{"$f":"'Annual Summary'!G$7","v":2023},null,"2023-05-20"]
["2023-05-21","May","","","","","","","","","","",null,null,null,141,1,{"$f":"'Annual Summary'!G$7","v":2023},null,"2023-05-21"]
["2023-05-22","May","","","","","","","","","","",null,null,null,142,1,{"$f":"'Annual Summary'!G$7","v":2023},null,"2023-05-22"]
["2023-05-23","May","","","","","","","","","","",null,null,null,143,1,{"$f":"'Annual Summary'!G$7","v":2023},null,"2023-05-23"]
["2023-05-24","May","","","","","","","","","","",null,null,null,144,1,{"$f":"'Annual Summary'!G$7","v":2023},null,"2023-05-24"]
["2023-05-25","May","","","","","","","","","","",null,null,null,145,1,{"$f":"'Annual Summary'!G$7","v":2023},null,"2023-05-25"]
["2023-05-26","May","","","","","","","","","","",null,null,null,146,1,{"$f":"'Annual Summary'!G$7","v":2023},null,"2023-05-26"]
["2023-05-27","May","","","","","","","","","","",null,null,null,147,1,{"$f":"'Annual Summary'!G$7","v":2023},null,"2023-05-27"]
["2023-05-28","May","","","","","","","","","","",null,null,null,148,1,{"$f":"'Annual Summary'!G$7","v":2023},null,"2023-05-28"]
["2023-05-29","May","","","","","","","","","","",null,null,null,149,1,{"$f":"'Annual Summary'!G$7","v":2023},null,"2023-05-29"]
["2023-05-30","May","","","","","","","","","","",null,null,null,150,1,{"$f":"'Annual Summary'!G$7","v":2023},null,"2023-05-30"]
["2023-05-31","May","","","","","","","","","","",null,null,null,151,1,{"$f":"'Annual Summary'!G$7","v":2023},null,"2023-05-31"]
["2023-06-01","June","","","","","","","","","","",null,null,null,152,1,{"$f":"'Annual Summary'!G$7","v":2023},null,"2023-06-01"]
["2023-06-02","June","","","","","","","","","","",null,null,null,153,1,{"$f":"'Annual Summary'!G$7","v":2023},null,"2023-06-02"]
["2023-06-03","June","","","","","","","","","","",null,null,null,154,1,{"$f":"'Annual Summary'!G$7","v":2023},null,"2023-06-03"]
["2023-06-04","June","","","","","","","","","","",null,null,null,155,1,{"$f":"'Annual Summary'!G$7","v":2023},null,"2023-06-04"]
["2023-06-05","June","","","","","","","","","","",null,null,null,156,1,{"$f":"'Annual Summary'!G$7","v":2023},null,"2023-06-05"]
["2023-06-06","June","","","","","","","","","","",null,null,null,157,1,{"$f":"'Annual Summary'!G$7","v":2023},null,"2023-06-06"]
["2023-06-07","June","","","","","","","","","","",null,null,null,158,1,{"$f":"'Annual Summary'!G$7","v":2023},null,"2023-06-07"]
["2023-06-08","June","","","","","","","","","","",null,null,null,159,1,{"$f":"'Annual Summary'!G$7","v":2023},null,"2023-06-08"]
["2023-06-09","June","","","","","","","","","","",null,null,null,160,1,{"$f":"'Annual Summary'!G$7","v":2023},null,"2023-06-09"]
["2023-06-10","June","","","","","","","","","","",null,null,null,161,1,{"$f":"'Annual Summary'!G$7","v":2023},null,"2023-06-10"]
["2023-06-11","June","","","","","","","","","","",null,null,null,162,1,{"$f":"'Annual Summary'!G$7","v":2023},null,"2023-06-11"]
["2023-06-12","June","","","","","","","","","","",null,null,null,163,1,{"$f":"'Annual Summary'!G$7","v":2023},null,"2023-06-12"]
["2023-06-13","June","","","","","","","","","","",null,null,null,164,1,{"$f":"'Annual Summary'!G$7","v":2023},null,"2023-06-13"]
["2023-06-14","June","","","","","","","","","","",null,null,null,165,1,{"$f":"'Annual Summary'!G$7","v":2023},null,"2023-06-14"]
["2023-06-15","June","","","","","","","","","","",null,null,null,166,1,{"$f":"'Annual Summary'!G$7","v":2023},null,"2023-06-15"]
["2023-06-16","June","","","","","","","","","","",null,null,null,167,1,{"$f":"'Annual Summary'!G$7","v":2023},null,"2023-06-16"]
["2023-06-17","June","","","","","","","","","","",null,null,null,168,1,{"$f":"'Annual Summary'!G$7","v":2023},null,"2023-06-17"]
["2023-06-18","June","","","","","","","","","","",null,null,null,169,1,{"$f":"'Annual Summary'!G$7","v":2023},null,"2023-06-18"]
["2023-06-19","June","","","","","","","","","","",null,null,null,170,1,{"$f":"'Annual Summary'!G$7","v":2023},null,"2023-06-19"]
["2023-06-20","June","","","","","","","","","","",null,null,null,171,1,{"$f":"'Annual Summary'!G$7","v":2023},null,"2023-06-20"]
["2023-06-21","June","","","","","","","","","","",null,null,null,172,1,{"$f":"'Annual Summary'!G$7","v":2023},null,"2023-06-21"]
["2023-06-22","June","","","","","","","","","","",null,null,null,173,1,{"$f":"'Annual Summary'!G$7","v":2023},null,"2023-06-22"]
["2023-06-23","June","","","","","","","","","","",null,null,null,174,1,{"$f":"'Annual Summary'!G$7","v":2023},null,"2023-06-23"]
["2023-06-24","June","","","","","","","","","","",null,null,null,175,1,{"$f":"'Annual Summary'!G$7","v":2023},null,"2023-06-24"]
["2023-06-25","June","","","","","","","","","","",null,null,null,176,1,{"$f":"'Annual Summary'!G$7","v":2023},null,"2023-06-25"]
["2023-06-26","June","","","","","","","","","","",null,null,null,177,1,{"$f":"'Annual Summary'!G$7","v":2023},null,"2023-06-26"]
["2023-06-27","June","","","","","","","","","","",null,null,null,178,1,{"$f":"'Annual Summary'!G$7","v":2023},null,"2023-06-27"]
["2023-06-28","June","","","","","","","","","","",null,null,null,179,1,{"$f":"'Annual Summary'!G$7","v":2023},null,"2023-06-28"]
["2023-06-29","June","","","","","","","","","","",null,null,null,180,1,{"$f":"'Annual Summary'!G$7","v":2023},null,"2023-06-29"]
["2023-06-30","June","","","","","","","","","","",null,null,null,181,1,{"$f":"'Annual Summary'!G$7","v":2023},null,"2023-06-30"]
["2023-07-01","July","","","","","","","","","","",null,null,null,182,1,{"$f":"'Annual Summary'!G$7","v":2023},null,"2023-07-01"]
["2023-07-02","July","","","","","","","","","","",null,null,null,183,1,{"$f":"'Annual Summary'!G$7","v":2023},null,"2023-07-02"]
["2023-07-03","July","","","","","","","","","","",null,null,null,184,1,{"$f":"'Annual Summary'!G$7","v":2023},null,"2023-07-03"]
["2023-07-04","July","","","","","","","","","","",null,null,null,185,1,{"$f":"'Annual Summary'!G$7","v":2023},null,"2023-07-04"]
["2023-07-05","July","","","","","","","","","","",null,null,null,186,1,{"$f":"'Annual Summary'!G$7","v":2023},null,"2023-07-05"]
["2023-07-06","July","","","","","","","","","","",null,null,null,187,1,{"$f":"'Annual Summary'!G$7","v":2023},null,"2023-07-06"]
["2023-07-07","July","","","","","","","","","","",null,null,null,188,1,{"$f":"'Annual Summary'!G$7","v":2023},null,"2023-07-07"]
["2023-07-08","July","","","","","","","","","","",null,null,null,189,1,{"$f":"'Annual Summary'!G$7","v":2023},null,"2023-07-08"]
["2023-07-09","July","","","","","","","","","","",null,null,null,190,1,{"$f":"'Annual Summary'!G$7","v":2023},null,"2023-07-09"]
["2023-07-10","July","","","","","","","","","","",null,null,null,191,1,{"$f":"'Annual Summary'!G$7","v":2023},null,"2023-07-10"]
["2023-07-11","July","","","","","","","","","","",null,null,null,192,1,{"$f":"'Annual Summary'!G$7","v":2023},null,"2023-07-11"]
["2023-07-12","July","","","","","","","","","","",null,null,null,193,1,{"$f":"'Annual Summary'!G$7","v":2023},null,"2023-07-12"]
[{"$f":"T195","v":"2023-07-13"},{"$f":"TEXT($A195,\"mmmm\")","v":"July"},{"$f":"VLOOKUP($A195,INDIRECT($B195 & \"!$B$10:$P$40\"),9,FALSE)","v":""},{"$f":"IF($C195<>\"\",IF(VLOOKUP($A195,INDIRECT($B195 & \"!$B$10:$P$40\"),5,FALSE)<>\"\",VLOOKUP($A195,INDIRECT($B195 & \"!$B$10:$P$40\"),5,FALSE),0),\"\")","v":""},{"$f":"IF(VLOOKUP($A195,INDIRECT($B195 & \"!$B$10:$P$40\"),2,FALSE)<>\"\",VLOOKUP($A195,INDIRECT($B195 & \"!$B$10:$P$40\"),2,FALSE),\"\")","v":""},{"$f":"IF(VLOOKUP($A195,INDIRECT($B195 & \"!$B$10:$P$40\"),3,FALSE)<>\"\",VLOOKUP($A195,INDIRECT($B195 & \"!$B$10:$P$40\"),3,FALSE),\"\")","v":""},{"$f":"IF($C195<>\"\",IF($D195=0,1,0),\"\")","v":""},{"$f":"IF($G195<>\"\",IF($D195>0,1,0),\"\")","v":""},{"$f":"IF($E195<>\"\",IF($E195<=0,1,0),\"\")","v":""},"",{"$f":"IF(VLOOKUP($A195,INDIRECT($B195 & \"!$B$10:$P$40\"),14,FALSE)<>\"\",VLOOKUP($A195,INDIRECT($B195 & \"!$B$10:$P$40\"),14,FALSE),\"\")","v":""},{"$f":"IF(VLOOKUP($A195,INDIRECT($B195 & \"!$B$10:$P$40\"),13,FALSE)<>\"\",VLOOKUP($A195,INDIRECT($B195 & \"!$B$10:$P$40\"),13,FALSE),\"\")","v":""},null,null,null,194,1,{"$f":"'Annual Summary'!G$7","v":2023},null,{"$f":"DATE(R195,Q195,P195)","v":"2023-07-13"}]
["2023-07-14","July","","","","","","","","","","",null,null,null,195,1,{"$f":"'Annual Summary'!G$7","v":2023},null,"2023-07-14"]
["2023-07-15","July","","","","","","","","","","",null,null,null,196,1,{"$f":"'Annual Summary'!G$7","v":2023},null,"2023-07-15"]
["2023-07-16","July","","","","","","","","","","",null,null,null,197,1,{"$f":"'Annual Summary'!G$7","v":2023},null,"2023-07-16"]
["2023-07-17","July","","","","","","","",{"$f":"IFERROR(IF((-11.4041+(0.0894*AVERAGE($L195:$L199))+(0.1932*AVERAGE($E195:$F199)))<>\"\",IF(OR(AVERAGE($E195:$F199)<=10,AVERAGE($E195:$F199)>=35),\"\",(EXP((-11.4041+(0.0894*AVERAGE($L195:$L199))+(0.1932*AVERAGE($E195:$F199)))))/(1+EXP((-11.4041+(0.0894*AVERAGE($L195:$L199))+(0.1932*AVERAGE($E195:$F199)))))),\"\"),\"\")","v":""},"","",null,null,null,198,1,{"$f":"'Annual Summary'!G$7","v":2023},null,"2023-07-17"]
["2023-07-18","July","","","","","","","","","","",null,null,null,199,1,{"$f":"'Annual Summary'!G$7","v":2023},null,"2023-07-18"]
["2023-07-19","July","","","","","","","","","","",null,null,null,200,1,{"$f":"'Annual Summary'!G$7","v":2023},null,"2023-07-19"]
["2023-07-20","July","","","","","","","","","","",null,null,null,201,1,{"$f":"'Annual Summary'!G$7","v":2023},null,"2023-07-20"]
["2023-07-21","July","","","","","","","","","","",null,null,null,202,1,{"$f":"'Annual Summary'!G$7","v":2023},null,"2023-07-21"]
["2023-07-22","July","","","","","","","","","","",null,null,null,203,1,{"$f":"'Annual Summary'!G$7","v":2023},null,"2023-07-22"]
["2023-07-23","July","","","","","","","","","","",null,null,null,204,1,{"$f":"'Annual Summary'!G$7","v":2023},null,"2023-07-23"]
["2023-07-24","July","","","","","","","","","","",null,null,null,205,1,{"$f":"'Annual Summary'!G$7","v":2023},null,"2023-07-24"]
["2023-07-25","July","","","","","","","","","","",null,null,null,206,1,{"$f":"'Annual Summary'!G$7","v":2023},null,"2023-07-25"]
["2023-07-26","July","","","","","","","","","","",null,null,null,207,1,{"$f":"'Annual Summary'!G$7","v":2023},null,"2023-07-26"]
["2023-07-27","July","","","","","","","","","","",null,null,null,208,1,{"$f":"'Annual Summary'!G$7","v":2023},null,"2023-07-27"]
["2023-07-28","July","","","","","","","","","","",null,null,null,209,1,{"$f":"'Annual Summary'!G$7","v":2023},null,"2023-07-28"]
["2023-07-29","July","","","","","","","","","","",null,null,null,210,1,{"$f":"'Annual Summary'!G$7","v":2023},null,"2023-07-29"]
["2023-07-30","July","","","","","","","","","","",null,null,null,211,1,{"$f":"'Annual Summary'!G$7","v":2023},null,"2023-07-30"]
["2023-07-31","July","","","","","","","","","","",null,null,null,212,1,{"$f":"'Annual Summary'!G$7","v":2023},null,"2023-07-31"]
["2023-08-01","August","","","","","","","","","","",null,null,null,213,1,{"$f":"'Annual Summary'!G$7","v":2023},null,"2023-08-01"]
["2023-08-02","August","","","","","","","","","","",null,null,null,214,1,{"$f":"'Annual Summary'!G$7","v":2023},null,"2023-08-02"]
["2023-08-03","August","","","","","","","","","","",null,null,null,215,1,{"$f":"'Annual Summary'!G$7","v":2023},null,"2023-08-03"]
["2023-08-04","August","","","","","","","","","","",null,null,null,216,1,{"$f":"'Annual Summary'!G$7","v":2023},null,"2023-08-04"]
["2023-08-05","August","","","","","","","","","","",null,null,null,217,1,{"$f":"'Annual Summary'!G$7","v":2023},null,"2023-08-05"]
["2023-08-06","August","","","","","","","","","","",null,null,null,218,1,{"$f":"'Annual Summary'!G$7","v":2023},null,"2023-08-06"]
["2023-08-07","August","","","","","","","","","","",null,null,null,219,1,{"$f":"'Annual Summary'!G$7","v":2023},null,"2023-08-07"]
["2023-08-08","August","","","","","","","","","","",null,null,null,220,1,{"$f":"'Annual Summary'!G$7","v":2023},null,"2023-08-08"]
["2023-08-09","August","","","","","","","","","","",null,null,null,221,1,{"$f":"'Annual Summary'!G$7","v":2023},null,"2023-08-09"]
["2023-08-10","August","","","","","","","","","","",null,null,null,222,1,{"$f":"'Annual Summary'!G$7","v":2023},null,"2023-08-10"]
["2023-08-11","August","","","","","","","","","","",null,null,null,223,1,{"$f":"'Annual Summary'!G$7","v":2023},null,"2023-08-11"]
["2023-08-12","August","","","","","","","","","","",null,null,null,224,1,{"$f":"'Annual Summary'!G$7","v":2023},null,"2023-08-12"]
["2023-08-13","August","","","","","","","","","","",null,null,null,225,1,{"$f":"'Annual Summary'!G$7","v":2023},null,"2023-08-13"]
["2023-08-14","August","","","","","","","","","","",null,null,null,226,1,{"$f":"'Annual Summary'!G$7","v":2023},null,"2023-08-14"]
["2023-08-15","August","","","","","","","","","","",null,null,null,227,1,{"$f":"'Annual Summary'!G$7","v":2023},null,"2023-08-15"]
["2023-08-16","August","","","","","","","","","","",null,null,null,228,1,{"$f":"'Annual Summary'!G$7","v":2023},null,"2023-08-16"]
["2023-08-17","August","","","","","","","","","","",null,null,null,229,1,{"$f":"'Annual Summary'!G$7","v":2023},null,"2023-08-17"]
["2023-08-18","August","","","","","","","","","","",null,null,null,230,1,{"$f":"'Annual Summary'!G$7","v":2023},null,"2023-08-18"]
["2023-08-19","August","","","","","","","","","","",null,null,null,231,1,{"$f":"'Annual Summary'!G$7","v":2023},null,"2023-08-19"]
["2023-08-20","August","","","","","","","","","","",null,null,null,232,1,{"$f":"'Annual Summary'!G$7","v":2023},null,"2023-08-20"]
["2023-08-21","August","","","","","","","","","","",null,null,null,233,1,{"$f":"'Annual Summary'!G$7","v":2023},null,"2023-08-21"]
["2023-08-22","August","","","","","","","","","","",null,null,null,234,1,{"$f":"'Annual Summary'!G$7","v":2023},null,"2023-08-22"]
["2023-08-23","August","","","","","","","","","","",null,null,null,235,1,{"$f":"'Annual Summary'!G$7","v":2023},null,"2023-08-23"]
["2023-08-24","August","","","","","","","","","","",null,null,null,236,1,{"$f":"'Annual Summary'!G$7","v":2023},null,"2023-08-24"]
["2023-08-25","August","","","","","","","","","","",null,null,null,237,1,{"$f":"'Annual Summary'!G$7","v":2023},null,"2023-08-25"]
["2023-08-26","August","","","","","","","","","","",null,null,null,238,1,{"$f":"'Annual Summary'!G$7","v":2023},null,"2023-08-26"]
["2023-08-27","August","","","","","","","","","","",null,null,null,239,1,{"$f":"'Annual Summary'!G$7","v":2023},null,"2023-08-27"]
["2023-08-28","August","","","","","","","","","","",null,null,null,240,1,{"$f":"'Annual Summary'!G$7","v":2023},null,"2023-08-28"]
["2023-08-29","August","","","","","","","","","","",null,null,null,241,1,{"$f":"'Annual Summary'!G$7","v":2023},null,"2023-08-29"]
["2023-08-30","August","","","","","","","","","","",null,null,null,242,1,{"$f":"'Annual Summary'!G$7","v":2023},null,"2023-08-30"]
["2023-08-31","August","","","","","","","","","","",null,null,null,243,1,{"$f":"'Annual Summary'!G$7","v":2023},null,"2023-08-31"]
["2023-09-01","September","","","","","","","","","","",null,null,null,244,1,{"$f":"'Annual Summary'!G$7","v":2023},null,"2023-09-01"]
["2023-09-02","September","","","","","","","","","","",null,null,null,245,1,{"$f":"'Annual Summary'!G$7","v":2023},null,"2023-09-02"]
["2023-09-03","September","","","","","","","","","","",null,null,null,246,1,{"$f":"'Annual Summary'!G$7","v":2023},null,"2023-09-03"]
["2023-09-04","September","","","","","","","","","","",null,null,null,247,1,{"$f":"'Annual Summary'!G$7","v":2023},null,"2023-09-04"]
["2023-09-05","September","","","","","","","","","","",null,null,null,248,1,{"$f":"'Annual Summary'!G$7","v":2023},null,"2023-09-05"]
["2023-09-06","September","","","","","","","","","","",null,null,null,249,1,{"$f":"'Annual Summary'!G$7","v":2023},null,"2023-09-06"]
["2023-09-07","September","","","","","","","","","","",null,null,null,250,1,{"$f":"'Annual Summary'!G$7","v":2023},null,"2023-09-07"]
["2023-09-08","September","","","","","","","","","","",null,null,null,251,1,{"$f":"'Annual Summary'!G$7","v":2023},null,"2023-09-08"]
["2023-09-09","September","","","","","","","","","","",null,null,null,252,1,{"$f":"'Annual Summary'!G$7","v":2023},null,"2023-09-09"]
["2023-09-10","September","","","","","","","","","","",null,null,null,253,1,{"$f":"'Annual Summary'!G$7","v":2023},null,"2023-09-10"]
["2023-09-11","September","","","","","","","","","","",null,null,null,254,1,{"$f":"'Annual Summary'!G$7","v":2023},null,"2023-09-11"]
["2023-09-12","September","","","","","","","","","","",null,null,null,255,1,{"$f":"'Annual Summary'!G$7","v":2023},null,"2023-09-12"]
["2023-09-13","September","","","","","","","","","","",null,null,null,256,1,{"$f":"'Annual Summary'!G$7","v":2023},null,"2023-09-13"]
["2023-09-14","September","","","","","","","","","","",null,null,null,257,1,{"$f":"'Annual Summary'!G$7","v":2023},null,"2023-09-14"]
[{"$f":"T259","v":"2023-09-15"},{"$f":"TEXT($A259,\"mmmm\")","v":"September"},{"$f":"VLOOKUP($A259,INDIRECT($B259 & \"!$B$10:$P$40\"),9,FALSE)","v":""},{"$f":"IF($C259<>\"\",IF(VLOOKUP($A259,INDIRECT($B259 & \"!$B$10:$P$40\"),5,FALSE)<>\"\",VLOOKUP($A259,INDIRECT($B259 & \"!$B$10:$P$40\"),5,FALSE),0),\"\")","v":""},{"$f":"IF(VLOOKUP($A259,INDIRECT($B259 & \"!$B$10:$P$40\"),2,FALSE)<>\"\",VLOOKUP($A259,INDIRECT($B259 & \"!$B$10:$P$40\"),2,FALSE),\"\")","v":""},{"$f":"IF(VLOOKUP($A259,INDIRECT($B259 & \"!$B$10:$P$40\"),3,FALSE)<>\"\",VLOOKUP($A259,INDIRECT($B259 & \"!$B$10:$P$40\"),3,FALSE),\"\")","v":""},{"$f":"IF($C259<>\"\",IF($D259=0,1,0),\"\")","v":""},{"$f":"IF($G259<>\"\",IF($D259>0,1,0),\"\")","v":""},{"$f":"IF($E259<>\"\",IF($E259<=0,1,0),\"\")","v":""},"",{"$f":"IF(VLOOKUP($A259,INDIRECT($B259 & \"!$B$10:$P$40\"),14,FALSE)<>\"\",VLOOKUP($A259,INDIRECT($B259 & \"!$B$10:$P$40\"),14,FALSE),\"\")","v":""},{"$f":"IF(VLOOKUP($A259,INDIRECT($B259 & \"!$B$10:$P$40\"),13,FALSE)<>\"\",VLOOKUP($A259,INDIRECT($B259 & \"!$B$10:$P$40\"),13,FALSE),\"\")","v":""},null,null,null,258,1,{"$f":"'Annual Summary'!G$7","v":2023},null,{"$f":"DATE(R259,Q259,P259)","v":"2023-09-15"}]
["2023-09-16","September","","","","","","","","","","",null,null,null,259,1,{"$f":"'Annual Summary'!G$7","v":2023},null,"2023-09-16"]
["2023-09-17","September","","","","","","","","","","",null,null,null,260,1,{"$f":"'Annual Summary'!G$7","v":2023},null,"2023-09-17"]
["2023-09-18","September","","","","","","","","","","",null,null,null,261,1,{"$f":"'Annual Summary'!G$7","v":2023},null,"2023-09-18"]
["2023-09-19","September","","","","","","","",{"$f":"IFERROR(IF((-11.4041+(0.0894*AVERAGE($L259:$L263))+(0.1932*AVERAGE($E259:$F263)))<>\"\",IF(OR(AVERAGE($E259:$F263)<=10,AVERAGE($E259:$F263)>=35),\"\",(EXP((-11.4041+(0.0894*AVERAGE($L259:$L263))+(0.1932*AVERAGE($E259:$F263)))))/(1+EXP((-11.4041+(0.0894*AVERAGE($L259:$L263))+(0.1932*AVERAGE($E259:$F263)))))),\"\"),\"\")","v":""},"","",null,null,null,262,1,{"$f":"'Annual Summary'!G$7","v":2023},null,"2023-09-19"]
["2023-09-20","September","","","","","","","","","","",null,null,null,263,1,{"$f":"'Annual Summary'!G$7","v":2023},null,"2023-09-20"]
["2023-09-21","September","","","","","","","","","","",null,null,null,264,1,{"$f":"'Annual Summary'!G$7","v":2023},null,"2023-09-21"]
["2023-09-22","September","","","","","","","","","","",null,null,null,265,1,{"$f":"'Annual Summary'!G$7","v":2023},null,"2023-09-22"]
["2023-09-23","September","","","","","","","","","","",null,null,null,266,1,{"$f":"'Annual Summary'!G$7","v":2023},null,"2023-09-23"]
["2023-09-24","September","","","","","","","","","","",null,null,null,267,1,{"$f":"'Annual Summary'!G$7","v":2023},null,"2023-09-24"]
["2023-09-25","September","","","","","","","","","","",null,null,null,268,1,{"$f":"'Annual Summary'!G$7","v":2023},null,"2023-09-25"]
["2023-09-26","September","","","","","","","","","","",null,null,null,269,1,{"$f":"'Annual Summary'!G$7","v":2023},null,"2023-09-26"]
["2023-09-27","September","","","","","","","","","","",null,null,null,270,1,{"$f":"'Annual Summary'!G$7","v":2023},null,"2023-09-27"]
["2023-09-28","September","","","","","","","","","","",null,null,null,271,1,{"$f":"'Annual Summary'!G$7","v":2023},null,"2023-09-28"]
["2023-09-29","September","","","","","","","","","","",null,null,null,272,1,{"$f":"'Annual Summary'!G$7","v":2023},null,"2023-09-29"]
["2023-09-30","September","","","","","","","","","","",null,null,null,273,1,{"$f":"'Annual Summary'!G$7","v":2023},null,"2023-09-30"]
["2023-10-01","October","","","","","","","","","","",null,null,null,274,1,{"$f":"'Annual Summary'!G$7","v":2023},null,"2023-10-01"]
["2023-10-02","October","","","","","","","","","","",null,null,null,275,1,{"$f":"'Annual Summary'!G$7","v":2023},null,"2023-10-02"]
["2023-10-03","October","","","","","","","","","","",null,null,null,276,1,{"$f":"'Annual Summary'!G$7","v":2023},null,"2023-10-03"]
["2023-10-04","October","","","","","","","","","","",null,null,null,277,1,{"$f":"'Annual Summary'!G$7","v":2023},null,"2023-10-04"]
["2023-10-05","October","","","","","","","","","","",null,null,null,278,1,{"$f":"'Annual Summary'!G$7","v":2023},null,"2023-10-05"]
["2023-10-06","October","","","","","","","","","","",null,null,null,279,1,{"$f":"'Annual Summary'!G$7","v":2023},null,"2023-10-06"]
["2023-10-07","October","","","","","","","","","","",null,null,null,280,1,{"$f":"'Annual Summary'!G$7","v":2023},null,"2023-10-07"]
["2023-10-08","October","","","","","","","","","","",null,null,null,281,1,{"$f":"'Annual Summary'!G$7","v":2023},null,"2023-10-08"]
["2023-10-09","October","","","","","","","","","","",null,null,null,282,1,{"$f":"'Annual Summary'!G$7","v":2023},null,"2023-10-09"]
["2023-10-10","October","","","","","","","","","","",null,null,null,283,1,{"$f":"'Annual Summary'!G$7","v":2023},null,"2023-10-10"]
["2023-10-11","October","","","","","","","","","","",null,null,null,284,1,{"$f":"'Annual Summary'!G$7","v":2023},null,"2023-10-11"]
["2023-10-12","October","","","","","","","","","","",null,null,null,285,1,{"$f":"'Annual Summary'!G$7","v":2023},null,"2023-10-12"]
["2023-10-13","October","","","","","","","","","","",null,null,null,286,1,{"$f":"'Annual Summary'!G$7","v":2023},null,"2023-10-13"]
["2023-10-14","October","","","","","","","","","","",null,null,null,287,1,{"$f":"'Annual Summary'!G$7","v":2023},null,"2023-10-14"]
["2023-10-15","October","","","","","","","","","","",null,null,null,288,1,{"$f":"'Annual Summary'!G$7","v":2023},null,"2023-10-15"]
["2023-10-16","October","","","","","","","","","","",null,null,null,289,1,{"$f":"'Annual Summary'!G$7","v":2023},null,"2023-10-16"]
["2023-10-17","October","","","","","","","","","","",null,null,null,290,1,{"$f":"'Annual Summary'!G$7","v":2023},null,"2023-10-17"]
["2023-10-18","October","","","","","","","","","","",null,null,null,291,1,{"$f":"'Annual Summary'!G$7","v":2023},null,"2023-10-18"]
["2023-10-19","October","","","","","","","","","","",null,null,null,292,1,{"$f":"'Annual Summary'!G$7","v":2023},null,"2023-10-19"]
["2023-10-20","October","","","","","","","","","","",null,null,null,293,1,{"$f":"'Annual Summary'!G$7","v":2023},null,"2023-10-20"]
["2023-10-21","October","","","","","","","","","","",null,null,null,294,1,{"$f":"'Annual Summary'!G$7","v":2023},null,"2023-10-21"]
["2023-10-22","October","","","","","","","","","","",null,null,null,295,1,{"$f":"'Annual Summary'!G$7","v":2023},null,"2023-10-22"]
["2023-10-23","October","","","","","","","","","","",null,null,null,296,1,{"$f":"'Annual Summary'!G$7","v":2023},null,"2023-10-23"]
["2023-10-24","October","","","","","","","","","","",null,null,null,297,1,{"$f":"'Annual Summary'!G$7","v":2023},null,"2023-10-24"]
["2023-10-25","October","","","","","","","","","","",null,null,null,298,1,{"$f":"'Annual Summary'!G$7","v":2023},null,"2023-10-25"]
["2023-10-26","October","","","","","","","","","","",null,null,null,299,1,{"$f":"'Annual Summary'!G$7","v":2023},null,"2023-10-26"]
["2023-10-27","October","","","","","","","","","","",null,null,null,300,1,{"$f":"'Annual Summary'!G$7","v":2023},null,"2023-10-27"]
["2023-10-28","October","","","","","","","","","","",null,null,null,301,1,{"$f":"'Annual Summary'!G$7","v":2023},null,"2023-10-28"]
["2023-10-29","October","","","","","","","","","","",null,null,null,302,1,{"$f":"'Annual Summary'!G$7","v":2023},null,"2023-10-29"]
["2023-10-30","October","","","","","","","","","","",null,null,null,303,1,{"$f":"'Annual Summary'!G$7","v":2023},null,"2023-10-30"]
["2023-10-31","October","","","","","","","","","","",null,null,null,304,1,{"$f":"'Annual Summary'!G$7","v":2023},null,"2023-10-31"]
["2023-11-01","November","","","","","","","","","","",null,null,null,305,1,{"$f":"'Annual Summary'!G$7","v":2023},null,"2023-11-01"]
["2023-11-02","November","","","","","","","","","","",null,null,null,306,1,{"$f":"'Annual Summary'!G$7","v":2023},null,"2023-11-02"]
["2023-11-03","November","","","","","","","","","","",null,null,null,307,1,{"$f":"'Annual Summary'!G$7","v":2023},null,"2023-11-03"]
["2023-11-04","November","","","","","","","","","","",null,null,null,308,1,{"$f":"'Annual Summary'!G$7","v":2023},null,"2023-11-04"]
["2023-11-05","November","","","","","","","","","","",null,null,null,309,1,{"$f":"'Annual Summary'!G$7","v":2023},null,"2023-11-05"]
["2023-11-06","November","","","","","","","","","","",null,null,null,310,1,{"$f":"'Annual Summary'!G$7","v":2023},null,"2023-11-06"]
["2023-11-07","November","","","","","","","","","","",null,null,null,311,1,{"$f":"'Annual Summary'!G$7","v":2023},null,"2023-11-07"]
["2023-11-08","November","","","","","","","","","","",null,null,null,312,1,{"$f":"'Annual Summary'!G$7","v":2023},null,"2023-11-08"]
["2023-11-09","November","","","","","","","","","","",null,null,null,313,1,{"$f":"'Annual Summary'!G$7","v":2023},null,"2023-11-09"]
["2023-11-10","November","","","","","","","","","","",null,null,null,314,1,{"$f":"'Annual Summary'!G$7","v":2023},null,"2023-11-10"]
["2023-11-11","November","","","","","","","","","","",null,null,null,315,1,{"$f":"'Annual Summary'!G$7","v":2023},null,"2023-11-11"]
["2023-11-12","November","","","","","","","","","","",null,null,null,316,1,{"$f":"'Annual Summary'!G$7","v":2023},null,"2023-11-12"]
["2023-11-13","November","","","","","","","","","","",null,null,null,317,1,{"$f":"'Annual Summary'!G$7","v":2023},null,"2023-11-13"]
["2023-11-14","November","","","","","","","","","","",null,null,null,318,1,{"$f":"'Annual Summary'!G$7","v":2023},null,"2023-11-14"]
["2023-11-15","November","","","","","","","","","","",null,null,null,319,1,{"$f":"'Annual Summary'!G$7","v":2023},null,"2023-11-15"]
["2023-11-16","November","","","","","","","","","","",null,null,null,320,1,{"$f":"'Annual Summary'!G$7","v":2023},null,"2023-11-16"]
["2023-11-17","November","","","","","","","","","","",null,null,null,321,1,{"$f":"'Annual Summary'!G$7","v":2023},null,"2023-11-17"]
[{"$f":"T323","v":"2023-11-18"},{"$f":"TEXT($A323,\"mmmm\")","v":"November"},{"$f":"VLOOKUP($A323,INDIRECT($B323 & \"!$B$10:$P$40\"),9,FALSE)","v":""},{"$f":"IF($C323<>\"\",IF(VLOOKUP($A323,INDIRECT($B323 & \"!$B$10:$P$40\"),5,FALSE)<>\"\",VLOOKUP($A323,INDIRECT($B323 & \"!$B$10:$P$40\"),5,FALSE),0),\"\")","v":""},{"$f":"IF(VLOOKUP($A323,INDIRECT($B323 & \"!$B$10:$P$40\"),2,FALSE)<>\"\",VLOOKUP($A323,INDIRECT($B323 & \"!$B$10:$P$40\"),2,FALSE),\"\")","v":""},{"$f":"IF(VLOOKUP($A323,INDIRECT($B323 & \"!$B$10:$P$40\"),3,FALSE)<>\"\",VLOOKUP($A323,INDIRECT($B323 & \"!$B$10:$P$40\"),3,FALSE),\"\")","v":""},{"$f":"IF($C323<>\"\",IF($D323=0,1,0),\"\")","v":""},{"$f":"IF($G323<>\"\",IF($D323>0,1,0),\"\")","v":""},{"$f":"IF($E323<>\"\",IF($E323<=0,1,0),\"\")","v":""},"",{"$f":"IF(VLOOKUP($A323,INDIRECT($B323 & \"!$B$10:$P$40\"),14,FALSE)<>\"\",VLOOKUP($A323,INDIRECT($B323 & \"!$B$10:$P$40\"),14,FALSE),\"\")","v":""},{"$f":"IF(VLOOKUP($A323,INDIRECT($B323 & \"!$B$10:$P$40\"),13,FALSE)<>\"\",VLOOKUP($A323,INDIRECT($B323 & \"!$B$10:$P$40\"),13,FALSE),\"\")","v":""},null,null,null,322,1,{"$f":"'Annual Summary'!G$7","v":2023},null,{"$f":"DATE(R323,Q323,P323)","v":"2023-11-18"}]
["2023-11-19","November","","","","","","","","","","",null,null,null,323,1,{"$f":"'Annual Summary'!G$7","v":2023},null,"2023-11-19"]
["2023-11-20","November","","","","","","","","","","",null,null,null,324,1,{"$f":"'Annual Summary'!G$7","v":2023},null,"2023-11-20"]
["2023-11-21","November","","","","","","","","","","",null,null,null,325,1,{"$f":"'Annual Summary'!G$7","v":2023},null,"2023-11-21"]
["2023-11-22","November","","","","","","","",{"$f":"IFERROR(IF((-11.4041+(0.0894*AVERAGE($L323:$L327))+(0.1932*AVERAGE($E323:$F327)))<>\"\",IF(OR(AVERAGE($E323:$F327)<=10,AVERAGE($E323:$F327)>=35),\"\",(EXP((-11.4041+(0.0894*AVERAGE($L323:$L327))+(0.1932*AVERAGE($E323:$F327)))))/(1+EXP((-11.4041+(0.0894*AVERAGE($L323:$L327))+(0.1932*AVERAGE($E323:$F327)))))),\"\"),\"\")","v":""},"","",null,null,null,326,1,{"$f":"'Annual Summary'!G$7","v":2023},null,"2023-11-22"]
["2023-11-23","November","","","","","","","","","","",null,null,null,327,1,{"$f":"'Annual Summary'!G$7","v":2023},null,"2023-11-23"]
["2023-11-24","November","","","","","","","","","","",null,null,null,328,1,{"$f":"'Annual Summary'!G$7","v":2023},null,"2023-11-24"]
["2023-11-25","November","","","","","","","","","","",null,null,null,329,1,{"$f":"'Annual Summary'!G$7","v":2023},null,"2023-11-25"]
["2023-11-26","November","","","","","","","","","","",null,null,null,330,1,{"$f":"'Annual Summary'!G$7","v":2023},null,"2023-11-26"]
["2023-11-27","November","","","","","","","","","","",null,null,null,331,1,{"$f":"'Annual Summary'!G$7","v":2023},null,"2023-11-27"]
["2023-11-28","November","","","","","","","","","","",null,null,null,332,1,{"$f":"'Annual Summary'!G$7","v":2023},null,"2023-11-28"]
["2023-11-29","November","","","","","","","","","","",null,null,null,333,1,{"$f":"'Annual Summary'!G$7","v":2023},null,"2023-11-29"]
["2023-11-30","November","","","","","","","","","","",null,null,null,334,1,{"$f":"'Annual Summary'!G$7","v":2023},null,"2023-11-30"]
["2023-12-01","December","","","","","","","","","","",null,null,null,335,1,{"$f":"'Annual Summary'!G$7","v":2023},null,"2023-12-01"]
["2023-12-02","December","","","","","","","","","","",null,null,null,336,1,{"$f":"'Annual Summary'!G$7","v":2023},null,"2023-12-02"]
["2023-12-03","December","","","","","","","","","","",null,null,null,337,1,{"$f":"'Annual Summary'!G$7","v":2023},null,"2023-12-03"]
["2023-12-04","December","","","","","","","","","","",null,null,null,338,1,{"$f":"'Annual Summary'!G$7","v":2023},null,"2023-12-04"]
["2023-12-05","December","","","","","","","","","","",null,null,null,339,1,{"$f":"'Annual Summary'!G$7","v":2023},null,"2023-12-05"]
["2023-12-06","December","","","","","","","","","","",null,null,null,340,1,{"$f":"'Annual Summary'!G$7","v":2023},null,"2023-12-06"]
["2023-12-07","December","","","","","","","","","","",null,null,null,341,1,{"$f":"'Annual Summary'!G$7","v":2023},null,"2023-12-07"]
["2023-12-08","December","","","","","","","","","","",null,null,null,342,1,{"$f":"'Annual Summary'!G$7","v":2023},null,"2023-12-08"]
["2023-12-09","December","","","","","","","","","","",null,null,null,343,1,{"$f":"'Annual Summary'!G$7","v":2023},null,"2023-12-09"]
["2023-12-10","December","","","","","","","","","","",null,null,null,344,1,{"$f":"'Annual Summary'!G$7","v":2023},null,"2023-12-10"]
["2023-12-11","December","","","","","","","","","","",null,null,null,345,1,{"$f":"'Annual Summary'!G$7","v":2023},null,"2023-12-11"]
["2023-12-12","December","","","","","","","","","","",null,null,null,346,1,{"$f":"'Annual Summary'!G$7","v":2023},null,"2023-12-12"]
["2023-12-13","December","","","","","","","","","","",null,null,null,347,1,{"$f":"'Annual Summary'!G$7","v":2023},null,"2023-12-13"]
["2023-12-14","December","","","","","","","","","","",null,null,null,348,1,{"$f":"'Annual Summary'!G$7","v":2023},null,"2023-12-14"]
["2023-12-15","December","","","","","","","","","","",null,null,null,349,1,{"$f":"'Annual Summary'!G$7","v":2023},null,"2023-12-15"]
["2023-12-16","December","","","","","","","","","","",null,null,null,350,1,{"$f":"'Annual Summary'!G$7","v":2023},null,"2023-12-16"]
["2023-12-17","December","","","","","","","","","","",null,null,null,351,1,{"$f":"'Annual Summary'!G$7","v":2023},null,"2023-12-17"]
["2023-12-18","December","","","","","","","","","","",null,null,null,352,1,{"$f":"'Annual Summary'!G$7","v":2023},null,"2023-12-18"]
["2023-12-19","December","","","","","","","","","","",null,null,null,353,1,{"$f":"'Annual Summary'!G$7","v":2023},null,"2023-12-19"]
["2023-12-20","December","","","","","","","","","","",null,null,null,354,1,{"$f":"'Annual Summary'!G$7","v":2023},null,"2023-12-20"]
["2023-12-21","December","","","","","","","","","","",null,null,null,355,1,{"$f":"'Annual Summary'!G$7","v":2023},null,"2023-12-21"]
["2023-12-22","December","","","","","","","","","","",null,null,null,356,1,{"$f":"'Annual Summary'!G$7","v":2023},null,"2023-12-22"]
["2023-12-23","December","","","","","","","","","","",null,null,null,357,1,{"$f":"'Annual Summary'!G$7","v":2023},null,"2023-12-23"]
["2023-12-24","December","","","","","","","","","","",null,null,null,358,1,{"$f":"'Annual Summary'!G$7","v":2023},null,"2023-12-24"]
["2023-12-25","December","","","","","","","","","","",null,null,null,359,1,{"$f":"'Annual Summary'!G$7","v":2023},null,"2023-12-25"]
["2023-12-26","December","","","","","","","","","","",null,null,null,360,1,{"$f":"'Annual Summary'!G$7","v":2023},null,"2023-12-26"]
["2023-12-27","December","","","","","","","","","","",null,null,null,361,1,{"$f":"'Annual Summary'!G$7","v":2023},null,"2023-12-27"]
["2023-12-28","December","","","","","","","","","","",null,null,null,362,1,{"$f":"'Annual Summary'!G$7","v":2023},null,"2023-12-28"]
["2023-12-29","December","","","","","","","","","","",null,null,null,363,1,{"$f":"'Annual Summary'!G$7","v":2023},null,"2023-12-29"]
["2023-12-30","December","","","","","","","","","","",null,null,null,364,1,{"$f":"'Annual Summary'!G$7","v":2023},null,"2023-12-30"]
["2023-12-31","December","","","","","","","","","","",null,null,null,365,1,{"$f":"'Annual Summary'!G$7","v":2023},null,"2023-12-31"]

{"sheet":"Annual Summary","index":1,"n_rows":24,"n_cols":17,"rows_kept":24,"cut":false,"hidden":false,"merged":[[6,3,6,5],[7,3,7,4],[7,6,7,10]]}
[]
[]
[]
[]
[]
[]
[null,null,null,"ANNUAL SUMMARY - ",null,null,2023]
[null,null,null,"Facility - "]
[]
[]
[null,"Date","Min Air Temp (C)","Max Air Temp (C)","Average Air Temp (C)","Monthly Rainfall Total (mm)","Monthly E.T Total (mm)","Cumulative Rainfall","Cumulative E.T","Monthly GDD Total ","Cumulative Monthly GDD","Monthly G.P Total ","Cumulative Monthly GP","Monthly Clipping Yield Total ","Total Dry Days","Total Wet Days","Total Frost Days"]
[null,{"$f":"DATE($G$7, ROW()-11, 1)","v":"2023-01-01"},{"$f":"INDIRECT(TEXT($B12,\"mmmm\")&\"!$C$42\")","v":""},{"$f":"INDIRECT(TEXT($B12,\"mmmm\")&\"!$D$42\")","v":""},{"$f":"INDIRECT(TEXT($B12,\"mmmm\")&\"!$E$42\")","v":""},{"$f":"INDIRECT(TEXT(DATE('Annual Summary'!$G$7,MONTH($B12),1),\"mmmm\") &\"!$F$42\")","v":""},{"$f":"INDIRECT(TEXT(DATE('Annual Summary'!$G$7,MONTH($B12),1),\"mmmm\") &\"!$O$42\")","v":""},{"$f":"$F$12","v":""},{"$f":"$G$12","v":""},{"$f":"INDIRECT(TEXT(DATE('Annual Summary'!$G$7,MONTH($B12),1),\"mmmm\") &\"!$H$42\")","v":""},{"$f":"$J$12","v":""},{"$f":"INDIRECT(TEXT(DATE('Annual Summary'!$G$7,MONTH($B12),1),\"mmmm\") &\"!$K$42\")","v":""},{"$f":"$L$12","v":""},{"$f":"INDIRECT(TEXT(DATE('Annual Summary'!$G$7,MONTH($B12),1),\"mmmm\") &\"!$M$42\")","v":""},{"$f":"SUMIF(Data!$B:$B,TEXT($B12,\"mmmm\"),Data!$G:$G)","v":0},{"$f":"SUMIF(Data!$B:$B,TEXT($B12,\"mmmm\"),Data!$H:$H)","v":0},{"$f":"SUMIF(Data!$B:$B,TEXT($B12,\"mmmm\"),Data!$I:$I)","v":0}]
[null,{"$f":"DATE($G$7, ROW()-11, 1)","v":"2023-02-01"},{"$f":"INDIRECT(TEXT($B13,\"mmmm\")&\"!$C$42\")","v":""},{"$f":"INDIRECT(TEXT($B13,\"mmmm\")&\"!$D$42\")","v":""},{"$f":"INDIRECT(TEXT($B13,\"mmmm\")&\"!$E$42\")","v":""},{"$f":"INDIRECT(TEXT(DATE('Annual Summary'!$G$7,MONTH($B13),1),\"mmmm\") &\"!$F$42\")","v":""},{"$f":"INDIRECT(TEXT(DATE('Annual Summary'!$G$7,MONTH($B13),1),\"mmmm\") &\"!$O$42\")","v":""},{"$f":"IFERROR($H12+$F13,\"\")","v":""},{"$f":"IFERROR($I12+$G13,\"\")","v":""},{"$f":"INDIRECT(TEXT(DATE('Annual Summary'!$G$7,MONTH($B13),1),\"mmmm\") &\"!$H$42\")","v":""},{"$f":"IFERROR($K12+$J13,\"\")","v":""},{"$f":"INDIRECT(TEXT(DATE('Annual Summary'!$G$7,MONTH($B13),1),\"mmmm\") &\"!$K$42\")","v":""},{"$f":"IFERROR($M12+$L13,\"\")","v":""},{"$f":"INDIRECT(TEXT(DATE('Annual Summary'!$G$7,MONTH($B13),1),\"mmmm\") &\"!$M$42\")","v":""},{"$f":"SUMIF(Data!$B:$B,TEXT($B13,\"mmmm\"),Data!$G:$G)","v":0},{"$f":"SUMIF(Data!$B:$B,TEXT($B13,\"mmmm\"),Data!$H:$H)","v":0},{"$f":"SUMIF(Data!$B:$B,TEXT($B13,\"mmmm\"),Data!$I:$I)","v":0}]
[null,"2023-03-01",{"$f":"INDIRECT(TEXT($B14,\"mmmm\")&\"!$C$42\")","v":""},{"$f":"INDIRECT(TEXT($B14,\"mmmm\")&\"!$D$42\")","v":""},{"$f":"INDIRECT(TEXT($B14,\"mmmm\")&\"!$E$42\")","v":""},{"$f":"INDIRECT(TEXT(DATE('Annual Summary'!$G$7,MONTH($B14),1),\"mmmm\") &\"!$F$42\")","v":""},{"$f":"INDIRECT(TEXT(DATE('Annual Summary'!$G$7,MONTH($B14),1),\"mmmm\") &\"!$O$42\")","v":""},{"$f":"IFERROR($H13+$F14,\"\")","v":""},{"$f":"IFERROR($I13+$G14,\"\")","v":""},{"$f":"INDIRECT(TEXT(DATE('Annual Summary'!$G$7,MONTH($B14),1),\"mmmm\") &\"!$H$42\")","v":""},{"$f":"IFERROR($K13+$J14,\"\")","v":""},{"$f":"INDIRECT(TEXT(DATE('Annual Summary'!$G$7,MONTH($B14),1),\"mmmm\") &\"!$K$42\")","v":""},{"$f":"IFERROR($M13+$L14,\"\")","v":""},{"$f":"INDIRECT(TEXT(DATE('Annual Summary'!$G$7,MONTH($B14),1),\"mmmm\") &\"!$M$42\")","v":""},{"$f":"SUMIF(Data!$B:$B,TEXT($B14,\"mmmm\"),Data!$G:$G)","v":0},{"$f":"SUMIF(Data!$B:$B,TEXT($B14,\"mmmm\"),Data!$H:$H)","v":0},{"$f":"SUMIF(Data!$B:$B,TEXT($B14,\"mmmm\"),Data!$I:$I)","v":0}]
[null,"2023-04-01",{"$f":"INDIRECT(TEXT($B15,\"mmmm\")&\"!$C$42\")","v":""},{"$f":"INDIRECT(TEXT($B15,\"mmmm\")&\"!$D$42\")","v":""},{"$f":"INDIRECT(TEXT($B15,\"mmmm\")&\"!$E$42\")","v":""},{"$f":"INDIRECT(TEXT(DATE('Annual Summary'!$G$7,MONTH($B15),1),\"mmmm\") &\"!$F$42\")","v":""},{"$f":"INDIRECT(TEXT(DATE('Annual Summary'!$G$7,MONTH($B15),1),\"mmmm\") &\"!$O$42\")","v":""},"","",{"$f":"INDIRECT(TEXT(DATE('Annual Summary'!$G$7,MONTH($B15),1),\"mmmm\") &\"!$H$42\")","v":""},"",{"$f":"INDIRECT(TEXT(DATE('Annual Summary'!$G$7,MONTH($B15),1),\"mmmm\") &\"!$K$42\")","v":""},"",{"$f":"INDIRECT(TEXT(DATE('Annual Summary'!$G$7,MONTH($B15),1),\"mmmm\") &\"!$M$42\")","v":""},{"$f":"SUMIF(Data!$B:$B,TEXT($B15,\"mmmm\"),Data!$G:$G)","v":0},{"$f":"SUMIF(Data!$B:$B,TEXT($B15,\"mmmm\"),Data!$H:$H)","v":0},{"$f":"SUMIF(Data!$B:$B,TEXT($B15,\"mmmm\"),Data!$I:$I)","v":0}]
[null,"2023-05-01",{"$f":"INDIRECT(TEXT($B16,\"mmmm\")&\"!$C$42\")","v":""},{"$f":"INDIRECT(TEXT($B16,\"mmmm\")&\"!$D$42\")","v":""},{"$f":"INDIRECT(TEXT($B16,\"mmmm\")&\"!$E$42\")","v":""},{"$f":"INDIRECT(TEXT(DATE('Annual Summary'!$G$7,MONTH($B16),1),\"mmmm\") &\"!$F$42\")","v":""},{"$f":"INDIRECT(TEXT(DATE('Annual Summary'!$G$7,MONTH($B16),1),\"mmmm\") &\"!$O$42\")","v":""},"","",{"$f":"INDIRECT(TEXT(DATE('Annual Summary'!$G$7,MONTH($B16),1),\"mmmm\") &\"!$H$42\")","v":""},"",{"$f":"INDIRECT(TEXT(DATE('Annual Summary'!$G$7,MONTH($B16),1),\"mmmm\") &\"!$K$42\")","v":""},"",{"$f":"INDIRECT(TEXT(DATE('Annual Summary'!$G$7,MONTH($B16),1),\"mmmm\") &\"!$M$42\")","v":""},{"$f":"SUMIF(Data!$B:$B,TEXT($B16,\"mmmm\"),Data!$G:$G)","v":0},{"$f":"SUMIF(Data!$B:$B,TEXT($B16,\"mmmm\"),Data!$H:$H)","v":0},{"$f":"SUMIF(Data!$B:$B,TEXT($B16,\"mmmm\"),Data!$I:$I)","v":0}]
[null,"2023-06-01",{"$f":"INDIRECT(TEXT($B17,\"mmmm\")&\"!$C$42\")","v":""},{"$f":"INDIRECT(TEXT($B17,\"mmmm\")&\"!$D$42\")","v":""},{"$f":"INDIRECT(TEXT($B17,\"mmmm\")&\"!$E$42\")","v":""},{"$f":"INDIRECT(TEXT(DATE('Annual Summary'!$G$7,MONTH($B17),1),\"mmmm\") &\"!$F$42\")","v":""},{"$f":"INDIRECT(TEXT(DATE('Annual Summary'!$G$7,MONTH($B17),1),\"mmmm\") &\"!$O$42\")","v":""},"","",{"$f":"INDIRECT(TEXT(DATE('Annual Summary'!$G$7,MONTH($B17),1),\"mmmm\") &\"!$H$42\")","v":""},"",{"$f":"INDIRECT(TEXT(DATE('Annual Summary'!$G$7,MONTH($B17),1),\"mmmm\") &\"!$K$42\")","v":""},"",{"$f":"INDIRECT(TEXT(DATE('Annual Summary'!$G$7,MONTH($B17),1),\"mmmm\") &\"!$M$42\")","v":""},{"$f":"SUMIF(Data!$B:$B,TEXT($B17,\"mmmm\"),Data!$G:$G)","v":0},{"$f":"SUMIF(Data!$B:$B,TEXT($B17,\"mmmm\"),Data!$H:$H)","v":0},{"$f":"SUMIF(Data!$B:$B,TEXT($B17,\"mmmm\"),Data!$I:$I)","v":0}]
[null,"2023-07-01",{"$f":"INDIRECT(TEXT($B18,\"mmmm\")&\"!$C$42\")","v":""},{"$f":"INDIRECT(TEXT($B18,\"mmmm\")&\"!$D$42\")","v":""},{"$f":"INDIRECT(TEXT($B18,\"mmmm\")&\"!$E$42\")","v":""},{"$f":"INDIRECT(TEXT(DATE('Annual Summary'!$G$7,MONTH($B18),1),\"mmmm\") &\"!$F$42\")","v":""},{"$f":"INDIRECT(TEXT(DATE('Annual Summary'!$G$7,MONTH($B18),1),\"mmmm\") &\"!$O$42\")","v":""},"","",{"$f":"INDIRECT(TEXT(DATE('Annual Summary'!$G$7,MONTH($B18),1),\"mmmm\") &\"!$H$42\")","v":""},"",{"$f":"INDIRECT(TEXT(DATE('Annual Summary'!$G$7,MONTH($B18),1),\"mmmm\") &\"!$K$42\")","v":""},"",{"$f":"INDIRECT(TEXT(DATE('Annual Summary'!$G$7,MONTH($B18),1),\"mmmm\") &\"!$M$42\")","v":""},{"$f":"SUMIF(Data!$B:$B,TEXT($B18,\"mmmm\"),Data!$G:$G)","v":0},{"$f":"SUMIF(Data!$B:$B,TEXT($B18,\"mmmm\"),Data!$H:$H)","v":0},{"$f":"SUMIF(Data!$B:$B,TEXT($B18,\"mmmm\"),Data!$I:$I)","v":0}]
[null,"2023-08-01",{"$f":"INDIRECT(TEXT($B19,\"mmmm\")&\"!$C$42\")","v":""},{"$f":"INDIRECT(TEXT($B19,\"mmmm\")&\"!$D$42\")","v":""},{"$f":"INDIRECT(TEXT($B19,\"mmmm\")&\"!$E$42\")","v":""},{"$f":"INDIRECT(TEXT(DATE('Annual Summary'!$G$7,MONTH($B19),1),\"mmmm\") &\"!$F$42\")","v":""},{"$f":"INDIRECT(TEXT(DATE('Annual Summary'!$G$7,MONTH($B19),1),\"mmmm\") &\"!$O$42\")","v":""},"","",{"$f":"INDIRECT(TEXT(DATE('Annual Summary'!$G$7,MONTH($B19),1),\"mmmm\") &\"!$H$42\")","v":""},"",{"$f":"INDIRECT(TEXT(DATE('Annual Summary'!$G$7,MONTH($B19),1),\"mmmm\") &\"!$K$42\")","v":""},"",{"$f":"INDIRECT(TEXT(DATE('Annual Summary'!$G$7,MONTH($B19),1),\"mmmm\") &\"!$M$42\")","v":""},{"$f":"SUMIF(Data!$B:$B,TEXT($B19,\"mmmm\"),Data!$G:$G)","v":0},{"$f":"SUMIF(Data!$B:$B,TEXT($B19,\"mmmm\"),Data!$H:$H)","v":0},{"$f":"SUMIF(Data!$B:$B,TEXT($B19,\"mmmm\"),Data!$I:$I)","v":0}]
[null,"2023-09-01",{"$f":"INDIRECT(TEXT($B20,\"mmmm\")&\"!$C$42\")","v":""},{"$f":"INDIRECT(TEXT($B20,\"mmmm\")&\"!$D$42\")","v":""},{"$f":"INDIRECT(TEXT($B20,\"mmmm\")&\"!$E$42\")","v":""},{"$f":"INDIRECT(TEXT(DATE('Annual Summary'!$G$7,MONTH($B20),1),\"mmmm\") &\"!$F$42\")","v":""},{"$f":"INDIRECT(TEXT(DATE('Annual Summary'!$G$7,MONTH($B20),1),\"mmmm\") &\"!$O$42\")","v":""},"","",{"$f":"INDIRECT(TEXT(DATE('Annual Summary'!$G$7,MONTH($B20),1),\"mmmm\") &\"!$H$42\")","v":""},"",{"$f":"INDIRECT(TEXT(DATE('Annual Summary'!$G$7,MONTH($B20),1),\"mmmm\") &\"!$K$42\")","v":""},"",{"$f":"INDIRECT(TEXT(DATE('Annual Summary'!$G$7,MONTH($B20),1),\"mmmm\") &\"!$M$42\")","v":""},{"$f":"SUMIF(Data!$B:$B,TEXT($B20,\"mmmm\"),Data!$G:$G)","v":0},{"$f":"SUMIF(Data!$B:$B,TEXT($B20,\"mmmm\"),Data!$H:$H)","v":0},{"$f":"SUMIF(Data!$B:$B,TEXT($B20,\"mmmm\"),Data!$I:$I)","v":0}]
[null,"2023-10-01",{"$f":"INDIRECT(TEXT($B21,\"mmmm\")&\"!$C$42\")","v":""},{"$f":"INDIRECT(TEXT($B21,\"mmmm\")&\"!$D$42\")","v":""},{"$f":"INDIRECT(TEXT($B21,\"mmmm\")&\"!$E$42\")","v":""},{"$f":"INDIRECT(TEXT(DATE('Annual Summary'!$G$7,MONTH($B21),1),\"mmmm\") &\"!$F$42\")","v":""},{"$f":"INDIRECT(TEXT(DATE('Annual Summary'!$G$7,MONTH($B21),1),\"mmmm\") &\"!$O$42\")","v":""},"","",{"$f":"INDIRECT(TEXT(DATE('Annual Summary'!$G$7,MONTH($B21),1),\"mmmm\") &\"!$H$42\")","v":""},"",{"$f":"INDIRECT(TEXT(DATE('Annual Summary'!$G$7,MONTH($B21),1),\"mmmm\") &\"!$K$42\")","v":""},"",{"$f":"INDIRECT(TEXT(DATE('Annual Summary'!$G$7,MONTH($B21),1),\"mmmm\") &\"!$M$42\")","v":""},{"$f":"SUMIF(Data!$B:$B,TEXT($B21,\"mmmm\"),Data!$G:$G)","v":0},{"$f":"SUMIF(Data!$B:$B,TEXT($B21,\"mmmm\"),Data!$H:$H)","v":0},{"$f":"SUMIF(Data!$B:$B,TEXT($B21,\"mmmm\"),Data!$I:$I)","v":0}]
[null,"2023-11-01",{"$f":"INDIRECT(TEXT($B22,\"mmmm\")&\"!$C$42\")","v":""},{"$f":"INDIRECT(TEXT($B22,\"mmmm\")&\"!$D$42\")","v":""},{"$f":"INDIRECT(TEXT($B22,\"mmmm\")&\"!$E$42\")","v":""},{"$f":"INDIRECT(TEXT(DATE('Annual Summary'!$G$7,MONTH($B22),1),\"mmmm\") &\"!$F$42\")","v":""},{"$f":"INDIRECT(TEXT(DATE('Annual Summary'!$G$7,MONTH($B22),1),\"mmmm\") &\"!$O$42\")","v":""},"","",{"$f":"INDIRECT(TEXT(DATE('Annual Summary'!$G$7,MONTH($B22),1),\"mmmm\") &\"!$H$42\")","v":""},"",{"$f":"INDIRECT(TEXT(DATE('Annual Summary'!$G$7,MONTH($B22),1),\"mmmm\") &\"!$K$42\")","v":""},"",{"$f":"INDIRECT(TEXT(DATE('Annual Summary'!$G$7,MONTH($B22),1),\"mmmm\") &\"!$M$42\")","v":""},{"$f":"SUMIF(Data!$B:$B,TEXT($B22,\"mmmm\"),Data!$G:$G)","v":0},{"$f":"SUMIF(Data!$B:$B,TEXT($B22,\"mmmm\"),Data!$H:$H)","v":0},{"$f":"SUMIF(Data!$B:$B,TEXT($B22,\"mmmm\"),Data!$I:$I)","v":0}]
[null,"2023-12-01",{"$f":"INDIRECT(TEXT($B23,\"mmmm\")&\"!$C$42\")","v":""},{"$f":"INDIRECT(TEXT($B23,\"mmmm\")&\"!$D$42\")","v":""},{"$f":"INDIRECT(TEXT($B23,\"mmmm\")&\"!$E$42\")","v":""},{"$f":"INDIRECT(TEXT(DATE('Annual Summary'!$G$7,MONTH($B23),1),\"mmmm\") &\"!$F$42\")","v":""},{"$f":"INDIRECT(TEXT(DATE('Annual Summary'!$G$7,MONTH($B23),1),\"mmmm\") &\"!$O$42\")","v":""},"","",{"$f":"INDIRECT(TEXT(DATE('Annual Summary'!$G$7,MONTH($B23),1),\"mmmm\") &\"!$H$42\")","v":""},"",{"$f":"INDIRECT(TEXT(DATE('Annual Summary'!$G$7,MONTH($B23),1),\"mmmm\") &\"!$K$42\")","v":""},"",{"$f":"INDIRECT(TEXT(DATE('Annual Summary'!$G$7,MONTH($B23),1),\"mmmm\") &\"!$M$42\")","v":""},{"$f":"SUMIF(Data!$B:$B,TEXT($B23,\"mmmm\"),Data!$G:$G)","v":0},{"$f":"SUMIF(Data!$B:$B,TEXT($B23,\"mmmm\"),Data!$H:$H)","v":0},{"$f":"SUMIF(Data!$B:$B,TEXT($B23,\"mmmm\"),Data!$I:$I)","v":0}]
[null,null,null,null,null,{"$f":"SUM($F$12:$F$23)","v":0},{"$f":"SUM($G$12:$G$23)","v":0},null,null,{"$f":"SUM($J$12:$J$23)","v":0},null,{"$f":"SUM($L$12:$L$23)","v":0},null,{"$f":"SUM($N$12:$N$23)","v":0}]

{"sheet":"Charts","index":2,"n_rows":0,"n_cols":0,"rows_kept":0,"cut":false,"hidden":false,"merged":[]}

{"sheet":"January","index":3,"n_rows":42,"n_cols":24,"rows_kept":42,"cut":false,"hidden":false,"merged":[[5,5,5,10]]}
[]
[]
[]
[]
[]
[null,null,null,null,null,{"$f":"MID(CELL(\"filename\",A1),FIND(\"]\",CELL(\"filename\",A1))+1,255) & \" \" & 'Annual Summary'!$G$7 & \" Weather Stats\"","v":"January 2023 Weather Stats"}]
[]
[]
[null,"Date","Min Air Temp (C)","Max Air Temp (C)","Average Air Temp (C)","Rainfall (mm)","Growth Degree Days","Cumulative GDD (Month)","Cumulative GDD (Year)","Growth Potential","Cumulative GP (Month)","Cumulative GP (Year)","Clipping Yield","Humidity % ","E.T (mm)","Smith Kerns Model","Microdochium Activity ","Anthracnose Activity ","Dollar Spot Activity","GP for C4 Grass","5-day average temp","5-day average humidity","Logit"]
[null,{"$f":"DATE('Annual Summary'!$G$7,1,ROW()-9)","v":"2023-01-01"},null,null,{"$f":"IFERROR(AVERAGE($C10,$D10),\"\")","v":""},null,{"$f":"IFERROR(IF(($E10-6)>0,$E10-6,0),\"\")","v":""},{"$f":"IF(ISBLANK($G$10),\"\",$G$10)","v":""},{"$f":"IF(ISBLANK($G$10),\"\",$G$10)","v":""},{"$f":"IFERROR(2.71828^(-0.5*(($E10-18)/5.5)^2),\"\")","v":""},{"$f":"IF(ISBLANK($J$10),\"\",$J$10)","v":""},{"$f":"IF(ISBLANK($J$10),\"\",$J$10)","v":""},null,null,null,{"$f":"VLOOKUP($B10,Data!$A:$J,10,FALSE)","v":""},null,null,null,{"$f":"IFERROR(2.71828^(-0.5*(($E10-31)/7.3)^2),\"\")","v":""}]
[null,{"$f":"DATE('Annual Summary'!$G$7,1,ROW()-9)","v":"2023-01-02"},null,null,{"$f":"IFERROR(AVERAGE($C11,$D11),\"\")","v":""},null,{"$f":"IFERROR(IF(($E11-6)>0,$E11-6,0),\"\")","v":""},{"$f":"IFERROR($H10+$G11,\"\")","v":""},{"$f":"IFERROR($H10+$G11,\"\")","v":""},{"$f":"IFERROR(2.71828^(-0.5*(($E11-18)/5.5)^2),\"\")","v":""},{"$f":"IFERROR($K10+$J11,\"\")","v":""},{"$f":"IFERROR($K10+$J11,\"\")","v":""},null,null,null,{"$f":"VLOOKUP($B11,Data!$A:$J,10,FALSE)","v":""},null,null,null,{"$f":"IFERROR(2.71828^(-0.5*(($E11-31)/7.3)^2),\"\")","v":""}]
[null,{"$f":"DATE('Annual Summary'!$G$7,1,ROW()-9)","v":"2023-01-03"},null,null,"",null,"",{"$f":"IFERROR($H11+$G12,\"\")","v":""},{"$f":"IFERROR($H11+$G12,\"\")","v":""},"",{"$f":"IFERROR($K11+$J12,\"\")","v":""},{"$f":"IFERROR($K11+$J12,\"\")","v":""},null,null,null,{"$f":"VLOOKUP($B12,Data!$A:$J,10,FALSE)","v":""},null,null,null,""]
[null,{"$f":"DATE('Annual Summary'!$G$7,1,ROW()-9)","v":"2023-01-04"},null,null,"",null,"","","","","","",null,null,null,{"$f":"VLOOKUP($B13,Data!$A:$J,10,FALSE)","v":""},null,null,null,""]
[null,{"$f":"DATE('Annual Summary'!$G$7,1,ROW()-9)","v":"2023-01-05"},null,null,"",null,"","","","","","",null,null,null,{"$f":"X14","v":{"$error":"#DIV/0!"}},null,null,null,"",{"$f":"AVERAGE(E10:E14)","v":{"$error":"#DIV/0!"}},{"$f":"AVERAGE(N10:N14)","v":{"$error":"#DIV/0!"}},{"$f":"(-11.4041+(0.0894*V14)+(0.1932*U14))","v":{"$error":"#DIV/0!"}},{"$f":"IF(OR(U14<=10,U14>=35),0,(EXP(W14))/(1+EXP(W14)))","v":{"$error":"#DIV/0!"}}]
[null,{"$f":"DATE('Annual Summary'!$G$7,1,ROW()-9)","v":"2023-01-06"},null,null,"",null,"","","","","","",null,null,null,{"$f":"X15","v":{"$error":"#DIV/0!"}},null,null,null,"",{"$f":"AVERAGE(E11:E15)","v":{"$error":"#DIV/0!"}},{"$f":"AVERAGE(N11:N15)","v":{"$error":"#DIV/0!"}},{"$f":"(-11.4041+(0.0894*V15)+(0.1932*U15))","v":{"$error":"#DIV/0!"}},{"$f":"IF(OR(U15<=10,U15>=35),0,(EXP(W15))/(1+EXP(W15)))","v":{"$error":"#DIV/0!"}}]
[null,{"$f":"DATE('Annual Summary'!$G$7,1,ROW()-9)","v":"2023-01-07"},null,null,"",null,"","","","","","",null,null,null,{"$error":"#DIV/0!"},null,null,null,"",{"$error":"#DIV/0!"},{"$error":"#DIV/0!"},{"$error":"#DIV/0!"},{"$error":"#DIV/0!"}]
[null,{"$f":"DATE('Annual Summary'!$G$7,1,ROW()-9)","v":"2023-01-08"},null,null,"",null,"","","","","","",null,null,null,{"$error":"#DIV/0!"},null,null,null,"",{"$error":"#DIV/0!"},{"$error":"#DIV/0!"},{"$error":"#DIV/0!"},{"$error":"#DIV/0!"}]
[null,{"$f":"DATE('Annual Summary'!$G$7,1,ROW()-9)","v":"2023-01-09"},null,null,"",null,"","","","","","",null,null,null,{"$error":"#DIV/0!"},null,null,null,"",{"$error":"#DIV/0!"},{"$error":"#DIV/0!"},{"$error":"#DIV/0!"},{"$error":"#DIV/0!"}]
[null,{"$f":"DATE('Annual Summary'!$G$7,1,ROW()-9)","v":"2023-01-10"},null,null,"",null,"","","","","","",null,null,null,{"$error":"#DIV/0!"},null,null,null,"",{"$error":"#DIV/0!"},{"$error":"#DIV/0!"},{"$error":"#DIV/0!"},{"$f":"IF(OR(U19<=10,U19>=35),0,(EXP(W19))/(1+EXP(W19)))","v":{"$error":"#DIV/0!"}}]
[null,{"$f":"DATE('Annual Summary'!$G$7,1,ROW()-9)","v":"2023-01-11"},null,null,"",null,"","","","","","",null,null,null,{"$error":"#DIV/0!"},null,null,null,"",{"$error":"#DIV/0!"},{"$error":"#DIV/0!"},{"$error":"#DIV/0!"},{"$error":"#DIV/0!"}]
[null,{"$f":"DATE('Annual Summary'!$G$7,1,ROW()-9)","v":"2023-01-12"},null,null,"",null,"","","","","","",null,null,null,{"$error":"#DIV/0!"},null,null,null,"",{"$error":"#DIV/0!"},{"$error":"#DIV/0!"},{"$error":"#DIV/0!"},{"$error":"#DIV/0!"}]
[null,{"$f":"DATE('Annual Summary'!$G$7,1,ROW()-9)","v":"2023-01-13"},null,null,"",null,"","","","","","",null,null,null,{"$error":"#DIV/0!"},null,null,null,"",{"$error":"#DIV/0!"},{"$error":"#DIV/0!"},{"$error":"#DIV/0!"},{"$error":"#DIV/0!"}]
[null,{"$f":"DATE('Annual Summary'!$G$7,1,ROW()-9)","v":"2023-01-14"},null,null,"",null,"","","","","","",null,null,null,{"$error":"#DIV/0!"},null,null,null,"",{"$error":"#DIV/0!"},{"$error":"#DIV/0!"},{"$error":"#DIV/0!"},{"$error":"#DIV/0!"}]
[null,{"$f":"DATE('Annual Summary'!$G$7,1,ROW()-9)","v":"2023-01-15"},null,null,"",null,"","","","","","",null,null,null,{"$error":"#DIV/0!"},null,null,null,"",{"$error":"#DIV/0!"},{"$error":"#DIV/0!"},{"$error":"#DIV/0!"},{"$error":"#DIV/0!"}]
[null,{"$f":"DATE('Annual Summary'!$G$7,1,ROW()-9)","v":"2023-01-16"},null,null,"",null,"","","","","","",null,null,null,{"$error":"#DIV/0!"},null,null,null,"",{"$error":"#DIV/0!"},{"$error":"#DIV/0!"},{"$error":"#DIV/0!"},{"$error":"#DIV/0!"}]
[null,{"$f":"DATE('Annual Summary'!$G$7,1,ROW()-9)","v":"2023-01-17"},null,null,"",null,"","","","","","",null,null,null,{"$error":"#DIV/0!"},null,null,null,"",{"$error":"#DIV/0!"},{"$error":"#DIV/0!"},{"$error":"#DIV/0!"},{"$error":"#DIV/0!"}]
[null,{"$f":"DATE('Annual Summary'!$G$7,1,ROW()-9)","v":"2023-01-18"},null,null,"",null,"","","","","","",null,null,null,{"$error":"#DIV/0!"},null,null,null,"",{"$error":"#DIV/0!"},{"$error":"#DIV/0!"},{"$error":"#DIV/0!"},{"$error":"#DIV/0!"}]
[null,{"$f":"DATE('Annual Summary'!$G$7,1,ROW()-9)","v":"2023-01-19"},null,null,"",null,"","","","","","",null,null,null,{"$error":"#DIV/0!"},null,null,null,"",{"$error":"#DIV/0!"},{"$error":"#DIV/0!"},{"$error":"#DIV/0!"},{"$error":"#DIV/0!"}]
[null,{"$f":"DATE('Annual Summary'!$G$7,1,ROW()-9)","v":"2023-01-20"},null,null,"",null,"","","","","","",null,null,null,{"$error":"#DIV/0!"},null,null,null,"",{"$error":"#DIV/0!"},{"$error":"#DIV/0!"},{"$error":"#DIV/0!"},{"$error":"#DIV/0!"}]
[null,{"$f":"DATE('Annual Summary'!$G$7,1,ROW()-9)","v":"2023-01-21"},null,null,"",null,"","","","","","",null,null,null,{"$error":"#DIV/0!"},null,null,null,"",{"$error":"#DIV/0!"},{"$error":"#DIV/0!"},{"$error":"#DIV/0!"},{"$error":"#DIV/0!"}]
[null,{"$f":"DATE('Annual Summary'!$G$7,1,ROW()-9)","v":"2023-01-22"},null,null,"",null,"","","","","","",null,null,null,{"$error":"#DIV/0!"},null,null,null,"",{"$error":"#DIV/0!"},{"$error":"#DIV/0!"},{"$error":"#DIV/0!"},{"$error":"#DIV/0!"}]
[null,{"$f":"DATE('Annual Summary'!$G$7,1,ROW()-9)","v":"2023-01-23"},null,null,"",null,"","","","","","",null,null,null,{"$error":"#DIV/0!"},null,null,null,"",{"$error":"#DIV/0!"},{"$error":"#DIV/0!"},{"$error":"#DIV/0!"},{"$error":"#DIV/0!"}]
[null,{"$f":"DATE('Annual Summary'!$G$7,1,ROW()-9)","v":"2023-01-24"},null,null,"",null,"","","","","","",null,null,null,{"$error":"#DIV/0!"},null,null,null,"",{"$error":"#DIV/0!"},{"$error":"#DIV/0!"},{"$error":"#DIV/0!"},{"$error":"#DIV/0!"}]
[null,{"$f":"DATE('Annual Summary'!$G$7,1,ROW()-9)","v":"2023-01-25"},null,null,"",null,"","","","","","",null,null,null,{"$error":"#DIV/0!"},null,null,null,"",{"$error":"#DIV/0!"},{"$error":"#DIV/0!"},{"$error":"#DIV/0!"},{"$error":"#DIV/0!"}]
[null,{"$f":"DATE('Annual Summary'!$G$7,1,ROW()-9)","v":"2023-01-26"},null,null,"",null,"","","","","","",null,null,null,{"$error":"#DIV/0!"},null,null,null,"",{"$error":"#DIV/0!"},{"$error":"#DIV/0!"},{"$error":"#DIV/0!"},{"$error":"#DIV/0!"}]
[null,{"$f":"DATE('Annual Summary'!$G$7,1,ROW()-9)","v":"2023-01-27"},null,null,"",null,"","","","","","",null,null,null,{"$error":"#DIV/0!"},null,null,null,"",{"$error":"#DIV/0!"},{"$error":"#DIV/0!"},{"$error":"#DIV/0!"},{"$error":"#DIV/0!"}]
[null,{"$f":"DATE('Annual Summary'!$G$7,1,ROW()-9)","v":"2023-01-28"},null,null,"",null,"","","","","","",null,null,null,{"$error":"#DIV/0!"},null,null,null,"",{"$error":"#DIV/0!"},{"$error":"#DIV/0!"},{"$error":"#DIV/0!"},{"$error":"#DIV/0!"}]
[null,{"$f":"DATE('Annual Summary'!$G$7,1,ROW()-9)","v":"2023-01-29"},null,null,"",null,"","","","","","",null,null,null,{"$error":"#DIV/0!"},null,null,null,"",{"$error":"#DIV/0!"},{"$error":"#DIV/0!"},{"$error":"#DIV/0!"},{"$error":"#DIV/0!"}]
[null,{"$f":"DATE('Annual Summary'!$G$7,1,ROW()-9)","v":"2023-01-30"},null,null,"",null,"","","","","","",null,null,null,{"$error":"#DIV/0!"},null,null,null,"",{"$error":"#DIV/0!"},{"$error":"#DIV/0!"},{"$error":"#DIV/0!"},{"$error":"#DIV/0!"}]
[null,{"$f":"DATE('Annual Summary'!$G$7,1,ROW()-9)","v":"2023-01-31"},null,null,"",null,"","","","","","",null,null,null,{"$error":"#DIV/0!"},null,null,null,"",{"$error":"#DIV/0!"},{"$error":"#DIV/0!"},{"$error":"#DIV/0!"},{"$error":"#DIV/0!"}]
[]
[null,"Monthly Average/Total",{"$f":"IF(ISERROR(AVERAGE($C$10:$C$40)),\"\",AVERAGE($C$10:$C$40))","v":""},{"$f":"IF(ISERROR(AVERAGE($D$10:$D$40)),\"\",AVERAGE($D$10:$D$40))","v":""},{"$f":"IFERROR(AVERAGE($E$10:$E$40),\"\")","v":""},{"$f":"IF(SUM($F$10:$F$40)=0,\"\",SUM($F$10:$F$40))","v":""},{"$f":"IFERROR(AVERAGE($G$10:$G$40),\"\")","v":""},{"$f":"IFERROR(LOOKUP(2,1/($H$10:$H$40<>\"\"),$H$10:$H$40),\"\")","v":""},{"$f":"_xlfn.IFNA(IFERROR(LOOKUP(2,1/($I$10:$I$40<>\"\"),$I$10:$I$40),LOOKUP(2,1/($H$10:$H$40<>\"\"),$H$10:$H$40)),\"\")","v":""},{"$f":"IFERROR(AVERAGE($J$10:$J$40),\"\")","v":""},{"$f":"IFERROR(LOOKUP(2,1/($K$10:$K$40<>\"\"),$K$10:$K$40),\"\")","v":""},{"$f":"_xlfn.IFNA(IFERROR(LOOKUP(2,1/($L$10:$L$40<>\"\"),$L$10:$L$40),LOOKUP(2,1/($K$10:$K$40<>\"\"),$K$10:$K$40)),\"\")","v":""},{"$f":"IF(SUM($M$10:$M$40)=0,\"\",SUM($M$10:$M$40))","v":""},{"$f":"IF(ISERROR(AVERAGE($N$10:$N$40)),\"\",AVERAGE($N$10:$N$40))","v":""},{"$f":"IF(SUM($O$10:$O$40)=0,\"\",SUM($O$10:$O$40))","v":""},null,null,null,null,{"$f":"SUM($T$10:$T$40)","v":0}]

{"sheet":"February","index":4,"n_rows":42,"n_cols":24,"rows_kept":42,"cut":false,"hidden":false,"merged":[[5,5,5,10]]}
[]
[]
[]
[]
[]
[null,null,null,null,null,{"$f":"MID(CELL(\"filename\",A1),FIND(\"]\",CELL(\"filename\",A1))+1,255) & \" \" & 'Annual Summary'!$G$7 & \" Weather Stats\"","v":"February 2023 Weather Stats"}]
[]
[]
[null,"Date","Min Air Temp (C)","Max Air Temp (C)","Average Air Temp (C)","Rainfall (mm)","Growth Degree Days","Cumulative GDD (Month)","Cumulative GDD (Year)","Growth Potential","Cumulative GP (Month)","Cumulative GP (Year)","Clipping Yield","Humidity % ","E.T (mm)","Smith Kerns Model","Microdochium Activity ","Anthracnose Activity ","Dollar Spot Activity","GP for C4 Grass","5-day average temp","5-day average humidity","Logit"]
[null,{"$f":"DATE('Annual Summary'!$G$7,2,ROW()-9)","v":"2023-02-01"},null,null,{"$f":"IFERROR(AVERAGE($C10,$D10),\"\")","v":""},null,{"$f":"IFERROR(IF(($E10-6)>0,$E10-6,0),\"\")","v":""},{"$f":"IF(ISBLANK($G$10),\"\",$G$10)","v":""},{"$f":"IFERROR(INDIRECT(TEXT(DATE('Annual Summary'!$G$7,MONTH($B10)-1,1),\"mmmm\") &\"!$I$42\") + IF($G$10=\"\",0,$G$10),\"\")","v":""},{"$f":"IFERROR(2.71828^(-0.5*(($E10-18)/5.5)^2),\"\")","v":""},{"$f":"IF(ISBLANK($J$10),\"\",$J$10)","v":""},{"$f":"IFERROR(INDIRECT(TEXT(DATE('Annual Summary'!$G$7,MONTH($B10)-1,1),\"mmmm\") &\"!$L$42\") + IF($K$10=\"\",0,$K$10),\"\")","v":""},null,null,null,{"$f":"X10","v":{"$error":"#DIV/0!"}},null,null,null,{"$f":"IFERROR(2.71828^(-0.5*(($E10-31)/7.3)^2),\"\")","v":""},{"$f":"AVERAGE(January!E37:E40,February!E10)","v":{"$error":"#DIV/0!"}},{"$f":"AVERAGE(January!N37:N40,February!N10)","v":{"$error":"#DIV/0!"}},{"$f":"(-11.4041+(0.0894*V10)+(0.1932*U10))","v":{"$error":"#DIV/0!"}},{"$f":"IF(OR(U10<=10,U10>=35),0,(EXP(W10))/(1+EXP(W10)))","v":{"$error":"#DIV/0!"}}]
[null,{"$f":"DATE('Annual Summary'!$G$7,2,ROW()-9)","v":"2023-02-02"},null,null,{"$f":"IFERROR(AVERAGE($C11,$D11),\"\")","v":""},null,{"$f":"IFERROR(IF(($E11-6)>0,$E11-6,0),\"\")","v":""},{"$f":"IFERROR($H10+$G11,\"\")","v":""},{"$f":"IFERROR($I10+$G11,\"\")","v":""},{"$f":"IFERROR(2.71828^(-0.5*(($E11-18)/5.5)^2),\"\")","v":""},{"$f":"IFERROR($K10+$J11,\"\")","v":""},{"$f":"IFERROR($L10+$J11,\"\")","v":""},null,null,null,{"$f":"X11","v":{"$error":"#DIV/0!"}},null,null,null,{"$f":"IFERROR(2.71828^(-0.5*(($E11-31)/7.3)^2),\"\")","v":""},{"$f":"AVERAGE(January!E38:E40,February!E10:E11)","v":{"$error":"#DIV/0!"}},{"$f":"AVERAGE(January!N38:N40,February!N10:N11)","v":{"$error":"#DIV/0!"}},{"$f":"(-11.4041+(0.0894*V11)+(0.1932*U11))","v":{"$error":"#DIV/0!"}},{"$f":"IF(OR(U11<=10,U11>=35),0,(EXP(W11))/(1+EXP(W11)))","v":{"$error":"#DIV/0!"}}]
[null,{"$f":"DATE('Annual Summary'!$G$7,2,ROW()-9)","v":"2023-02-03"},null,null,"",null,"",{"$f":"IFERROR($H11+$G12,\"\")","v":""},{"$f":"IFERROR($I11+$G12,\"\")","v":""},"",{"$f":"IFERROR($K11+$J12,\"\")","v":""},{"$f":"IFERROR($L11+$J12,\"\")","v":""},null,null,null,{"$error":"#DIV/0!"},null,null,null,"",{"$f":"AVERAGE(January!E39:E40,February!E10:E12)","v":{"$error":"#DIV/0!"}},{"$f":"AVERAGE(January!N39:N40,February!N10:N12)","v":{"$error":"#DIV/0!"}},{"$f":"(-11.4041+(0.0894*V12)+(0.1932*U12))","v":{"$error":"#DIV/0!"}},{"$error":"#DIV/0!"}]
[null,{"$f":"DATE('Annual Summary'!$G$7,2,ROW()-9)","v":"2023-02-04"},null,null,"",null,"","","","","","",null,null,null,{"$error":"#DIV/0!"},null,null,null,"",{"$f":"AVERAGE(January!E40,February!E10:E13)","v":{"$error":"#DIV/0!"}},{"$f":"AVERAGE(January!N40,February!N10:N13)","v":{"$error":"#DIV/0!"}},{"$error":"#DIV/0!"},{"$error":"#DIV/0!"}]
[null,{"$f":"DATE('Annual Summary'!$G$7,2,ROW()-9)","v":"2023-02-05"},null,null,"",null,"","","","","","",null,null,null,{"$error":"#DIV/0!"},null,null,null,"",{"$f":"AVERAGE(E10:E14)","v":{"$error":"#DIV/0!"}},{"$f":"AVERAGE(N10:N14)","v":{"$error":"#DIV/0!"}},{"$error":"#DIV/0!"},{"$error":"#DIV/0!"}]
[null,{"$f":"DATE('Annual Summary'!$G$7,2,ROW()-9)","v":"2023-02-06"},null,null,"",null,"","","","","","",null,null,null,{"$error":"#DIV/0!"},null,null,null,"",{"$f":"AVERAGE(E11:E15)","v":{"$error":"#DIV/0!"}},{"$f":"AVERAGE(N11:N15)","v":{"$error":"#DIV/0!"}},{"$error":"#DIV/0!"},{"$error":"#DIV/0!"}]
[null,{"$f":"DATE('Annual Summary'!$G$7,2,ROW()-9)","v":"2023-02-07"},null,null,"",null,"","","","","","",null,null,null,{"$error":"#DIV/0!"},null,null,null,"",{"$error":"#DIV/0!"},{"$error":"#DIV/0!"},{"$error":"#DIV/0!"},{"$error":"#DIV/0!"}]
[null,{"$f":"DATE('Annual Summary'!$G$7,2,ROW()-9)","v":"2023-02-08"},null,null,"",null,"","","","","","",null,null,null,{"$error":"#DIV/0!"},null,null,null,"",{"$error":"#DIV/0!"},{"$error":"#DIV/0!"},{"$error":"#DIV/0!"},{"$error":"#DIV/0!"}]
[null,{"$f":"DATE('Annual Summary'!$G$7,2,ROW()-9)","v":"2023-02-09"},null,null,"",null,"","","","","","",null,null,null,{"$error":"#DIV/0!"},null,null,null,"",{"$error":"#DIV/0!"},{"$error":"#DIV/0!"},{"$error":"#DIV/0!"},{"$error":"#DIV/0!"}]
[null,{"$f":"DATE('Annual Summary'!$G$7,2,ROW()-9)","v":"2023-02-10"},null,null,"",null,"","","","","","",null,null,null,{"$error":"#DIV/0!"},null,null,null,"",{"$error":"#DIV/0!"},{"$error":"#DIV/0!"},{"$error":"#DIV/0!"},{"$error":"#DIV/0!"}]
[null,{"$f":"DATE('Annual Summary'!$G$7,2,ROW()-9)","v":"2023-02-11"},null,null,"",null,"","","","","","",null,null,null,{"$error":"#DIV/0!"},null,null,null,"",{"$error":"#DIV/0!"},{"$error":"#DIV/0!"},{"$error":"#DIV/0!"},{"$error":"#DIV/0!"}]
[null,{"$f":"DATE('Annual Summary'!$G$7,2,ROW()-9)","v":"2023-02-12"},null,null,"",null,"","","","","","",null,null,null,{"$error":"#DIV/0!"},null,null,null,"",{"$error":"#DIV/0!"},{"$error":"#DIV/0!"},{"$error":"#DIV/0!"},{"$error":"#DIV/0!"}]
[null,{"$f":"DATE('Annual Summary'!$G$7,2,ROW()-9)","v":"2023-02-13"},null,null,"",null,"","","","","","",null,null,null,{"$error":"#DIV/0!"},null,null,null,"",{"$error":"#DIV/0!"},{"$error":"#DIV/0!"},{"$error":"#DIV/0!"},{"$error":"#DIV/0!"}]
[null,{"$f":"DATE('Annual Summary'!$G$7,2,ROW()-9)","v":"2023-02-14"},null,null,"",null,"","","","","","",null,null,null,{"$error":"#DIV/0!"},null,null,null,"",{"$error":"#DIV/0!"},{"$error":"#DIV/0!"},{"$error":"#DIV/0!"},{"$error":"#DIV/0!"}]
[null,{"$f":"DATE('Annual Summary'!$G$7,2,ROW()-9)","v":"2023-02-15"},null,null,"",null,"","","","","","",null,null,null,{"$error":"#DIV/0!"},null,null,null,"",{"$error":"#DIV/0!"},{"$error":"#DIV/0!"},{"$error":"#DIV/0!"},{"$error":"#DIV/0!"}]
[null,{"$f":"DATE('Annual Summary'!$G$7,2,ROW()-9)","v":"2023-02-16"},null,null,"",null,"","","","","","",null,null,null,{"$error":"#DIV/0!"},null,null,null,"",{"$error":"#DIV/0!"},{"$error":"#DIV/0!"},{"$error":"#DIV/0!"},{"$error":"#DIV/0!"}]
[null,{"$f":"DATE('Annual Summary'!$G$7,2,ROW()-9)","v":"2023-02-17"},null,null,"",null,"","","","","","",null,null,null,{"$error":"#DIV/0!"},null,null,null,"",{"$error":"#DIV/0!"},{"$error":"#DIV/0!"},{"$error":"#DIV/0!"},{"$error":"#DIV/0!"}]
[null,{"$f":"DATE('Annual Summary'!$G$7,2,ROW()-9)","v":"2023-02-18"},null,null,"",null,"","","","","","",null,null,null,{"$error":"#DIV/0!"},null,null,null,"",{"$error":"#DIV/0!"},{"$error":"#DIV/0!"},{"$error":"#DIV/0!"},{"$error":"#DIV/0!"}]
[null,{"$f":"DATE('Annual Summary'!$G$7,2,ROW()-9)","v":"2023-02-19"},null,null,"",null,"","","","","","",null,null,null,{"$error":"#DIV/0!"},null,null,null,"",{"$error":"#DIV/0!"},{"$error":"#DIV/0!"},{"$error":"#DIV/0!"},{"$error":"#DIV/0!"}]
[null,{"$f":"DATE('Annual Summary'!$G$7,2,ROW()-9)","v":"2023-02-20"},null,null,"",null,"","","","","","",null,null,null,{"$error":"#DIV/0!"},null,null,null,"",{"$error":"#DIV/0!"},{"$error":"#DIV/0!"},{"$error":"#DIV/0!"},{"$error":"#DIV/0!"}]
[null,{"$f":"DATE('Annual Summary'!$G$7,2,ROW()-9)","v":"2023-02-21"},null,null,"",null,"","","","","","",null,null,null,{"$error":"#DIV/0!"},null,null,null,"",{"$error":"#DIV/0!"},{"$error":"#DIV/0!"},{"$error":"#DIV/0!"},{"$error":"#DIV/0!"}]
[null,{"$f":"DATE('Annual Summary'!$G$7,2,ROW()-9)","v":"2023-02-22"},null,null,"",null,"","","","","","",null,null,null,{"$error":"#DIV/0!"},null,null,null,"",{"$error":"#DIV/0!"},{"$error":"#DIV/0!"},{"$error":"#DIV/0!"},{"$error":"#DIV/0!"}]
[null,{"$f":"DATE('Annual Summary'!$G$7,2,ROW()-9)","v":"2023-02-23"},null,null,"",null,"","","","","","",null,null,null,{"$error":"#DIV/0!"},null,null,null,"",{"$error":"#DIV/0!"},{"$error":"#DIV/0!"},{"$error":"#DIV/0!"},{"$error":"#DIV/0!"}]
[null,{"$f":"DATE('Annual Summary'!$G$7,2,ROW()-9)","v":"2023-02-24"},null,null,"",null,"","","","","","",null,null,null,{"$error":"#DIV/0!"},null,null,null,"",{"$error":"#DIV/0!"},{"$error":"#DIV/0!"},{"$error":"#DIV/0!"},{"$error":"#DIV/0!"}]
[null,{"$f":"DATE('Annual Summary'!$G$7,2,ROW()-9)","v":"2023-02-25"},null,null,"",null,"","","","","","",null,null,null,{"$error":"#DIV/0!"},null,null,null,"",{"$f":"AVERAGE(E33:E37)","v":{"$error":"#DIV/0!"}},{"$error":"#DIV/0!"},{"$error":"#DIV/0!"},{"$error":"#DIV/0!"}]
[null,{"$f":"DATE('Annual Summary'!$G$7,2,ROW()-9)","v":"2023-02-26"},null,null,"",null,"","","","","","",null,null,null,{"$error":"#DIV/0!"},null,null,null,"",{"$f":"AVERAGE(E34:E38)","v":{"$error":"#DIV/0!"}},{"$error":"#DIV/0!"},{"$error":"#DIV/0!"},{"$error":"#DIV/0!"}]
[null,{"$f":"DATE('Annual Summary'!$G$7,2,ROW()-9)","v":"2023-02-27"},null,null,"",null,"","","","","","",null,null,null,{"$error":"#DIV/0!"},null,null,null,"",{"$f":"AVERAGE(E35:E39)","v":{"$error":"#DIV/0!"}},{"$error":"#DIV/0!"},{"$error":"#DIV/0!"},{"$error":"#DIV/0!"}]
[null,{"$f":"DATE('Annual Summary'!$G$7,2,ROW()-9)","v":"2023-02-28"},null,null,"",null,"","","","","","",null,null,null,{"$error":"#DIV/0!"},null,null,null,"",{"$f":"AVERAGE(E36:E40)","v":{"$error":"#DIV/0!"}},{"$error":"#DIV/0!"},{"$error":"#DIV/0!"},{"$error":"#DIV/0!"}]
[]
[]
[]
[]
[null,"Monthly Average/Total",{"$f":"IF(ISERROR(AVERAGE($C$10:$C$40)),\"\",AVERAGE($C$10:$C$40))","v":""},{"$f":"IF(ISERROR(AVERAGE($D$10:$D$40)),\"\",AVERAGE($D$10:$D$40))","v":""},{"$f":"IFERROR(AVERAGE($E$10:$E$40),\"\")","v":""},{"$f":"IF(SUM($F$10:$F$40)=0,\"\",SUM($F$10:$F$40))","v":""},{"$f":"IFERROR(AVERAGE($G$10:$G$40),\"\")","v":""},{"$f":"IFERROR(LOOKUP(2,1/($H$10:$H$40<>\"\"),$H$10:$H$40),\"\")","v":""},{"$f":"_xlfn.IFNA(IFERROR(LOOKUP(2,1/($I$10:$I$40<>\"\"),$I$10:$I$40),LOOKUP(2,1/($H$10:$H$40<>\"\"),$H$10:$H$40)),\"\")","v":""},{"$f":"IFERROR(AVERAGE($J$10:$J$40),\"\")","v":""},{"$f":"IFERROR(LOOKUP(2,1/($K$10:$K$40<>\"\"),$K$10:$K$40),\"\")","v":""},{"$f":"_xlfn.IFNA(IFERROR(LOOKUP(2,1/($L$10:$L$40<>\"\"),$L$10:$L$40),LOOKUP(2,1/($K$10:$K$40<>\"\"),$K$10:$K$40)),\"\")","v":""},{"$f":"IF(SUM($M$10:$M$40)=0,\"\",SUM($M$10:$M$40))","v":""},{"$f":"IF(ISERROR(AVERAGE(#REF!)),\"\",AVERAGE(#REF!))","v":""},{"$f":"IF(SUM($O$10:$O$40)=0,\"\",SUM($O$10:$O$40))","v":""},null,null,null,null,{"$f":"SUM($T$10:$T$40)","v":0}]

{"sheet":"March","index":5,"n_rows":42,"n_cols":24,"rows_kept":42,"cut":false,"hidden":false,"merged":[[5,5,5,10]]}
[]
[]
[]
[]
[]
[null,null,null,null,null,{"$f":"MID(CELL(\"filename\",A1),FIND(\"]\",CELL(\"filename\",A1))+1,255) & \" \" & 'Annual Summary'!$G$7 & \" Weather Stats\"","v":"March 2023 Weather Stats"}]
[]
[]
[null,"Date","Min Air Temp (C)","Max Air Temp (C)","Average Air Temp (C)","Rainfall (mm)","Growth Degree Days","Cumulative GDD (Month)","Cumulative GDD (Year)","Growth Potential","Cumulative GP (Month)","Cumulative GP (Year)","Clipping Yield","Humidity % ","E.T (mm)","Smith Kerns Model","Microdochium Activity ","Anthracnose Activity ","Dollar Spot Activity","GP for C4 Grass","5-day average temp","5-day average humidity","Logit"]
[null,{"$f":"DATE('Annual Summary'!$G$7,3,ROW()-9)","v":"2023-03-01"},null,null,{"$f":"IFERROR(AVERAGE($C10,$D10),\"\")","v":""},null,{"$f":"IFERROR(IF(($E10-6)>0,$E10-6,0),\"\")","v":""},{"$f":"IF(ISBLANK($G$10),\"\",$G$10)","v":""},{"$f":"IFERROR(INDIRECT(TEXT(DATE('Annual Summary'!$G$7,MONTH($B10)-1,1),\"mmmm\") &\"!$I$42\") + IF($G$10=\"\",0,$G$10),\"\")","v":""},{"$f":"IFERROR(2.71828^(-0.5*(($E10-18)/5.5)^2),\"\")","v":""},{"$f":"IF(ISBLANK($J$10),\"\",$J$10)","v":""},{"$f":"IFERROR(INDIRECT(TEXT(DATE('Annual Summary'!$G$7,MONTH($B10)-1,1),\"mmmm\") &\"!$L$42\") + IF($K$10=\"\",0,$K$10),\"\")","v":""},null,null,null,{"$f":"X10","v":{"$error":"#DIV/0!"}},null,null,null,{"$f":"IFERROR(2.71828^(-0.5*(($E10-31)/7.3)^2),\"\")","v":""},{"$f":"AVERAGE(February!E37:E40,March!E10)","v":{"$error":"#DIV/0!"}},{"$f":"AVERAGE(February!N37:N40,March!N10)","v":{"$error":"#DIV/0!"}},{"$f":"(-11.4041+(0.0894*V10)+(0.1932*U10))","v":{"$error":"#DIV/0!"}},{"$f":"IF(OR(U10<=10,U10>=35),0,(EXP(W10))/(1+EXP(W10)))","v":{"$error":"#DIV/0!"}}]
[null,{"$f":"DATE('Annual Summary'!$G$7,3,ROW()-9)","v":"2023-03-02"},null,null,{"$f":"IFERROR(AVERAGE($C11,$D11),\"\")","v":""},null,{"$f":"IFERROR(IF(($E11-6)>0,$E11-6,0),\"\")","v":""},{"$f":"IFERROR($H10+$G11,\"\")","v":""},{"$f":"IFERROR($I10+$G11,\"\")","v":""},{"$f":"IFERROR(2.71828^(-0.5*(($E11-18)/5.5)^2),\"\")","v":""},{"$f":"IFERROR($K10+$J11,\"\")","v":""},{"$f":"IFERROR($L10+$J11,\"\")","v":""},null,null,null,{"$f":"X11","v":{"$error":"#DIV/0!"}},null,null,null,{"$f":"IFERROR(2.71828^(-0.5*(($E11-31)/7.3)^2),\"\")","v":""},{"$f":"AVERAGE(February!E38:E40,March!E10:E11)","v":{"$error":"#DIV/0!"}},{"$f":"AVERAGE(February!N38:N40,March!N10:N11)","v":{"$error":"#DIV/0!"}},{"$f":"(-11.4041+(0.0894*V11)+(0.1932*U11))","v":{"$error":"#DIV/0!"}},{"$f":"IF(OR(U11<=10,U11>=35),0,(EXP(W11))/(1+EXP(W11)))","v":{"$error":"#DIV/0!"}}]
[null,{"$f":"DATE('Annual Summary'!$G$7,3,ROW()-9)","v":"2023-03-03"},null,null,{"$f":"IFERROR(AVERAGE($C12,$D12),\"\")","v":""},null,{"$f":"IFERROR(IF(($E12-6)>0,$E12-6,0),\"\")","v":""},{"$f":"IFERROR($H11+$G12,\"\")","v":""},{"$f":"IFERROR($I11+$G12,\"\")","v":""},{"$f":"IFERROR(2.71828^(-0.5*(($E12-18)/5.5)^2),\"\")","v":""},{"$f":"IFERROR($K11+$J12,\"\")","v":""},{"$f":"IFERROR($L11+$J12,\"\")","v":""},null,null,null,{"$error":"#DIV/0!"},null,null,null,"",{"$f":"AVERAGE(February!E39:E40,March!E10:E12)","v":{"$error":"#DIV/0!"}},{"$f":"AVERAGE(February!N39:N40,March!N10:N12)","v":{"$error":"#DIV/0!"}},{"$f":"(-11.4041+(0.0894*V12)+(0.1932*U12))","v":{"$error":"#DIV/0!"}},{"$error":"#DIV/0!"}]
[null,{"$f":"DATE('Annual Summary'!$G$7,3,ROW()-9)","v":"2023-03-04"},null,null,"",null,"","","","","","",null,null,null,{"$error":"#DIV/0!"},null,null,null,"",{"$f":"AVERAGE(February!E40,March!E10:E13)","v":{"$error":"#DIV/0!"}},{"$f":"AVERAGE(February!N40,March!N10:N13)","v":{"$error":"#DIV/0!"}},{"$error":"#DIV/0!"},{"$error":"#DIV/0!"}]
[null,{"$f":"DATE('Annual Summary'!$G$7,3,ROW()-9)","v":"2023-03-05"},null,null,"",null,"","","","","","",null,null,null,{"$error":"#DIV/0!"},null,null,null,"",{"$f":"AVERAGE(E10:E14)","v":{"$error":"#DIV/0!"}},{"$f":"AVERAGE(N10:N14)","v":{"$error":"#DIV/0!"}},{"$error":"#DIV/0!"},{"$error":"#DIV/0!"}]
[null,{"$f":"DATE('Annual Summary'!$G$7,3,ROW()-9)","v":"2023-03-06"},null,null,"",null,"","","","","","",null,null,null,{"$error":"#DIV/0!"},null,null,null,"",{"$f":"AVERAGE(E11:E15)","v":{"$error":"#DIV/0!"}},{"$f":"AVERAGE(N11:N15)","v":{"$error":"#DIV/0!"}},{"$error":"#DIV/0!"},{"$error":"#DIV/0!"}]
[null,{"$f":"DATE('Annual Summary'!$G$7,3,ROW()-9)","v":"2023-03-07"},null,null,"",null,"","","","","","",null,null,null,{"$error":"#DIV/0!"},null,null,null,"",{"$f":"AVERAGE(E12:E16)","v":{"$error":"#DIV/0!"}},{"$error":"#DIV/0!"},{"$error":"#DIV/0!"},{"$error":"#DIV/0!"}]
[null,{"$f":"DATE('Annual Summary'!$G$7,3,ROW()-9)","v":"2023-03-08"},null,null,"",null,"","","","","","",null,null,null,{"$error":"#DIV/0!"},null,null,null,"",{"$error":"#DIV/0!"},{"$error":"#DIV/0!"},{"$error":"#DIV/0!"},{"$error":"#DIV/0!"}]
[null,{"$f":"DATE('Annual Summary'!$G$7,3,ROW()-9)","v":"2023-03-09"},null,null,"",null,"","","","","","",null,null,null,{"$error":"#DIV/0!"},null,null,null,"",{"$error":"#DIV/0!"},{"$error":"#DIV/0!"},{"$error":"#DIV/0!"},{"$error":"#DIV/0!"}]
[null,{"$f":"DATE('Annual Summary'!$G$7,3,ROW()-9)","v":"2023-03-10"},null,null,"",null,"","","","","","",null,null,null,{"$error":"#DIV/0!"},null,null,null,"",{"$error":"#DIV/0!"},{"$error":"#DIV/0!"},{"$error":"#DIV/0!"},{"$error":"#DIV/0!"}]
[null,{"$f":"DATE('Annual Summary'!$G$7,3,ROW()-9)","v":"2023-03-11"},null,null,"",null,"","","","","","",null,null,null,{"$error":"#DIV/0!"},null,null,null,"",{"$error":"#DIV/0!"},{"$error":"#DIV/0!"},{"$error":"#DIV/0!"},{"$error":"#DIV/0!"}]
[null,{"$f":"DATE('Annual Summary'!$G$7,3,ROW()-9)","v":"2023-03-12"},null,null,"",null,"","","","","","",null,null,null,{"$error":"#DIV/0!"},null,null,null,"",{"$error":"#DIV/0!"},{"$error":"#DIV/0!"},{"$error":"#DIV/0!"},{"$error":"#DIV/0!"}]
[null,{"$f":"DATE('Annual Summary'!$G$7,3,ROW()-9)","v":"2023-03-13"},null,null,"",null,"","","","","","",null,null,null,{"$error":"#DIV/0!"},null,null,null,"",{"$error":"#DIV/0!"},{"$error":"#DIV/0!"},{"$error":"#DIV/0!"},{"$error":"#DIV/0!"}]
[null,{"$f":"DATE('Annual Summary'!$G$7,3,ROW()-9)","v":"2023-03-14"},null,null,"",null,"","","","","","",null,null,null,{"$error":"#DIV/0!"},null,null,null,"",{"$error":"#DIV/0!"},{"$error":"#DIV/0!"},{"$error":"#DIV/0!"},{"$error":"#DIV/0!"}]
[null,{"$f":"DATE('Annual Summary'!$G$7,3,ROW()-9)","v":"2023-03-15"},null,null,"",null,"","","","","","",null,null,null,{"$error":"#DIV/0!"},null,null,null,"",{"$error":"#DIV/0!"},{"$error":"#DIV/0!"},{"$error":"#DIV/0!"},{"$error":"#DIV/0!"}]
[null,{"$f":"DATE('Annual Summary'!$G$7,3,ROW()-9)","v":"2023-03-16"},null,null,"",null,"","","","","","",null,null,null,{"$error":"#DIV/0!"},null,null,null,"",{"$error":"#DIV/0!"},{"$error":"#DIV/0!"},{"$error":"#DIV/0!"},{"$error":"#DIV/0!"}]
[null,{"$f":"DATE('Annual Summary'!$G$7,3,ROW()-9)","v":"2023-03-17"},null,null,"",null,"","","","","","",null,null,null,{"$error":"#DIV/0!"},null,null,null,"",{"$error":"#DIV/0!"},{"$error":"#DIV/0!"},{"$error":"#DIV/0!"},{"$error":"#DIV/0!"}]
[null,{"$f":"DATE('Annual Summary'!$G$7,3,ROW()-9)","v":"2023-03-18"},null,null,"",null,"","","","","","",null,null,null,{"$error":"#DIV/0!"},null,null,null,"",{"$error":"#DIV/0!"},{"$error":"#DIV/0!"},{"$error":"#DIV/0!"},{"$error":"#DIV/0!"}]
[null,{"$f":"DATE('Annual Summary'!$G$7,3,ROW()-9)","v":"2023-03-19"},null,null,"",null,"","","","","","",null,null,null,{"$error":"#DIV/0!"},null,null,null,"",{"$error":"#DIV/0!"},{"$error":"#DIV/0!"},{"$error":"#DIV/0!"},{"$error":"#DIV/0!"}]
[null,{"$f":"DATE('Annual Summary'!$G$7,3,ROW()-9)","v":"2023-03-20"},null,null,"",null,"","","","","","",null,null,null,{"$error":"#DIV/0!"},null,null,null,"",{"$error":"#DIV/0!"},{"$error":"#DIV/0!"},{"$error":"#DIV/0!"},{"$error":"#DIV/0!"}]
[null,{"$f":"DATE('Annual Summary'!$G$7,3,ROW()-9)","v":"2023-03-21"},null,null,"",null,"","","","","","",null,null,null,{"$error":"#DIV/0!"},null,null,null,"",{"$error":"#DIV/0!"},{"$error":"#DIV/0!"},{"$error":"#DIV/0!"},{"$error":"#DIV/0!"}]
[null,{"$f":"DATE('Annual Summary'!$G$7,3,ROW()-9)","v":"2023-03-22"},null,null,"",null,"","","","","","",null,null,null,{"$error":"#DIV/0!"},null,null,null,"",{"$error":"#DIV/0!"},{"$error":"#DIV/0!"},{"$error":"#DIV/0!"},{"$error":"#DIV/0!"}]
[null,{"$f":"DATE('Annual Summary'!$G$7,3,ROW()-9)","v":"2023-03-23"},null,null,"",null,"","","","","","",null,null,null,{"$error":"#DIV/0!"},null,null,null,"",{"$error":"#DIV/0!"},{"$error":"#DIV/0!"},{"$error":"#DIV/0!"},{"$error":"#DIV/0!"}]
[null,{"$f":"DATE('Annual Summary'!$G$7,3,ROW()-9)","v":"2023-03-24"},null,null,"",null,"","","","","","",null,null,null,{"$error":"#DIV/0!"},null,null,null,"",{"$f":"AVERAGE(E29:E33)","v":{"$error":"#DIV/0!"}},{"$error":"#DIV/0!"},{"$error":"#DIV/0!"},{"$error":"#DIV/0!"}]
[null,{"$f":"DATE('Annual Summary'!$G$7,3,ROW()-9)","v":"2023-03-25"},null,null,"",null,"","","","","","",null,null,null,{"$error":"#DIV/0!"},null,null,null,"",{"$f":"AVERAGE(E30:E34)","v":{"$error":"#DIV/0!"}},{"$error":"#DIV/0!"},{"$f":"(-11.4041+(0.0894*V34)+(0.1932*U34))","v":{"$error":"#DIV/0!"}},{"$error":"#DIV/0!"}]
[null,{"$f":"DATE('Annual Summary'!$G$7,3,ROW()-9)","v":"2023-03-26"},null,null,"",null,"","","","","","",null,null,null,{"$error":"#DIV/0!"},null,null,null,"",{"$f":"AVERAGE(E31:E35)","v":{"$error":"#DIV/0!"}},{"$error":"#DIV/0!"},{"$error":"#DIV/0!"},{"$error":"#DIV/0!"}]
[null,{"$f":"DATE('Annual Summary'!$G$7,3,ROW()-9)","v":"2023-03-27"},null,null,"",null,"","","","","","",null,null,null,{"$error":"#DIV/0!"},null,null,null,"",{"$error":"#DIV/0!"},{"$error":"#DIV/0!"},{"$error":"#DIV/0!"},{"$error":"#DIV/0!"}]
[null,{"$f":"DATE('Annual Summary'!$G$7,3,ROW()-9)","v":"2023-03-28"},null,null,"",null,"","","","","","",null,null,null,{"$error":"#DIV/0!"},null,null,null,"",{"$error":"#DIV/0!"},{"$error":"#DIV/0!"},{"$error":"#DIV/0!"},{"$error":"#DIV/0!"}]
[null,{"$f":"DATE('Annual Summary'!$G$7,3,ROW()-9)","v":"2023-03-29"},null,null,"",null,"","","","","","",null,null,null,{"$error":"#DIV/0!"},null,null,null,"",{"$error":"#DIV/0!"},{"$f":"AVERAGE(N34:N38)","v":{"$error":"#DIV/0!"}},{"$f":"(-11.4041+(0.0894*V38)+(0.1932*U38))","v":{"$error":"#DIV/0!"}},{"$f":"IF(OR(U38<=10,U38>=35),0,(EXP(W38))/(1+EXP(W38)))","v":{"$error":"#DIV/0!"}}]
[null,{"$f":"DATE('Annual Summary'!$G$7,3,ROW()-9)","v":"2023-03-30"},null,null,"",null,"","","","","","",null,null,null,{"$error":"#DIV/0!"},null,null,null,"",{"$error":"#DIV/0!"},{"$error":"#DIV/0!"},{"$error":"#DIV/0!"},{"$error":"#DIV/0!"}]
[null,{"$f":"DATE('Annual Summary'!$G$7,3,ROW()-9)","v":"2023-03-31"},null,null,"",null,"","","","","","",null,null,null,{"$error":"#DIV/0!"},null,null,null,"",{"$error":"#DIV/0!"},{"$f":"AVERAGE(N36:N40)","v":{"$error":"#DIV/0!"}},{"$error":"#DIV/0!"},{"$error":"#DIV/0!"}]
[]
[null,"Monthly Average/Total",{"$f":"IF(ISERROR(AVERAGE($C$10:$C$40)),\"\",AVERAGE($C$10:$C$40))","v":""},{"$f":"IF(ISERROR(AVERAGE($D$10:$D$40)),\"\",AVERAGE($D$10:$D$40))","v":""},{"$f":"IFERROR(AVERAGE($E$10:$E$40),\"\")","v":""},{"$f":"IF(SUM($F$10:$F$40)=0,\"\",SUM($F$10:$F$40))","v":""},{"$f":"IFERROR(AVERAGE($G$10:$G$40),\"\")","v":""},{"$f":"IFERROR(LOOKUP(2,1/($H$10:$H$40<>\"\"),$H$10:$H$40),\"\")","v":""},{"$f":"_xlfn.IFNA(IFERROR(LOOKUP(2,1/($I$10:$I$40<>\"\"),$I$10:$I$40),LOOKUP(2,1/($H$10:$H$40<>\"\"),$H$10:$H$40)),\"\")","v":""},{"$f":"IFERROR(AVERAGE($J$10:$J$40),\"\")","v":""},{"$f":"IFERROR(LOOKUP(2,1/($K$10:$K$40<>\"\"),$K$10:$K$40),\"\")","v":""},{"$f":"_xlfn.IFNA(IFERROR(LOOKUP(2,1/($L$10:$L$40<>\"\"),$L$10:$L$40),LOOKUP(2,1/($K$10:$K$40<>\"\"),$K$10:$K$40)),\"\")","v":""},{"$f":"IF(SUM($M$10:$M$40)=0,\"\",SUM($M$10:$M$40))","v":""},{"$f":"IF(ISERROR(AVERAGE($N$10:$N$40)),\"\",AVERAGE($N$10:$N$40))","v":""},{"$f":"IF(SUM($O$10:$O$40)=0,\"\",SUM($O$10:$O$40))","v":""},null,null,null,null,{"$f":"SUM($T$10:$T$40)","v":0}]

{"sheet":"April","index":6,"n_rows":42,"n_cols":24,"rows_kept":42,"cut":false,"hidden":false,"merged":[[5,5,5,10]]}
[]
[]
[]
[]
[]
[null,null,null,null,null,{"$f":"MID(CELL(\"filename\",A1),FIND(\"]\",CELL(\"filename\",A1))+1,255) & \" \" & 'Annual Summary'!$G$7 & \" Weather Stats\"","v":"April 2023 Weather Stats"}]
[]
[]
[null,"Date","Min Air Temp (C)","Max Air Temp (C)","Average Air Temp (C)","Rainfall (mm)","Growth Degree Days","Cumulative GDD (Month)","Cumulative GDD (Year)","Growth Potential","Cumulative GP (Month)","Cumulative GP (Year)","Clipping Yield","Humidity % ","E.T (mm)","Smith Kerns Model","Microdochium Activity ","Anthracnose Activity ","Dollar Spot Activity","GP for C4 Grass","5-day average temp","5-day average humidity","Logit"]
[null,{"$f":"DATE('Annual Summary'!$G$7,4,ROW()-9)","v":"2023-04-01"},null,null,{"$f":"IFERROR(AVERAGE($C10,$D10),\"\")","v":""},null,{"$f":"IFERROR(IF(($E10-6)>0,$E10-6,0),\"\")","v":""},{"$f":"IF(ISBLANK($G$10),\"\",$G$10)","v":""},{"$f":"IFERROR(INDIRECT(TEXT(DATE('Annual Summary'!$G$7,MONTH($B10)-1,1),\"mmmm\") &\"!$I$42\") + IF($G$10=\"\",0,$G$10),\"\")","v":""},{"$f":"IFERROR(2.71828^(-0.5*(($E10-18)/5.5)^2),\"\")","v":""},{"$f":"IF(ISBLANK($J$10),\"\",$J$10)","v":""},{"$f":"IFERROR(INDIRECT(TEXT(DATE('Annual Summary'!$G$7,MONTH($B10)-1,1),\"mmmm\") &\"!$L$42\") + IF($K$10=\"\",0,$K$10),\"\")","v":""},null,null,null,{"$f":"X10","v":{"$error":"#DIV/0!"}},null,null,null,{"$f":"IFERROR(2.71828^(-0.5*(($E10-31)/7.3)^2),\"\")","v":""},{"$f":"AVERAGE(March!E37:E40,April!E10)","v":{"$error":"#DIV/0!"}},{"$f":"AVERAGE(March!N37:N40,April!N10)","v":{"$error":"#DIV/0!"}},{"$f":"(-11.4041+(0.0894*V10)+(0.1932*U10))","v":{"$error":"#DIV/0!"}},{"$f":"IF(OR(U10<=10,U10>=35),0,(EXP(W10))/(1+EXP(W10)))","v":{"$error":"#DIV/0!"}}]
[null,{"$f":"DATE('Annual Summary'!$G$7,4,ROW()-9)","v":"2023-04-02"},null,null,{"$f":"IFERROR(AVERAGE($C11,$D11),\"\")","v":""}," ",{"$f":"IFERROR(IF(($E11-6)>0,$E11-6,0),\"\")","v":""},{"$f":"IFERROR($H10+$G11,\"\")","v":""},{"$f":"IFERROR($I10+$G11,\"\")","v":""},{"$f":"IFERROR(2.71828^(-0.5*(($E11-18)/5.5)^2),\"\")","v":""},{"$f":"IFERROR($K10+$J11,\"\")","v":""},{"$f":"IFERROR($L10+$J11,\"\")","v":""},null,null,null,{"$f":"X11","v":{"$error":"#DIV/0!"}},null,null,null,{"$f":"IFERROR(2.71828^(-0.5*(($E11-31)/7.3)^2),\"\")","v":""},{"$f":"AVERAGE(March!E38:E40,April!E10:E11)","v":{"$error":"#DIV/0!"}},{"$f":"AVERAGE(March!N38:N40,April!N10:N11)","v":{"$error":"#DIV/0!"}},{"$f":"(-11.4041+(0.0894*V11)+(0.1932*U11))","v":{"$error":"#DIV/0!"}},{"$f":"IF(OR(U11<=10,U11>=35),0,(EXP(W11))/(1+EXP(W11)))","v":{"$error":"#DIV/0!"}}]
[null,{"$f":"DATE('Annual Summary'!$G$7,4,ROW()-9)","v":"2023-04-03"},null,null,"",null,"",{"$f":"IFERROR($H11+$G12,\"\")","v":""},{"$f":"IFERROR($I11+$G12,\"\")","v":""},"",{"$f":"IFERROR($K11+$J12,\"\")","v":""},{"$f":"IFERROR($L11+$J12,\"\")","v":""},null,null,null,{"$error":"#DIV/0!"},null,null,null,"",{"$f":"AVERAGE(March!E39:E40,April!E10:E12)","v":{"$error":"#DIV/0!"}},{"$f":"AVERAGE(March!N39:N40,April!N10:N12)","v":{"$error":"#DIV/0!"}},{"$f":"(-11.4041+(0.0894*V12)+(0.1932*U12))","v":{"$error":"#DIV/0!"}},{"$error":"#DIV/0!"}]
[null,{"$f":"DATE('Annual Summary'!$G$7,4,ROW()-9)","v":"2023-04-04"},null,null,"",null,"","","","","","",null,null,null,{"$error":"#DIV/0!"},null,null,null,"",{"$f":"AVERAGE(March!E40,April!E10:E13)","v":{"$error":"#DIV/0!"}},{"$f":"AVERAGE(March!N40,April!N10:N13)","v":{"$error":"#DIV/0!"}},{"$error":"#DIV/0!"},{"$error":"#DIV/0!"}]
[null,{"$f":"DATE('Annual Summary'!$G$7,4,ROW()-9)","v":"2023-04-05"},null,null,"",null,"","","","","","",null,null,null,{"$error":"#DIV/0!"},null,null,null,"",{"$f":"AVERAGE(E10:E14)","v":{"$error":"#DIV/0!"}},{"$f":"AVERAGE(N10:N14)","v":{"$error":"#DIV/0!"}},{"$error":"#DIV/0!"},{"$error":"#DIV/0!"}]
[null,{"$f":"DATE('Annual Summary'!$G$7,4,ROW()-9)","v":"2023-04-06"},null,null,"",null,"","","","","","",null,null,null,{"$error":"#DIV/0!"},null,null,null,"",{"$f":"AVERAGE(E11:E15)","v":{"$error":"#DIV/0!"}},{"$f":"AVERAGE(N11:N15)","v":{"$error":"#DIV/0!"}},{"$error":"#DIV/0!"},{"$error":"#DIV/0!"}]
[null,{"$f":"DATE('Annual Summary'!$G$7,4,ROW()-9)","v":"2023-04-07"},null,null,"",null,"","","","","","",null,null,null,{"$error":"#DIV/0!"},null,null,null,"",{"$f":"AVERAGE(E12:E16)","v":{"$error":"#DIV/0!"}},{"$error":"#DIV/0!"},{"$error":"#DIV/0!"},{"$error":"#DIV/0!"}]
[null,{"$f":"DATE('Annual Summary'!$G$7,4,ROW()-9)","v":"2023-04-08"},null,null,"",null,"","","","","","",null,null,null,{"$error":"#DIV/0!"},null,null,null,"",{"$error":"#DIV/0!"},{"$error":"#DIV/0!"},{"$error":"#DIV/0!"},{"$error":"#DIV/0!"}]
[null,{"$f":"DATE('Annual Summary'!$G$7,4,ROW()-9)","v":"2023-04-09"},null,null,"",null,"","","","","","",null,null,null,{"$error":"#DIV/0!"},null,null,null,"",{"$error":"#DIV/0!"},{"$error":"#DIV/0!"},{"$error":"#DIV/0!"},{"$error":"#DIV/0!"}]
[null,{"$f":"DATE('Annual Summary'!$G$7,4,ROW()-9)","v":"2023-04-10"},null,null,"",null,"","","","","","",null,null,null,{"$error":"#DIV/0!"},null,null,null,"",{"$error":"#DIV/0!"},{"$error":"#DIV/0!"},{"$error":"#DIV/0!"},{"$error":"#DIV/0!"}]
[null,{"$f":"DATE('Annual Summary'!$G$7,4,ROW()-9)","v":"2023-04-11"},null,null,"",null,"","","","","","",null,null,null,{"$error":"#DIV/0!"},null,null,null,"",{"$error":"#DIV/0!"},{"$error":"#DIV/0!"},{"$error":"#DIV/0!"},{"$error":"#DIV/0!"}]
[null,{"$f":"DATE('Annual Summary'!$G$7,4,ROW()-9)","v":"2023-04-12"},null,null,"",null,"","","","","","",null,null,null,{"$error":"#DIV/0!"},null,null,null,"",{"$error":"#DIV/0!"},{"$error":"#DIV/0!"},{"$error":"#DIV/0!"},{"$error":"#DIV/0!"}]
[null,{"$f":"DATE('Annual Summary'!$G$7,4,ROW()-9)","v":"2023-04-13"},null,null,"",null,"","","","","","",null,null,null,{"$error":"#DIV/0!"},null,null,null,"",{"$error":"#DIV/0!"},{"$error":"#DIV/0!"},{"$error":"#DIV/0!"},{"$error":"#DIV/0!"}]
[null,{"$f":"DATE('Annual Summary'!$G$7,4,ROW()-9)","v":"2023-04-14"},null,null,"",null,"","","","","","",null,null,null,{"$error":"#DIV/0!"},null,null,null,"",{"$error":"#DIV/0!"},{"$error":"#DIV/0!"},{"$error":"#DIV/0!"},{"$error":"#DIV/0!"}]
[null,{"$f":"DATE('Annual Summary'!$G$7,4,ROW()-9)","v":"2023-04-15"},null,null,"",null,"","","","","","",null,null,null,{"$error":"#DIV/0!"},null,null,null,"",{"$error":"#DIV/0!"},{"$error":"#DIV/0!"},{"$error":"#DIV/0!"},{"$error":"#DIV/0!"}]
[null,{"$f":"DATE('Annual Summary'!$G$7,4,ROW()-9)","v":"2023-04-16"},null,null,"",null,"","","","","","",null,null,null,{"$error":"#DIV/0!"},null,null,null,"",{"$error":"#DIV/0!"},{"$error":"#DIV/0!"},{"$error":"#DIV/0!"},{"$error":"#DIV/0!"}]
[null,{"$f":"DATE('Annual Summary'!$G$7,4,ROW()-9)","v":"2023-04-17"},null,null,""," ","","","","","","",null,null,null,{"$error":"#DIV/0!"},null,null,null,"",{"$error":"#DIV/0!"},{"$error":"#DIV/0!"},{"$error":"#DIV/0!"},{"$error":"#DIV/0!"}]
[null,{"$f":"DATE('Annual Summary'!$G$7,4,ROW()-9)","v":"2023-04-18"},null,null,"",null,"","","","","","",null,null,null,{"$error":"#DIV/0!"},null,null,null,"",{"$error":"#DIV/0!"},{"$error":"#DIV/0!"},{"$error":"#DIV/0!"},{"$error":"#DIV/0!"}]
[null,{"$f":"DATE('Annual Summary'!$G$7,4,ROW()-9)","v":"2023-04-19"},null,null,"",null,"","","","","","",null,null,null,{"$error":"#DIV/0!"},null,null,null,"",{"$error":"#DIV/0!"},{"$error":"#DIV/0!"},{"$error":"#DIV/0!"},{"$error":"#DIV/0!"}]
[null,{"$f":"DATE('Annual Summary'!$G$7,4,ROW()-9)","v":"2023-04-20"},null,null,"",null,"","","","","","",null,null,null,{"$error":"#DIV/0!"},null,null,null,"",{"$error":"#DIV/0!"},{"$error":"#DIV/0!"},{"$error":"#DIV/0!"},{"$error":"#DIV/0!"}]
[null,{"$f":"DATE('Annual Summary'!$G$7,4,ROW()-9)","v":"2023-04-21"},null,null,"",null,"","","","","","",null,null,null,{"$error":"#DIV/0!"},null,null,null,"",{"$error":"#DIV/0!"},{"$error":"#DIV/0!"},{"$error":"#DIV/0!"},{"$error":"#DIV/0!"}]
[null,{"$f":"DATE('Annual Summary'!$G$7,4,ROW()-9)","v":"2023-04-22"},null,null,"",null,"","","","","","",null,null,null,{"$error":"#DIV/0!"},null,null,null,"",{"$error":"#DIV/0!"},{"$error":"#DIV/0!"},{"$error":"#DIV/0!"},{"$error":"#DIV/0!"}]
[null,{"$f":"DATE('Annual Summary'!$G$7,4,ROW()-9)","v":"2023-04-23"},null,null,"",null,"","","","","","",null,null,null,{"$error":"#DIV/0!"},null,null,null,"",{"$error":"#DIV/0!"},{"$error":"#DIV/0!"},{"$error":"#DIV/0!"},{"$error":"#DIV/0!"}]
[null,{"$f":"DATE('Annual Summary'!$G$7,4,ROW()-9)","v":"2023-04-24"},null,null,"",null,"","","","","","",null,null,null,{"$error":"#DIV/0!"},null,null,null,"",{"$f":"AVERAGE(E29:E33)","v":{"$error":"#DIV/0!"}},{"$error":"#DIV/0!"},{"$error":"#DIV/0!"},{"$error":"#DIV/0!"}]
[null,{"$f":"DATE('Annual Summary'!$G$7,4,ROW()-9)","v":"2023-04-25"},null,null,"",null,"","","","","","",null,null,null,{"$error":"#DIV/0!"},null,null,null,"",{"$f":"AVERAGE(E30:E34)","v":{"$error":"#DIV/0!"}},{"$error":"#DIV/0!"},{"$f":"(-11.4041+(0.0894*V34)+(0.1932*U34))","v":{"$error":"#DIV/0!"}},{"$error":"#DIV/0!"}]
[null,{"$f":"DATE('Annual Summary'!$G$7,4,ROW()-9)","v":"2023-04-26"},null,null,"",null,"","","","","","",null,null,null,{"$error":"#DIV/0!"},null,null,null,"",{"$f":"AVERAGE(E31:E35)","v":{"$error":"#DIV/0!"}},{"$error":"#DIV/0!"},{"$error":"#DIV/0!"},{"$error":"#DIV/0!"}]
[null,{"$f":"DATE('Annual Summary'!$G$7,4,ROW()-9)","v":"2023-04-27"},null,null,"",null,"","","","","","",null,null,null,{"$error":"#DIV/0!"},null,null,null,"",{"$error":"#DIV/0!"},{"$error":"#DIV/0!"},{"$error":"#DIV/0!"},{"$error":"#DIV/0!"}]
[null,{"$f":"DATE('Annual Summary'!$G$7,4,ROW()-9)","v":"2023-04-28"},null,null,"",null,"","","","","","",null,null,null,{"$error":"#DIV/0!"},null,null,null,"",{"$error":"#DIV/0!"},{"$error":"#DIV/0!"},{"$error":"#DIV/0!"},{"$error":"#DIV/0!"}]
[null,{"$f":"DATE('Annual Summary'!$G$7,4,ROW()-9)","v":"2023-04-29"},null,null,""," ","","","","","","",null,null,null,{"$error":"#DIV/0!"},null,null,null,"",{"$error":"#DIV/0!"},{"$error":"#DIV/0!"},{"$error":"#DIV/0!"},{"$error":"#DIV/0!"}]
[null,{"$f":"DATE('Annual Summary'!$G$7,4,ROW()-9)","v":"2023-04-30"},null,null,"",null,"","","","","","",null,null,null,{"$error":"#DIV/0!"},null,null,null,"",{"$error":"#DIV/0!"},{"$error":"#DIV/0!"},{"$error":"#DIV/0!"},{"$error":"#DIV/0!"}]
[]
[]
[null,"Monthly Average/Total",{"$f":"IF(ISERROR(AVERAGE($C$10:$C$40)),\"\",AVERAGE($C$10:$C$40))","v":""},{"$f":"IF(ISERROR(AVERAGE($D$10:$D$40)),\"\",AVERAGE($D$10:$D$40))","v":""},{"$f":"IFERROR(AVERAGE($E$10:$E$40),\"\")","v":""},{"$f":"IF(SUM($F$10:$F$39)=0,\"\",SUM($F$10:$F$39))","v":""},{"$f":"IFERROR(AVERAGE($G$10:$G$40),\"\")","v":""},{"$f":"IFERROR(LOOKUP(2,1/($H$10:$H$40<>\"\"),$H$10:$H$40),\"\")","v":""},{"$f":"_xlfn.IFNA(IFERROR(LOOKUP(2,1/($I$10:$I$40<>\"\"),$I$10:$I$40),LOOKUP(2,1/($H$10:$H$40<>\"\"),$H$10:$H$40)),\"\")","v":""},{"$f":"IFERROR(AVERAGE($J$10:$J$40),\"\")","v":""},{"$f":"IFERROR(LOOKUP(2,1/($K$10:$K$40<>\"\"),$K$10:$K$40),\"\")","v":""},{"$f":"_xlfn.IFNA(IFERROR(LOOKUP(2,1/($L$10:$L$40<>\"\"),$L$10:$L$40),LOOKUP(2,1/($K$10:$K$40<>\"\"),$K$10:$K$40)),\"\")","v":""},{"$f":"IF(SUM($M$10:$M$40)=0,\"\",SUM($M$10:$M$40))","v":""},{"$f":"IF(ISERROR(AVERAGE($N$10:$N$40)),\"\",AVERAGE($N$10:$N$40))","v":""},{"$f":"IF(SUM($O$10:$O$40)=0,\"\",SUM($O$10:$O$40))","v":""},null,null,null,null,{"$f":"SUM($T$10:$T$40)","v":0}]

{"sheet":"May","index":7,"n_rows":42,"n_cols":24,"rows_kept":42,"cut":false,"hidden":false,"merged":[[5,5,5,10]]}
[]
[]
[]
[]
[]
[null,null,null,null,null,{"$f":"MID(CELL(\"filename\",A1),FIND(\"]\",CELL(\"filename\",A1))+1,255) & \" \" & 'Annual Summary'!$G$7 & \" Weather Stats\"","v":"May 2023 Weather Stats"}]
[]
[]
[null,"Date","Min Air Temp (C)","Max Air Temp (C)","Average Air Temp (C)","Rainfall (mm)","Growth Degree Days","Cumulative GDD (Month)","Cumulative GDD (Year)","Growth Potential","Cumulative GP (Month)","Cumulative GP (Year)","Clipping Yield","Humidity % ","E.T (mm)","Smith Kerns Model","Microdochium Activity ","Anthracnose Activity ","Dollar Spot Activity","GP for C4 Grass","5-day average temp","5-day average humidity","Logit"]
[null,{"$f":"DATE('Annual Summary'!$G$7,5,ROW()-9)","v":"2023-05-01"},null,null,{"$f":"IFERROR(AVERAGE($C10,$D10),\"\")","v":""},null,{"$f":"IFERROR(IF(($E10-6)>0,$E10-6,0),\"\")","v":""},{"$f":"IF(ISBLANK($G$10),\"\",$G$10)","v":""},{"$f":"IFERROR(INDIRECT(TEXT(DATE('Annual Summary'!$G$7,MONTH($B10)-1,1),\"mmmm\") &\"!$I$42\") + IF($G$10=\"\",0,$G$10),\"\")","v":""},{"$f":"IFERROR(2.71828^(-0.5*(($E10-18)/5.5)^2),\"\")","v":""},{"$f":"IF(ISBLANK($J$10),\"\",$J$10)","v":""},{"$f":"IFERROR(INDIRECT(TEXT(DATE('Annual Summary'!$G$7,MONTH($B10)-1,1),\"mmmm\") &\"!$L$42\") + IF($K$10=\"\",0,$K$10),\"\")","v":""},null,null,null,{"$f":"X10","v":{"$error":"#DIV/0!"}},null,null,null,{"$f":"IFERROR(2.71828^(-0.5*(($E10-31)/7.3)^2),\"\")","v":""},{"$f":"AVERAGE(April!E37:E40,May!E10)","v":{"$error":"#DIV/0!"}},{"$f":"AVERAGE(April!N37:N40,May!N10)","v":{"$error":"#DIV/0!"}},{"$f":"(-11.4041+(0.0894*V10)+(0.1932*U10))","v":{"$error":"#DIV/0!"}},{"$f":"IF(OR(U10<=10,U10>=35),0,(EXP(W10))/(1+EXP(W10)))","v":{"$error":"#DIV/0!"}}]
[null,{"$f":"DATE('Annual Summary'!$G$7,5,ROW()-9)","v":"2023-05-02"},null,null,{"$f":"IFERROR(AVERAGE($C11,$D11),\"\")","v":""},null,{"$f":"IFERROR(IF(($E11-6)>0,$E11-6,0),\"\")","v":""},{"$f":"IFERROR($H10+$G11,\"\")","v":""},{"$f":"IFERROR($I10+$G11,\"\")","v":""},{"$f":"IFERROR(2.71828^(-0.5*(($E11-18)/5.5)^2),\"\")","v":""},{"$f":"IFERROR($K10+$J11,\"\")","v":""},{"$f":"IFERROR($L10+$J11,\"\")","v":""},null,null,null,{"$f":"X11","v":{"$error":"#DIV/0!"}},null,null,null,{"$f":"IFERROR(2.71828^(-0.5*(($E11-31)/7.3)^2),\"\")","v":""},{"$f":"AVERAGE(April!E38:E40,May!E10:E11)","v":{"$error":"#DIV/0!"}},{"$f":"AVERAGE(April!N38:N40,May!N10:N11)","v":{"$error":"#DIV/0!"}},{"$f":"(-11.4041+(0.0894*V11)+(0.1932*U11))","v":{"$error":"#DIV/0!"}},{"$f":"IF(OR(U11<=10,U11>=35),0,(EXP(W11))/(1+EXP(W11)))","v":{"$error":"#DIV/0!"}}]
[null,{"$f":"DATE('Annual Summary'!$G$7,5,ROW()-9)","v":"2023-05-03"},null,null,"",null,"",{"$f":"IFERROR($H11+$G12,\"\")","v":""},{"$f":"IFERROR($I11+$G12,\"\")","v":""},"",{"$f":"IFERROR($K11+$J12,\"\")","v":""},{"$f":"IFERROR($L11+$J12,\"\")","v":""},null,null,null,{"$error":"#DIV/0!"},null,null,null,"",{"$f":"AVERAGE(April!E39:E40,May!E10:E12)","v":{"$error":"#DIV/0!"}},{"$f":"AVERAGE(April!N39:N40,May!N10:N12)","v":{"$error":"#DIV/0!"}},{"$f":"(-11.4041+(0.0894*V12)+(0.1932*U12))","v":{"$error":"#DIV/0!"}},{"$error":"#DIV/0!"}]
[null,{"$f":"DATE('Annual Summary'!$G$7,5,ROW()-9)","v":"2023-05-04"},null,null,"",null,"","","","","","",null,null,null,{"$error":"#DIV/0!"},null,null,null,"",{"$f":"AVERAGE(April!E40,May!E10:E13)","v":{"$error":"#DIV/0!"}},{"$f":"AVERAGE(April!N40,May!N10:N13)","v":{"$error":"#DIV/0!"}},{"$error":"#DIV/0!"},{"$error":"#DIV/0!"}]
[null,{"$f":"DATE('Annual Summary'!$G$7,5,ROW()-9)","v":"2023-05-05"},null,null,"",null,"","","","","","",null,null,null,{"$error":"#DIV/0!"},null,null,null,"",{"$f":"AVERAGE(E10:E14)","v":{"$error":"#DIV/0!"}},{"$f":"AVERAGE(N10:N14)","v":{"$error":"#DIV/0!"}},{"$error":"#DIV/0!"},{"$error":"#DIV/0!"}]
[null,{"$f":"DATE('Annual Summary'!$G$7,5,ROW()-9)","v":"2023-05-06"},null,null,"",null,"","","","","","",null,null,null,{"$error":"#DIV/0!"},null,null,null,"",{"$f":"AVERAGE(E11:E15)","v":{"$error":"#DIV/0!"}},{"$f":"AVERAGE(N11:N15)","v":{"$error":"#DIV/0!"}},{"$error":"#DIV/0!"},{"$error":"#DIV/0!"}]
[null,{"$f":"DATE('Annual Summary'!$G$7,5,ROW()-9)","v":"2023-05-07"},null,null,"",null,"","","","","","",null,null,null,{"$error":"#DIV/0!"},null,null,null,"",{"$f":"AVERAGE(E12:E16)","v":{"$error":"#DIV/0!"}},{"$error":"#DIV/0!"},{"$error":"#DIV/0!"},{"$error":"#DIV/0!"}]
[null,{"$f":"DATE('Annual Summary'!$G$7,5,ROW()-9)","v":"2023-05-08"},null,null,"",null,"","","","","","",null,null,null,{"$error":"#DIV/0!"},null,null,null,"",{"$error":"#DIV/0!"},{"$error":"#DIV/0!"},{"$error":"#DIV/0!"},{"$error":"#DIV/0!"}]
[null,{"$f":"DATE('Annual Summary'!$G$7,5,ROW()-9)","v":"2023-05-09"},null,null,"",null,"","","","","","",null,null,null,{"$error":"#DIV/0!"},null,null,null,"",{"$error":"#DIV/0!"},{"$error":"#DIV/0!"},{"$error":"#DIV/0!"},{"$error":"#DIV/0!"}]
[null,{"$f":"DATE('Annual Summary'!$G$7,5,ROW()-9)","v":"2023-05-10"},null,null,"",null,"","","","","","",null,null,null,{"$error":"#DIV/0!"},null,null,null,"",{"$error":"#DIV/0!"},{"$error":"#DIV/0!"},{"$error":"#DIV/0!"},{"$error":"#DIV/0!"}]
[null,{"$f":"DATE('Annual Summary'!$G$7,5,ROW()-9)","v":"2023-05-11"},null,null,"",null,"","","","","","",null,null,null,{"$error":"#DIV/0!"},null,null,null,"",{"$error":"#DIV/0!"},{"$error":"#DIV/0!"},{"$error":"#DIV/0!"},{"$error":"#DIV/0!"}]
[null,{"$f":"DATE('Annual Summary'!$G$7,5,ROW()-9)","v":"2023-05-12"},null,null,"",null,"","","","","","",null,null,null,{"$error":"#DIV/0!"},null,null,null,"",{"$error":"#DIV/0!"},{"$error":"#DIV/0!"},{"$error":"#DIV/0!"},{"$error":"#DIV/0!"}]
[null,{"$f":"DATE('Annual Summary'!$G$7,5,ROW()-9)","v":"2023-05-13"},null,null,"",null,"","","","","","",null,null,null,{"$error":"#DIV/0!"},null,null,null,"",{"$error":"#DIV/0!"},{"$error":"#DIV/0!"},{"$error":"#DIV/0!"},{"$error":"#DIV/0!"}]
[null,{"$f":"DATE('Annual Summary'!$G$7,5,ROW()-9)","v":"2023-05-14"},null,null,"",null,"","","","","","",null,null,null,{"$error":"#DIV/0!"},null,null,null,"",{"$error":"#DIV/0!"},{"$error":"#DIV/0!"},{"$error":"#DIV/0!"},{"$error":"#DIV/0!"}]
[null,{"$f":"DATE('Annual Summary'!$G$7,5,ROW()-9)","v":"2023-05-15"},null,null,"",null,"","","","","","",null,null,null,{"$error":"#DIV/0!"},null,null,null,"",{"$error":"#DIV/0!"},{"$error":"#DIV/0!"},{"$error":"#DIV/0!"},{"$error":"#DIV/0!"}]
[null,{"$f":"DATE('Annual Summary'!$G$7,5,ROW()-9)","v":"2023-05-16"},null,null,"",null,"","","","","","",null,null,null,{"$error":"#DIV/0!"},null,null,null,"",{"$error":"#DIV/0!"},{"$error":"#DIV/0!"},{"$error":"#DIV/0!"},{"$error":"#DIV/0!"}]
[null,{"$f":"DATE('Annual Summary'!$G$7,5,ROW()-9)","v":"2023-05-17"},null,null,"",null,"","","","","","",null,null,null,{"$error":"#DIV/0!"},null,null,null,"",{"$error":"#DIV/0!"},{"$error":"#DIV/0!"},{"$error":"#DIV/0!"},{"$error":"#DIV/0!"}]
[null,{"$f":"DATE('Annual Summary'!$G$7,5,ROW()-9)","v":"2023-05-18"},null,null,"",null,"","","","","","",null,null,null,{"$error":"#DIV/0!"},null,null,null,"",{"$error":"#DIV/0!"},{"$error":"#DIV/0!"},{"$error":"#DIV/0!"},{"$error":"#DIV/0!"}]
[null,{"$f":"DATE('Annual Summary'!$G$7,5,ROW()-9)","v":"2023-05-19"},null,null,"",null,"","","","","","",null,null,null,{"$error":"#DIV/0!"},null,null,null,"",{"$error":"#DIV/0!"},{"$error":"#DIV/0!"},{"$error":"#DIV/0!"},{"$error":"#DIV/0!"}]
[null,{"$f":"DATE('Annual Summary'!$G$7,5,ROW()-9)","v":"2023-05-20"},null,null,"",null,"","","","","","",null,null,null,{"$error":"#DIV/0!"},null,null,null,"",{"$error":"#DIV/0!"},{"$error":"#DIV/0!"},{"$error":"#DIV/0!"},{"$error":"#DIV/0!"}]
[null,{"$f":"DATE('Annual Summary'!$G$7,5,ROW()-9)","v":"2023-05-21"},null,null,"",null,"","","","","","",null,null,null,{"$error":"#DIV/0!"},null,null,null,"",{"$error":"#DIV/0!"},{"$error":"#DIV/0!"},{"$error":"#DIV/0!"},{"$error":"#DIV/0!"}]
[null,{"$f":"DATE('Annual Summary'!$G$7,5,ROW()-9)","v":"2023-05-22"},null,null,"",null,"","","","","","",null,null,null,{"$error":"#DIV/0!"},null,null,null,"",{"$error":"#DIV/0!"},{"$error":"#DIV/0!"},{"$error":"#DIV/0!"},{"$error":"#DIV/0!"}]
[null,{"$f":"DATE('Annual Summary'!$G$7,5,ROW()-9)","v":"2023-05-23"},null,null,"",null,"","","","","","",null,null,null,{"$error":"#DIV/0!"},null,null,null,"",{"$error":"#DIV/0!"},{"$error":"#DIV/0!"},{"$error":"#DIV/0!"},{"$error":"#DIV/0!"}]
[null,{"$f":"DATE('Annual Summary'!$G$7,5,ROW()-9)","v":"2023-05-24"},null,null,"",null,"","","","","","",null,null,null,{"$error":"#DIV/0!"},null,null,null,"",{"$f":"AVERAGE(E29:E33)","v":{"$error":"#DIV/0!"}},{"$error":"#DIV/0!"},{"$error":"#DIV/0!"},{"$error":"#DIV/0!"}]
[null,{"$f":"DATE('Annual Summary'!$G$7,5,ROW()-9)","v":"2023-05-25"},null,null,"",null,"","","","","","",null,null,null,{"$error":"#DIV/0!"},null,null,null,"",{"$f":"AVERAGE(E30:E34)","v":{"$error":"#DIV/0!"}},{"$error":"#DIV/0!"},{"$f":"(-11.4041+(0.0894*V34)+(0.1932*U34))","v":{"$error":"#DIV/0!"}},{"$error":"#DIV/0!"}]
[null,{"$f":"DATE('Annual Summary'!$G$7,5,ROW()-9)","v":"2023-05-26"},null,null,"",null,"","","","","","",null,null,null,{"$error":"#DIV/0!"},null,null,null,"",{"$f":"AVERAGE(E31:E35)","v":{"$error":"#DIV/0!"}},{"$error":"#DIV/0!"},{"$error":"#DIV/0!"},{"$error":"#DIV/0!"}]
[null,{"$f":"DATE('Annual Summary'!$G$7,5,ROW()-9)","v":"2023-05-27"},null,null,"",null,"","","","","","",null,null,null,{"$error":"#DIV/0!"},null,null,null,"",{"$error":"#DIV/0!"},{"$error":"#DIV/0!"},{"$error":"#DIV/0!"},{"$error":"#DIV/0!"}]
[null,{"$f":"DATE('Annual Summary'!$G$7,5,ROW()-9)","v":"2023-05-28"},null,null,"",null,"","","","","","",null,null,null,{"$error":"#DIV/0!"},null,null,null,"",{"$error":"#DIV/0!"},{"$error":"#DIV/0!"},{"$error":"#DIV/0!"},{"$error":"#DIV/0!"}]
[null,{"$f":"DATE('Annual Summary'!$G$7,5,ROW()-9)","v":"2023-05-29"},null,null,"",null,"","","","","","",null,null,null,{"$error":"#DIV/0!"},null,null,null,"",{"$error":"#DIV/0!"},{"$error":"#DIV/0!"},{"$error":"#DIV/0!"},{"$error":"#DIV/0!"}]
[null,{"$f":"DATE('Annual Summary'!$G$7,5,ROW()-9)","v":"2023-05-30"},null,null,"",null,"","","","","","",null,null,null,{"$error":"#DIV/0!"},null,null,null,"",{"$error":"#DIV/0!"},{"$error":"#DIV/0!"},{"$error":"#DIV/0!"},{"$error":"#DIV/0!"}]
[null,{"$f":"DATE('Annual Summary'!$G$7,5,ROW()-9)","v":"2023-05-31"},null,null,"",null,"","","","","","",null,null,null,{"$error":"#DIV/0!"},null,null,null,"",{"$f":"AVERAGE(E36:E40)","v":{"$error":"#DIV/0!"}},{"$f":"AVERAGE(N36:N40)","v":{"$error":"#DIV/0!"}},{"$f":"(-11.4041+(0.0894*V40)+(0.1932*U40))","v":{"$error":"#DIV/0!"}},{"$f":"IF(OR(U40<=10,U40>=35),0,(EXP(W40))/(1+EXP(W40)))","v":{"$error":"#DIV/0!"}}]
[]
[null,"Monthly Average/Total",{"$f":"IF(ISERROR(AVERAGE($C$10:$C$40)),\"\",AVERAGE($C$10:$C$40))","v":""},{"$f":"IF(ISERROR(AVERAGE($D$10:$D$40)),\"\",AVERAGE($D$10:$D$40))","v":""},{"$f":"IFERROR(AVERAGE($E$10:$E$40),\"\")","v":""},{"$f":"IF(SUM($F$10:$F$40)=0,\"\",SUM($F$10:$F$40))","v":""},{"$f":"IFERROR(AVERAGE($G$10:$G$40),\"\")","v":""},{"$f":"IFERROR(LOOKUP(2,1/($H$10:$H$40<>\"\"),$H$10:$H$40),\"\")","v":""},{"$f":"_xlfn.IFNA(IFERROR(LOOKUP(2,1/($I$10:$I$40<>\"\"),$I$10:$I$40),LOOKUP(2,1/($H$10:$H$40<>\"\"),$H$10:$H$40)),\"\")","v":""},{"$f":"IFERROR(AVERAGE($J$10:$J$40),\"\")","v":""},{"$f":"IFERROR(LOOKUP(2,1/($K$10:$K$40<>\"\"),$K$10:$K$40),\"\")","v":""},{"$f":"_xlfn.IFNA(IFERROR(LOOKUP(2,1/($L$10:$L$40<>\"\"),$L$10:$L$40),LOOKUP(2,1/($K$10:$K$40<>\"\"),$K$10:$K$40)),\"\")","v":""},{"$f":"IF(SUM($M$10:$M$40)=0,\"\",SUM($M$10:$M$40))","v":""},{"$f":"IF(ISERROR(AVERAGE($N$10:$N$40)),\"\",AVERAGE($N$10:$N$40))","v":""},{"$f":"IF(SUM($O$10:$O$40)=0,\"\",SUM($O$10:$O$40))","v":""},null,null,null,null,{"$f":"SUM($T$10:$T$40)","v":0}]

{"sheet":"June","index":8,"n_rows":42,"n_cols":24,"rows_kept":42,"cut":false,"hidden":false,"merged":[[5,5,5,10]]}
[]
[]
[]
[]
[]
[null,null,null,null,null,{"$f":"MID(CELL(\"filename\",A1),FIND(\"]\",CELL(\"filename\",A1))+1,255) & \" \" & 'Annual Summary'!$G$7 & \" Weather Stats\"","v":"June 2023 Weather Stats"}]
[]
[]
[null,"Date","Min Air Temp (C)","Max Air Temp (C)","Average Air Temp (C)","Rainfall (mm)","Growth Degree Days","Cumulative GDD (Month)","Cumulative GDD (Year)","Growth Potential","Cumulative GP (Month)","Cumulative GP (Year)","Clipping Yield","Humidity % ","E.T (mm)","Smith Kerns Model","Microdochium Activity ","Anthracnose Activity ","Dollar Spot Activity","GP for C4 Grass","5-day average temp","5-day average humidity","Logit"]
[null,{"$f":"DATE('Annual Summary'!$G$7,6,ROW()-9)","v":"2023-06-01"},null,null,{"$f":"IFERROR(AVERAGE($C10,$D10),\"\")","v":""},null,{"$f":"IFERROR(IF(($E10-6)>0,$E10-6,0),\"\")","v":""},{"$f":"IF(ISBLANK($G$10),\"\",$G$10)","v":""},{"$f":"IFERROR(INDIRECT(TEXT(DATE('Annual Summary'!$G$7,MONTH($B10)-1,1),\"mmmm\") &\"!$I$42\") + IF($G$10=\"\",0,$G$10),\"\")","v":""},{"$f":"IFERROR(2.71828^(-0.5*(($E10-18)/5.5)^2),\"\")","v":""},{"$f":"IF(ISBLANK($J$10),\"\",$J$10)","v":""},{"$f":"IFERROR(INDIRECT(TEXT(DATE('Annual Summary'!$G$7,MONTH($B10)-1,1),\"mmmm\") &\"!$L$42\") + IF($K$10=\"\",0,$K$10),\"\")","v":""},null,null,null,{"$f":"VLOOKUP($B10,Data!$A:$J,10,FALSE)","v":""},null,null,null,{"$f":"IFERROR(2.71828^(-0.5*(($E10-31)/7.3)^2),\"\")","v":""},{"$f":"AVERAGE(May!E37:E40,June!E10)","v":{"$error":"#DIV/0!"}},{"$f":"AVERAGE(May!N37:N40,June!N10)","v":{"$error":"#DIV/0!"}},{"$f":"(-11.4041+(0.0894*V10)+(0.1932*U10))","v":{"$error":"#DIV/0!"}},{"$f":"IF(OR(U10<=10,U10>=35),0,(EXP(W10))/(1+EXP(W10)))","v":{"$error":"#DIV/0!"}}]
[null,{"$f":"DATE('Annual Summary'!$G$7,6,ROW()-9)","v":"2023-06-02"},null,null,{"$f":"IFERROR(AVERAGE($C11,$D11),\"\")","v":""},null,{"$f":"IFERROR(IF(($E11-6)>0,$E11-6,0),\"\")","v":""},{"$f":"IFERROR($H10+$G11,\"\")","v":""},{"$f":"IFERROR($I10+$G11,\"\")","v":""},{"$f":"IFERROR(2.71828^(-0.5*(($E11-18)/5.5)^2),\"\")","v":""},{"$f":"IFERROR($K10+$J11,\"\")","v":""},{"$f":"IFERROR($L10+$J11,\"\")","v":""},null,null,null,{"$f":"VLOOKUP($B11,Data!$A:$J,10,FALSE)","v":""},null,null,null,{"$f":"IFERROR(2.71828^(-0.5*(($E11-31)/7.3)^2),\"\")","v":""},{"$f":"AVERAGE(May!E38:E40,June!E10:E11)","v":{"$error":"#DIV/0!"}},{"$f":"AVERAGE(May!N38:N40,June!N10:N11)","v":{"$error":"#DIV/0!"}},{"$f":"(-11.4041+(0.0894*V11)+(0.1932*U11))","v":{"$error":"#DIV/0!"}},{"$f":"IF(OR(U11<=10,U11>=35),0,(EXP(W11))/(1+EXP(W11)))","v":{"$error":"#DIV/0!"}}]
[null,{"$f":"DATE('Annual Summary'!$G$7,6,ROW()-9)","v":"2023-06-03"},null,null,"",null,"",{"$f":"IFERROR($H11+$G12,\"\")","v":""},{"$f":"IFERROR($I11+$G12,\"\")","v":""},"",{"$f":"IFERROR($K11+$J12,\"\")","v":""},{"$f":"IFERROR($L11+$J12,\"\")","v":""},null,null,null,{"$f":"VLOOKUP($B12,Data!$A:$J,10,FALSE)","v":""},null,null,null,"",{"$f":"AVERAGE(May!E39:E40,June!E10:E12)","v":{"$error":"#DIV/0!"}},{"$f":"AVERAGE(May!N39:N40,June!N10:N12)","v":{"$error":"#DIV/0!"}},{"$f":"(-11.4041+(0.0894*V12)+(0.1932*U12))","v":{"$error":"#DIV/0!"}},{"$error":"#DIV/0!"}]
[null,{"$f":"DATE('Annual Summary'!$G$7,6,ROW()-9)","v":"2023-06-04"},null,null,"",null,"","","","","","",null,null,null,{"$f":"VLOOKUP($B13,Data!$A:$J,10,FALSE)","v":""},null,null,null,"",{"$f":"AVERAGE(May!E40,June!E10:E13)","v":{"$error":"#DIV/0!"}},{"$f":"AVERAGE(May!N40,June!N10:N13)","v":{"$error":"#DIV/0!"}},{"$error":"#DIV/0!"},{"$error":"#DIV/0!"}]
[null,{"$f":"DATE('Annual Summary'!$G$7,6,ROW()-9)","v":"2023-06-05"},null,null,"",null,"","","","","","",null,null,null,{"$f":"VLOOKUP($B14,Data!$A:$J,10,FALSE)","v":""},null,null,null,"",{"$f":"AVERAGE(E10:E14)","v":{"$error":"#DIV/0!"}},{"$f":"AVERAGE(N10:N14)","v":{"$error":"#DIV/0!"}},{"$error":"#DIV/0!"},{"$error":"#DIV/0!"}]
[null,{"$f":"DATE('Annual Summary'!$G$7,6,ROW()-9)","v":"2023-06-06"},null,null,"",null,"","","","","","",null,null,null,{"$f":"VLOOKUP($B15,Data!$A:$J,10,FALSE)","v":""},null,null,null,"",{"$f":"AVERAGE(E11:E15)","v":{"$error":"#DIV/0!"}},{"$f":"AVERAGE(N11:N15)","v":{"$error":"#DIV/0!"}},{"$error":"#DIV/0!"},{"$error":"#DIV/0!"}]
[null,{"$f":"DATE('Annual Summary'!$G$7,6,ROW()-9)","v":"2023-06-07"},null,null,"",null,"","","","","","",null,null,null,{"$f":"VLOOKUP($B16,Data!$A:$J,10,FALSE)","v":""},null,null,null,"",{"$f":"AVERAGE(E12:E16)","v":{"$error":"#DIV/0!"}},{"$error":"#DIV/0!"},{"$error":"#DIV/0!"},{"$error":"#DIV/0!"}]
[null,{"$f":"DATE('Annual Summary'!$G$7,6,ROW()-9)","v":"2023-06-08"},null,null,"",null,"","","","","","",null,null,null,{"$f":"VLOOKUP($B17,Data!$A:$J,10,FALSE)","v":""},null,null,null,"",{"$error":"#DIV/0!"},{"$error":"#DIV/0!"},{"$error":"#DIV/0!"},{"$error":"#DIV/0!"}]
[null,{"$f":"DATE('Annual Summary'!$G$7,6,ROW()-9)","v":"2023-06-09"},null,null,"",null,"","","","","","",null,null,null,{"$f":"VLOOKUP($B18,Data!$A:$J,10,FALSE)","v":""},null,null,null,"",{"$error":"#DIV/0!"},{"$error":"#DIV/0!"},{"$error":"#DIV/0!"},{"$error":"#DIV/0!"}]
[null,{"$f":"DATE('Annual Summary'!$G$7,6,ROW()-9)","v":"2023-06-10"},null,null,"",null,"","","","","","",null,null,null,{"$f":"VLOOKUP($B19,Data!$A:$J,10,FALSE)","v":""},null,null,null,"",{"$error":"#DIV/0!"},{"$error":"#DIV/0!"},{"$error":"#DIV/0!"},{"$error":"#DIV/0!"}]
[null,{"$f":"DATE('Annual Summary'!$G$7,6,ROW()-9)","v":"2023-06-11"},null,null,"",null,"","","","","","",null,null,null,{"$f":"VLOOKUP($B20,Data!$A:$J,10,FALSE)","v":""},null,null,null,"",{"$error":"#DIV/0!"},{"$error":"#DIV/0!"},{"$error":"#DIV/0!"},{"$error":"#DIV/0!"}]
[null,{"$f":"DATE('Annual Summary'!$G$7,6,ROW()-9)","v":"2023-06-12"},null,null,"",null,"","","","","","",null,null,null,{"$f":"VLOOKUP($B21,Data!$A:$J,10,FALSE)","v":""},null,null,null,"",{"$error":"#DIV/0!"},{"$error":"#DIV/0!"},{"$error":"#DIV/0!"},{"$error":"#DIV/0!"}]
[null,{"$f":"DATE('Annual Summary'!$G$7,6,ROW()-9)","v":"2023-06-13"},null,null,"",null,"","","","","","",null,null,null,{"$f":"VLOOKUP($B22,Data!$A:$J,10,FALSE)","v":""},null,null,null,"",{"$error":"#DIV/0!"},{"$error":"#DIV/0!"},{"$error":"#DIV/0!"},{"$error":"#DIV/0!"}]
[null,{"$f":"DATE('Annual Summary'!$G$7,6,ROW()-9)","v":"2023-06-14"},null,null,"",null,"","","","","","",null,null,null,{"$f":"VLOOKUP($B23,Data!$A:$J,10,FALSE)","v":""},null,null,null,"",{"$error":"#DIV/0!"},{"$error":"#DIV/0!"},{"$error":"#DIV/0!"},{"$error":"#DIV/0!"}]
[null,{"$f":"DATE('Annual Summary'!$G$7,6,ROW()-9)","v":"2023-06-15"},null,null,"",null,"","","","","","",null,null,null,{"$f":"VLOOKUP($B24,Data!$A:$J,10,FALSE)","v":""},null,null,null,"",{"$error":"#DIV/0!"},{"$error":"#DIV/0!"},{"$error":"#DIV/0!"},{"$error":"#DIV/0!"}]
[null,{"$f":"DATE('Annual Summary'!$G$7,6,ROW()-9)","v":"2023-06-16"},null,null,"",null,"","","","","","",null,null,null,{"$f":"VLOOKUP($B25,Data!$A:$J,10,FALSE)","v":""},null,null,null,"",{"$error":"#DIV/0!"},{"$error":"#DIV/0!"},{"$error":"#DIV/0!"},{"$error":"#DIV/0!"}]
[null,{"$f":"DATE('Annual Summary'!$G$7,6,ROW()-9)","v":"2023-06-17"},null,null,"",null,"","","","","","",null,null,null,{"$f":"VLOOKUP($B26,Data!$A:$J,10,FALSE)","v":""},null,null,null,"",{"$error":"#DIV/0!"},{"$error":"#DIV/0!"},{"$error":"#DIV/0!"},{"$error":"#DIV/0!"}]
[null,{"$f":"DATE('Annual Summary'!$G$7,6,ROW()-9)","v":"2023-06-18"},null,null,"",null,"","","","","","",null,null,null,{"$f":"VLOOKUP($B27,Data!$A:$J,10,FALSE)","v":""},null,null,null,"",{"$error":"#DIV/0!"},{"$error":"#DIV/0!"},{"$error":"#DIV/0!"},{"$error":"#DIV/0!"}]
[null,{"$f":"DATE('Annual Summary'!$G$7,6,ROW()-9)","v":"2023-06-19"},null,null,"",null,"","","","","","",null,null,null,{"$f":"VLOOKUP($B28,Data!$A:$J,10,FALSE)","v":""},null,null,null,"",{"$error":"#DIV/0!"},{"$error":"#DIV/0!"},{"$error":"#DIV/0!"},{"$error":"#DIV/0!"}]
[null,{"$f":"DATE('Annual Summary'!$G$7,6,ROW()-9)","v":"2023-06-20"},null,null,"",null,"","","","","","",null,null,null,{"$f":"VLOOKUP($B29,Data!$A:$J,10,FALSE)","v":""},null,null,null,"",{"$error":"#DIV/0!"},{"$error":"#DIV/0!"},{"$error":"#DIV/0!"},{"$error":"#DIV/0!"}]
[null,{"$f":"DATE('Annual Summary'!$G$7,6,ROW()-9)","v":"2023-06-21"},null,null,"",null,"","","","","","",null,null,null,{"$f":"VLOOKUP($B30,Data!$A:$J,10,FALSE)","v":""},null,null,null,"",{"$error":"#DIV/0!"},{"$error":"#DIV/0!"},{"$error":"#DIV/0!"},{"$error":"#DIV/0!"}]
[null,{"$f":"DATE('Annual Summary'!$G$7,6,ROW()-9)","v":"2023-06-22"},null,null,"",null,"","","","","","",null,null,null,{"$f":"VLOOKUP($B31,Data!$A:$J,10,FALSE)","v":""},null,null,null,"",{"$error":"#DIV/0!"},{"$error":"#DIV/0!"},{"$error":"#DIV/0!"},{"$error":"#DIV/0!"}]
[null,{"$f":"DATE('Annual Summary'!$G$7,6,ROW()-9)","v":"2023-06-23"},null,null,"",null,"","","","","","",null,null,null,{"$f":"VLOOKUP($B32,Data!$A:$J,10,FALSE)","v":""},null,null,null,"",{"$error":"#DIV/0!"},{"$error":"#DIV/0!"},{"$error":"#DIV/0!"},{"$error":"#DIV/0!"}]
[null,{"$f":"DATE('Annual Summary'!$G$7,6,ROW()-9)","v":"2023-06-24"},null,null,"",null,"","","","","","",null,null,null,{"$f":"VLOOKUP($B33,Data!$A:$J,10,FALSE)","v":""},null,null,null,"",{"$f":"AVERAGE(E29:E33)","v":{"$error":"#DIV/0!"}},{"$error":"#DIV/0!"},{"$error":"#DIV/0!"},{"$error":"#DIV/0!"}]
[null,{"$f":"DATE('Annual Summary'!$G$7,6,ROW()-9)","v":"2023-06-25"},null,null,"",null,"","","","","","",null,null,null,{"$f":"VLOOKUP($B34,Data!$A:$J,10,FALSE)","v":""},null,null,null,"",{"$f":"AVERAGE(E30:E34)","v":{"$error":"#DIV/0!"}},{"$error":"#DIV/0!"},{"$f":"(-11.4041+(0.0894*V34)+(0.1932*U34))","v":{"$error":"#DIV/0!"}},{"$error":"#DIV/0!"}]
[null,{"$f":"DATE('Annual Summary'!$G$7,6,ROW()-9)","v":"2023-06-26"},null,null,"",null,"","","","","","",null,null,null,{"$f":"VLOOKUP($B35,Data!$A:$J,10,FALSE)","v":""},null,null,null,"",{"$f":"AVERAGE(E31:E35)","v":{"$error":"#DIV/0!"}},{"$error":"#DIV/0!"},{"$error":"#DIV/0!"},{"$error":"#DIV/0!"}]
[null,{"$f":"DATE('Annual Summary'!$G$7,6,ROW()-9)","v":"2023-06-27"},null,null,"",null,"","","","","","",null,null,null,{"$f":"VLOOKUP($B36,Data!$A:$J,10,FALSE)","v":""},null,null,null,"",{"$error":"#DIV/0!"},{"$error":"#DIV/0!"},{"$error":"#DIV/0!"},{"$error":"#DIV/0!"}]
[null,{"$f":"DATE('Annual Summary'!$G$7,6,ROW()-9)","v":"2023-06-28"},null,null,"",null,"","","","","","",null,null,null,{"$f":"VLOOKUP($B37,Data!$A:$J,10,FALSE)","v":""},null,null,null,"",{"$error":"#DIV/0!"},{"$error":"#DIV/0!"},{"$error":"#DIV/0!"},{"$error":"#DIV/0!"}]
[null,{"$f":"DATE('Annual Summary'!$G$7,6,ROW()-9)","v":"2023-06-29"},null,null,"",null,"","","","","","",null,null,null,{"$f":"VLOOKUP($B38,Data!$A:$J,10,FALSE)","v":""},null,null,null,"",{"$error":"#DIV/0!"},{"$error":"#DIV/0!"},{"$error":"#DIV/0!"},{"$error":"#DIV/0!"}]
[null,{"$f":"DATE('Annual Summary'!$G$7,6,ROW()-9)","v":"2023-06-30"},null,null,"",null,"","","","","","",null,null,null,{"$f":"VLOOKUP($B39,Data!$A:$J,10,FALSE)","v":""},null,null,null,"",{"$error":"#DIV/0!"},{"$error":"#DIV/0!"},{"$error":"#DIV/0!"},{"$error":"#DIV/0!"}]
[]
[]
[null,"Monthly Average/Total",{"$f":"IF(ISERROR(AVERAGE($C$10:$C$40)),\"\",AVERAGE($C$10:$C$40))","v":""},{"$f":"IF(ISERROR(AVERAGE($D$10:$D$40)),\"\",AVERAGE($D$10:$D$40))","v":""},{"$f":"IFERROR(AVERAGE($E$10:$E$40),\"\")","v":""},{"$f":"IF(SUM($F$10:$F$40)=0,\"\",SUM($F$10:$F$40))","v":""},{"$f":"IFERROR(AVERAGE($G$10:$G$40),\"\")","v":""},{"$f":"IFERROR(LOOKUP(2,1/($H$10:$H$40<>\"\"),$H$10:$H$40),\"\")","v":""},{"$f":"_xlfn.IFNA(IFERROR(LOOKUP(2,1/($I$10:$I$40<>\"\"),$I$10:$I$40),LOOKUP(2,1/($H$10:$H$40<>\"\"),$H$10:$H$40)),\"\")","v":""},{"$f":"IFERROR(AVERAGE($J$10:$J$40),\"\")","v":""},{"$f":"IFERROR(LOOKUP(2,1/($K$10:$K$40<>\"\"),$K$10:$K$40),\"\")","v":""},{"$f":"_xlfn.IFNA(IFERROR(LOOKUP(2,1/($L$10:$L$40<>\"\"),$L$10:$L$40),LOOKUP(2,1/($K$10:$K$40<>\"\"),$K$10:$K$40)),\"\")","v":""},{"$f":"IF(SUM($M$10:$M$40)=0,\"\",SUM($M$10:$M$40))","v":""},{"$f":"IF(ISERROR(AVERAGE($N$10:$N$40)),\"\",AVERAGE($N$10:$N$40))","v":""},{"$f":"IF(SUM($O$10:$O$40)=0,\"\",SUM($O$10:$O$40))","v":""},null,null,null,null,{"$f":"SUM($T$10:$T$40)","v":0}]

{"sheet":"July","index":9,"n_rows":42,"n_cols":24,"rows_kept":42,"cut":false,"hidden":false,"merged":[[5,5,5,10]]}
[]
[]
[]
[]
[]
[null,null,null,null,null,{"$f":"MID(CELL(\"filename\",A1),FIND(\"]\",CELL(\"filename\",A1))+1,255) & \" \" & 'Annual Summary'!$G$7 & \" Weather Stats\"","v":"July 2023 Weather Stats"}]
[]
[]
[null,"Date","Min Air Temp (C)","Max Air Temp (C)","Average Air Temp (C)","Rainfall (mm)","Growth Degree Days","Cumulative GDD (Month)","Cumulative GDD (Year)","Growth Potential","Cumulative GP (Month)","Cumulative GP (Year)","Clipping Yield","Humidity % ","E.T (mm)","Smith Kerns Model","Microdochium Activity ","Anthracnose Activity ","Dollar Spot Activity","GP for C4 Grass","5-day average temp","5-day average humidity","Logit"]
[null,{"$f":"DATE('Annual Summary'!$G$7,7,ROW()-9)","v":"2023-07-01"},null,null,{"$f":"IFERROR(AVERAGE($C10,$D10),\"\")","v":""},null,{"$f":"IFERROR(IF(($E10-6)>0,$E10-6,0),\"\")","v":""},{"$f":"IF(ISBLANK($G$10),\"\",$G$10)","v":""},{"$f":"IFERROR(INDIRECT(TEXT(DATE('Annual Summary'!$G$7,MONTH($B10)-1,1),\"mmmm\") &\"!$I$42\") + IF($G$10=\"\",0,$G$10),\"\")","v":""},{"$f":"IFERROR(2.71828^(-0.5*(($E10-18)/5.5)^2),\"\")","v":""},{"$f":"IF(ISBLANK($J$10),\"\",$J$10)","v":""},{"$f":"IFERROR(INDIRECT(TEXT(DATE('Annual Summary'!$G$7,MONTH($B10)-1,1),\"mmmm\") &\"!$L$42\") + IF($K$10=\"\",0,$K$10),\"\")","v":""},null,null,null,{"$f":"X10","v":{"$error":"#DIV/0!"}},null,null,null,{"$f":"IFERROR(2.71828^(-0.5*(($E10-31)/7.3)^2),\"\")","v":""},{"$f":"AVERAGE(June!E36:E39,July!E10)","v":{"$error":"#DIV/0!"}},{"$f":"AVERAGE(June!N36:N39,July!N10)","v":{"$error":"#DIV/0!"}},{"$f":"(-11.4041+(0.0894*V10)+(0.1932*U10))","v":{"$error":"#DIV/0!"}},{"$f":"IF(OR(U10<=10,U10>=35),0,(EXP(W10))/(1+EXP(W10)))","v":{"$error":"#DIV/0!"}}]
[null,{"$f":"DATE('Annual Summary'!$G$7,7,ROW()-9)","v":"2023-07-02"},null,null,{"$f":"IFERROR(AVERAGE($C11,$D11),\"\")","v":""},null,{"$f":"IFERROR(IF(($E11-6)>0,$E11-6,0),\"\")","v":""},{"$f":"IFERROR($H10+$G11,\"\")","v":""},{"$f":"IFERROR($I10+$G11,\"\")","v":""},{"$f":"IFERROR(2.71828^(-0.5*(($E11-18)/5.5)^2),\"\")","v":""},{"$f":"IFERROR($K10+$J11,\"\")","v":""},{"$f":"IFERROR($L10+$J11,\"\")","v":""},null,null,null,{"$f":"X11","v":{"$error":"#DIV/0!"}},null,null,null,{"$f":"IFERROR(2.71828^(-0.5*(($E11-31)/7.3)^2),\"\")","v":""},{"$f":"AVERAGE(June!E37:E39,July!E10:E11)","v":{"$error":"#DIV/0!"}},{"$f":"AVERAGE(June!N37:N39,July!N10:N11)","v":{"$error":"#DIV/0!"}},{"$f":"(-11.4041+(0.0894*V11)+(0.1932*U11))","v":{"$error":"#DIV/0!"}},{"$f":"IF(OR(U11<=10,U11>=35),0,(EXP(W11))/(1+EXP(W11)))","v":{"$error":"#DIV/0!"}}]
[null,{"$f":"DATE('Annual Summary'!$G$7,7,ROW()-9)","v":"2023-07-03"},null,null,"",null,"",{"$f":"IFERROR($H11+$G12,\"\")","v":""},{"$f":"IFERROR($I11+$G12,\"\")","v":""},"",{"$f":"IFERROR($K11+$J12,\"\")","v":""},{"$f":"IFERROR($L11+$J12,\"\")","v":""},null,null,null,{"$error":"#DIV/0!"},null,null,null,"",{"$f":"AVERAGE(June!E38:E39,July!E10:E12)","v":{"$error":"#DIV/0!"}},{"$f":"AVERAGE(June!N38:N39,July!N10:N12)","v":{"$error":"#DIV/0!"}},{"$f":"(-11.4041+(0.0894*V12)+(0.1932*U12))","v":{"$error":"#DIV/0!"}},{"$error":"#DIV/0!"}]
[null,{"$f":"DATE('Annual Summary'!$G$7,7,ROW()-9)","v":"2023-07-04"},null,null,"",null,"","","","","","",null,null,null,{"$error":"#DIV/0!"},null,null,null,"",{"$f":"AVERAGE(June!E39,July!E10:E13)","v":{"$error":"#DIV/0!"}},{"$f":"AVERAGE(June!N39,July!N10:N13)","v":{"$error":"#DIV/0!"}},{"$error":"#DIV/0!"},{"$error":"#DIV/0!"}]
[null,{"$f":"DATE('Annual Summary'!$G$7,7,ROW()-9)","v":"2023-07-05"},null,null,"",null,"","","","","","",null,null,null,{"$error":"#DIV/0!"},null,null,null,"",{"$f":"AVERAGE(E10:E14)","v":{"$error":"#DIV/0!"}},{"$f":"AVERAGE(N10:N14)","v":{"$error":"#DIV/0!"}},{"$error":"#DIV/0!"},{"$error":"#DIV/0!"}]
[null,{"$f":"DATE('Annual Summary'!$G$7,7,ROW()-9)","v":"2023-07-06"},null,null,"",null,"","","","","","",null,null,null,{"$error":"#DIV/0!"},null,null,null,"",{"$f":"AVERAGE(E11:E15)","v":{"$error":"#DIV/0!"}},{"$f":"AVERAGE(N11:N15)","v":{"$error":"#DIV/0!"}},{"$error":"#DIV/0!"},{"$error":"#DIV/0!"}]
[null,{"$f":"DATE('Annual Summary'!$G$7,7,ROW()-9)","v":"2023-07-07"},null,null,"",null,"","","","","","",null,null,null,{"$error":"#DIV/0!"},null,null,null,"",{"$f":"AVERAGE(E12:E16)","v":{"$error":"#DIV/0!"}},{"$error":"#DIV/0!"},{"$error":"#DIV/0!"},{"$error":"#DIV/0!"}]
[null,{"$f":"DATE('Annual Summary'!$G$7,7,ROW()-9)","v":"2023-07-08"},null,null,"",null,"","","","","","",null,null,null,{"$error":"#DIV/0!"},null,null,null,"",{"$error":"#DIV/0!"},{"$error":"#DIV/0!"},{"$error":"#DIV/0!"},{"$error":"#DIV/0!"}]
[null,{"$f":"DATE('Annual Summary'!$G$7,7,ROW()-9)","v":"2023-07-09"},null,null,"",null,"","","","","","",null,null,null,{"$error":"#DIV/0!"},null,null,null,"",{"$error":"#DIV/0!"},{"$error":"#DIV/0!"},{"$error":"#DIV/0!"},{"$error":"#DIV/0!"}]
[null,{"$f":"DATE('Annual Summary'!$G$7,7,ROW()-9)","v":"2023-07-10"},null,null,"",null,"","","","","","",null,null,null,{"$error":"#DIV/0!"},null,null,null,"",{"$error":"#DIV/0!"},{"$error":"#DIV/0!"},{"$error":"#DIV/0!"},{"$error":"#DIV/0!"}]
[null,{"$f":"DATE('Annual Summary'!$G$7,7,ROW()-9)","v":"2023-07-11"},null,null,"",null,"","","","","","",null,null,null,{"$error":"#DIV/0!"},null,null,null,"",{"$error":"#DIV/0!"},{"$error":"#DIV/0!"},{"$error":"#DIV/0!"},{"$error":"#DIV/0!"}]
[null,{"$f":"DATE('Annual Summary'!$G$7,7,ROW()-9)","v":"2023-07-12"},null,null,"",null,"","","","","","",null,null,null,{"$error":"#DIV/0!"},null,null,null,"",{"$error":"#DIV/0!"},{"$error":"#DIV/0!"},{"$error":"#DIV/0!"},{"$error":"#DIV/0!"}]
[null,{"$f":"DATE('Annual Summary'!$G$7,7,ROW()-9)","v":"2023-07-13"},null,null,"",null,"","","","","","",null,null,null,{"$error":"#DIV/0!"},null,null,null,"",{"$error":"#DIV/0!"},{"$error":"#DIV/0!"},{"$error":"#DIV/0!"},{"$error":"#DIV/0!"}]
[null,{"$f":"DATE('Annual Summary'!$G$7,7,ROW()-9)","v":"2023-07-14"},null,null,"",null,"","","","","","",null,null,null,{"$error":"#DIV/0!"},null,null,null,"",{"$error":"#DIV/0!"},{"$error":"#DIV/0!"},{"$error":"#DIV/0!"},{"$error":"#DIV/0!"}]
[null,{"$f":"DATE('Annual Summary'!$G$7,7,ROW()-9)","v":"2023-07-15"},null,null,"",null,"","","","","","",null,null,null,{"$error":"#DIV/0!"},null,null,null,"",{"$error":"#DIV/0!"},{"$error":"#DIV/0!"},{"$error":"#DIV/0!"},{"$error":"#DIV/0!"}]
[null,{"$f":"DATE('Annual Summary'!$G$7,7,ROW()-9)","v":"2023-07-16"},null,null,"",null,"","","","","","",null,null,null,{"$error":"#DIV/0!"},null,null,null,"",{"$error":"#DIV/0!"},{"$error":"#DIV/0!"},{"$error":"#DIV/0!"},{"$error":"#DIV/0!"}]
[null,{"$f":"DATE('Annual Summary'!$G$7,7,ROW()-9)","v":"2023-07-17"},null,null,"",null,"","","","","","",null,null,null,{"$error":"#DIV/0!"},null,null,null,"",{"$error":"#DIV/0!"},{"$error":"#DIV/0!"},{"$error":"#DIV/0!"},{"$error":"#DIV/0!"}]
[null,{"$f":"DATE('Annual Summary'!$G$7,7,ROW()-9)","v":"2023-07-18"},null,null,"",null,"","","","","","",null,null,null,{"$error":"#DIV/0!"},null,null,null,"",{"$error":"#DIV/0!"},{"$error":"#DIV/0!"},{"$error":"#DIV/0!"},{"$error":"#DIV/0!"}]
[null,{"$f":"DATE('Annual Summary'!$G$7,7,ROW()-9)","v":"2023-07-19"},null,null,"",null,"","","","","","",null,null,null,{"$error":"#DIV/0!"},null,null,null,"",{"$error":"#DIV/0!"},{"$error":"#DIV/0!"},{"$error":"#DIV/0!"},{"$error":"#DIV/0!"}]
[null,{"$f":"DATE('Annual Summary'!$G$7,7,ROW()-9)","v":"2023-07-20"},null,null,"",null,"","","","","","",null,null,null,{"$error":"#DIV/0!"},null,null,null,"",{"$error":"#DIV/0!"},{"$error":"#DIV/0!"},{"$error":"#DIV/0!"},{"$error":"#DIV/0!"}]
[null,{"$f":"DATE('Annual Summary'!$G$7,7,ROW()-9)","v":"2023-07-21"},null,null,"",null,"","","","","","",null,null,null,{"$error":"#DIV/0!"},null,null,null,"",{"$error":"#DIV/0!"},{"$error":"#DIV/0!"},{"$error":"#DIV/0!"},{"$error":"#DIV/0!"}]
[null,{"$f":"DATE('Annual Summary'!$G$7,7,ROW()-9)","v":"2023-07-22"},null,null,"",null,"","","","","","",null,null,null,{"$error":"#DIV/0!"},null,null,null,"",{"$error":"#DIV/0!"},{"$error":"#DIV/0!"},{"$error":"#DIV/0!"},{"$error":"#DIV/0!"}]
[null,{"$f":"DATE('Annual Summary'!$G$7,7,ROW()-9)","v":"2023-07-23"},null,null,"",null,"","","","","","",null,null,null,{"$error":"#DIV/0!"},null,null,null,"",{"$error":"#DIV/0!"},{"$error":"#DIV/0!"},{"$error":"#DIV/0!"},{"$error":"#DIV/0!"}]
[null,{"$f":"DATE('Annual Summary'!$G$7,7,ROW()-9)","v":"2023-07-24"},null,null,"",null,"","","","","","",null,null,null,{"$error":"#DIV/0!"},null,null,null,"",{"$f":"AVERAGE(E29:E33)","v":{"$error":"#DIV/0!"}},{"$error":"#DIV/0!"},{"$error":"#DIV/0!"},{"$error":"#DIV/0!"}]
[null,{"$f":"DATE('Annual Summary'!$G$7,7,ROW()-9)","v":"2023-07-25"},null,null,"",null,"","","","","","",null,null,null,{"$error":"#DIV/0!"},null,null,null,"",{"$f":"AVERAGE(E30:E34)","v":{"$error":"#DIV/0!"}},{"$error":"#DIV/0!"},{"$f":"(-11.4041+(0.0894*V34)+(0.1932*U34))","v":{"$error":"#DIV/0!"}},{"$error":"#DIV/0!"}]
[null,{"$f":"DATE('Annual Summary'!$G$7,7,ROW()-9)","v":"2023-07-26"},null,null,"",null,"","","","","","",null,null,null,{"$error":"#DIV/0!"},null,null,null,"",{"$f":"AVERAGE(E31:E35)","v":{"$error":"#DIV/0!"}},{"$error":"#DIV/0!"},{"$error":"#DIV/0!"},{"$error":"#DIV/0!"}]
[null,{"$f":"DATE('Annual Summary'!$G$7,7,ROW()-9)","v":"2023-07-27"},null,null,"",null,"","","","","","",null,null,null,{"$error":"#DIV/0!"},null,null,null,"",{"$error":"#DIV/0!"},{"$error":"#DIV/0!"},{"$error":"#DIV/0!"},{"$error":"#DIV/0!"}]
[null,{"$f":"DATE('Annual Summary'!$G$7,7,ROW()-9)","v":"2023-07-28"},null,null,"",null,"","","","","","",null,null,null,{"$error":"#DIV/0!"},null,null,null,"",{"$error":"#DIV/0!"},{"$error":"#DIV/0!"},{"$error":"#DIV/0!"},{"$error":"#DIV/0!"}]
[null,{"$f":"DATE('Annual Summary'!$G$7,7,ROW()-9)","v":"2023-07-29"},null,null,"",null,"","","","","","",null,null,null,{"$error":"#DIV/0!"},null,null,null,"",{"$error":"#DIV/0!"},{"$error":"#DIV/0!"},{"$error":"#DIV/0!"},{"$error":"#DIV/0!"}]
[null,{"$f":"DATE('Annual Summary'!$G$7,7,ROW()-9)","v":"2023-07-30"},null,null,"",null,"","","","","","",null,null,null,{"$error":"#DIV/0!"},null,null,null,"",{"$error":"#DIV/0!"},{"$error":"#DIV/0!"},{"$error":"#DIV/0!"},{"$error":"#DIV/0!"}]
[null,{"$f":"DATE('Annual Summary'!$G$7,7,ROW()-9)","v":"2023-07-31"},null,null,"",null,"","","","","","",null,null,null,{"$error":"#DIV/0!"},null,null,null,"",{"$f":"AVERAGE(E36:E40)","v":{"$error":"#DIV/0!"}},{"$f":"AVERAGE(N36:N40)","v":{"$error":"#DIV/0!"}},{"$f":"(-11.4041+(0.0894*V40)+(0.1932*U40))","v":{"$error":"#DIV/0!"}},{"$f":"IF(OR(U40<=10,U40>=35),0,(EXP(W40))/(1+EXP(W40)))","v":{"$error":"#DIV/0!"}}]
[]
[null,"Monthly Average/Total",{"$f":"IF(ISERROR(AVERAGE($C$10:$C$40)),\"\",AVERAGE($C$10:$C$40))","v":""},{"$f":"IF(ISERROR(AVERAGE($D$10:$D$40)),\"\",AVERAGE($D$10:$D$40))","v":""},{"$f":"IFERROR(AVERAGE($E$10:$E$40),\"\")","v":""},{"$f":"IF(SUM($F$10:$F$40)=0,\"\",SUM($F$10:$F$40))","v":""},{"$f":"IFERROR(AVERAGE($G$10:$G$40),\"\")","v":""},{"$f":"IFERROR(LOOKUP(2,1/($H$10:$H$40<>\"\"),$H$10:$H$40),\"\")","v":""},{"$f":"_xlfn.IFNA(IFERROR(LOOKUP(2,1/($I$10:$I$40<>\"\"),$I$10:$I$40),LOOKUP(2,1/($H$10:$H$40<>\"\"),$H$10:$H$40)),\"\")","v":""},{"$f":"IFERROR(AVERAGE($J$10:$J$40),\"\")","v":""},{"$f":"IFERROR(LOOKUP(2,1/($K$10:$K$40<>\"\"),$K$10:$K$40),\"\")","v":""},{"$f":"_xlfn.IFNA(IFERROR(LOOKUP(2,1/($L$10:$L$40<>\"\"),$L$10:$L$40),LOOKUP(2,1/($K$10:$K$40<>\"\"),$K$10:$K$40)),\"\")","v":""},{"$f":"IF(SUM($M$10:$M$40)=0,\"\",SUM($M$10:$M$40))","v":""},{"$f":"IF(ISERROR(AVERAGE($N$10:$N$40)),\"\",AVERAGE($N$10:$N$40))","v":""},{"$f":"IF(SUM($O$10:$O$40)=0,\"\",SUM($O$10:$O$40))","v":""},null,null,null,null,{"$f":"SUM($T$10:$T$40)","v":0}]

{"sheet":"August","index":10,"n_rows":42,"n_cols":24,"rows_kept":42,"cut":false,"hidden":false,"merged":[[5,5,5,10]]}
[]
[]
[]
[]
[]
[null,null,null,null,null,{"$f":"MID(CELL(\"filename\",A1),FIND(\"]\",CELL(\"filename\",A1))+1,255) & \" \" & 'Annual Summary'!$G$7 & \" Weather Stats\"","v":"August 2023 Weather Stats"}]
[]
[]
[null,"Date","Min Air Temp (C)","Max Air Temp (C)","Average Air Temp (C)","Rainfall (mm)","Growth Degree Days","Cumulative GDD (Month)","Cumulative GDD (Year)","Growth Potential","Cumulative GP (Month)","Cumulative GP (Year)","Clipping Yield","Humidity % ","E.T (mm)","Smith Kerns Model","Microdochium Activity ","Anthracnose Activity ","Dollar Spot Activity","GP for C4 Grass","5-day average temp","5-day average humidity","Logit"]
[null,{"$f":"DATE('Annual Summary'!$G$7,8,ROW()-9)","v":"2023-08-01"},null,null,{"$f":"IFERROR(AVERAGE($C10,$D10),\"\")","v":""},null,{"$f":"IFERROR(IF(($E10-6)>0,$E10-6,0),\"\")","v":""},{"$f":"IF(ISBLANK($G$10),\"\",$G$10)","v":""},{"$f":"IFERROR(INDIRECT(TEXT(DATE('Annual Summary'!$G$7,MONTH($B10)-1,1),\"mmmm\") &\"!$I$42\") + IF($G$10=\"\",0,$G$10),\"\")","v":""},{"$f":"IFERROR(2.71828^(-0.5*(($E10-18)/5.5)^2),\"\")","v":""},{"$f":"IF(ISBLANK($J$10),\"\",$J$10)","v":""},{"$f":"IFERROR(INDIRECT(TEXT(DATE('Annual Summary'!$G$7,MONTH($B10)-1,1),\"mmmm\") &\"!$L$42\") + IF($K$10=\"\",0,$K$10),\"\")","v":""},null,null,null,{"$f":"X10","v":{"$error":"#DIV/0!"}},null,null,null,{"$f":"IFERROR(2.71828^(-0.5*(($E10-31)/7.3)^2),\"\")","v":""},{"$f":"AVERAGE(July!E37:E40,August!E10)","v":{"$error":"#DIV/0!"}},{"$f":"AVERAGE(July!N37:N40,August!N10)","v":{"$error":"#DIV/0!"}},{"$f":"(-11.4041+(0.0894*V10)+(0.1932*U10))","v":{"$error":"#DIV/0!"}},{"$f":"IF(OR(U10<=10,U10>=35),0,(EXP(W10))/(1+EXP(W10)))","v":{"$error":"#DIV/0!"}}]
[null,{"$f":"DATE('Annual Summary'!$G$7,8,ROW()-9)","v":"2023-08-02"},null,null,{"$f":"IFERROR(AVERAGE($C11,$D11),\"\")","v":""},null,{"$f":"IFERROR(IF(($E11-6)>0,$E11-6,0),\"\")","v":""},{"$f":"IFERROR($H10+$G11,\"\")","v":""},{"$f":"IFERROR($I10+$G11,\"\")","v":""},{"$f":"IFERROR(2.71828^(-0.5*(($E11-18)/5.5)^2),\"\")","v":""},{"$f":"IFERROR($K10+$J11,\"\")","v":""},{"$f":"IFERROR($L10+$J11,\"\")","v":""},null,null,null,{"$f":"X11","v":{"$error":"#DIV/0!"}},null,null,null,{"$f":"IFERROR(2.71828^(-0.5*(($E11-31)/7.3)^2),\"\")","v":""},{"$f":"AVERAGE(July!E38:E40,August!E10:E11)","v":{"$error":"#DIV/0!"}},{"$f":"AVERAGE(July!N38:N40,August!N10:N11)","v":{"$error":"#DIV/0!"}},{"$f":"(-11.4041+(0.0894*V11)+(0.1932*U11))","v":{"$error":"#DIV/0!"}},{"$f":"IF(OR(U11<=10,U11>=35),0,(EXP(W11))/(1+EXP(W11)))","v":{"$error":"#DIV/0!"}}]
[null,{"$f":"DATE('Annual Summary'!$G$7,8,ROW()-9)","v":"2023-08-03"},null,null,"",null,"",{"$f":"IFERROR($H11+$G12,\"\")","v":""},{"$f":"IFERROR($I11+$G12,\"\")","v":""},"",{"$f":"IFERROR($K11+$J12,\"\")","v":""},{"$f":"IFERROR($L11+$J12,\"\")","v":""},null,null,null,{"$error":"#DIV/0!"},null,null,null,"",{"$f":"AVERAGE(July!E39:E40,August!E10:E12)","v":{"$error":"#DIV/0!"}},{"$f":"AVERAGE(July!N39:N40,August!N10:N12)","v":{"$error":"#DIV/0!"}},{"$f":"(-11.4041+(0.0894*V12)+(0.1932*U12))","v":{"$error":"#DIV/0!"}},{"$error":"#DIV/0!"}]
[null,{"$f":"DATE('Annual Summary'!$G$7,8,ROW()-9)","v":"2023-08-04"},null,null,"",null,"","","","","","",null,null,null,{"$error":"#DIV/0!"},null,null,null,"",{"$f":"AVERAGE(July!E40,August!E10:E13)","v":{"$error":"#DIV/0!"}},{"$f":"AVERAGE(July!N40,August!N10:N13)","v":{"$error":"#DIV/0!"}},{"$error":"#DIV/0!"},{"$error":"#DIV/0!"}]
[null,{"$f":"DATE('Annual Summary'!$G$7,8,ROW()-9)","v":"2023-08-05"},null,null,"",null,"","","","","","",null,null,null,{"$error":"#DIV/0!"},null,null,null,"",{"$f":"AVERAGE(E10:E14)","v":{"$error":"#DIV/0!"}},{"$f":"AVERAGE(N10:N14)","v":{"$error":"#DIV/0!"}},{"$error":"#DIV/0!"},{"$error":"#DIV/0!"}]
[null,{"$f":"DATE('Annual Summary'!$G$7,8,ROW()-9)","v":"2023-08-06"},null,null,"",null,"","","","","","",null,null,null,{"$error":"#DIV/0!"},null,null,null,"",{"$f":"AVERAGE(E11:E15)","v":{"$error":"#DIV/0!"}},{"$f":"AVERAGE(N11:N15)","v":{"$error":"#DIV/0!"}},{"$error":"#DIV/0!"},{"$error":"#DIV/0!"}]
[null,{"$f":"DATE('Annual Summary'!$G$7,8,ROW()-9)","v":"2023-08-07"},null,null,"",null,"","","","","","",null,null,null,{"$error":"#DIV/0!"},null,null,null,"",{"$f":"AVERAGE(E12:E16)","v":{"$error":"#DIV/0!"}},{"$error":"#DIV/0!"},{"$error":"#DIV/0!"},{"$error":"#DIV/0!"}]
[null,{"$f":"DATE('Annual Summary'!$G$7,8,ROW()-9)","v":"2023-08-08"},null,null,"",null,"","","","","","",null,null,null,{"$error":"#DIV/0!"},null,null,null,"",{"$error":"#DIV/0!"},{"$error":"#DIV/0!"},{"$error":"#DIV/0!"},{"$error":"#DIV/0!"}]
[null,{"$f":"DATE('Annual Summary'!$G$7,8,ROW()-9)","v":"2023-08-09"},null,null,"",null,"","","","","","",null,null,null,{"$error":"#DIV/0!"},null,null,null,"",{"$error":"#DIV/0!"},{"$error":"#DIV/0!"},{"$error":"#DIV/0!"},{"$error":"#DIV/0!"}]
[null,{"$f":"DATE('Annual Summary'!$G$7,8,ROW()-9)","v":"2023-08-10"},null,null,"",null,"","","","","","",null,null,null,{"$error":"#DIV/0!"},null,null,null,"",{"$error":"#DIV/0!"},{"$error":"#DIV/0!"},{"$error":"#DIV/0!"},{"$error":"#DIV/0!"}]
[null,{"$f":"DATE('Annual Summary'!$G$7,8,ROW()-9)","v":"2023-08-11"},null,null,"",null,"","","","","","",null,null,null,{"$error":"#DIV/0!"},null,null,null,"",{"$error":"#DIV/0!"},{"$error":"#DIV/0!"},{"$error":"#DIV/0!"},{"$error":"#DIV/0!"}]
[null,{"$f":"DATE('Annual Summary'!$G$7,8,ROW()-9)","v":"2023-08-12"},null,null,"",null,"","","","","","",null,null,null,{"$error":"#DIV/0!"},null,null,null,"",{"$error":"#DIV/0!"},{"$error":"#DIV/0!"},{"$error":"#DIV/0!"},{"$error":"#DIV/0!"}]
[null,{"$f":"DATE('Annual Summary'!$G$7,8,ROW()-9)","v":"2023-08-13"},null,null,"",null,"","","","","","",null,null,null,{"$error":"#DIV/0!"},null,null,null,"",{"$error":"#DIV/0!"},{"$error":"#DIV/0!"},{"$error":"#DIV/0!"},{"$error":"#DIV/0!"}]
[null,{"$f":"DATE('Annual Summary'!$G$7,8,ROW()-9)","v":"2023-08-14"},null,null,"",null,"","","","","","",null,null,null,{"$error":"#DIV/0!"},null,null,null,"",{"$error":"#DIV/0!"},{"$error":"#DIV/0!"},{"$error":"#DIV/0!"},{"$error":"#DIV/0!"}]
[null,{"$f":"DATE('Annual Summary'!$G$7,8,ROW()-9)","v":"2023-08-15"},null,null,"",null,"","","","","","",null,null,null,{"$error":"#DIV/0!"},null,null,null,"",{"$error":"#DIV/0!"},{"$error":"#DIV/0!"},{"$error":"#DIV/0!"},{"$error":"#DIV/0!"}]
[null,{"$f":"DATE('Annual Summary'!$G$7,8,ROW()-9)","v":"2023-08-16"},null,null,"",null,"","","","","","",null,null,null,{"$error":"#DIV/0!"},null,null,null,"",{"$error":"#DIV/0!"},{"$error":"#DIV/0!"},{"$error":"#DIV/0!"},{"$error":"#DIV/0!"}]
[null,{"$f":"DATE('Annual Summary'!$G$7,8,ROW()-9)","v":"2023-08-17"},null,null,"",null,"","","","","","",null,null,null,{"$error":"#DIV/0!"},null,null,null,"",{"$error":"#DIV/0!"},{"$error":"#DIV/0!"},{"$error":"#DIV/0!"},{"$error":"#DIV/0!"}]
[null,{"$f":"DATE('Annual Summary'!$G$7,8,ROW()-9)","v":"2023-08-18"},null,null,"",null,"","","","","","",null,null,null,{"$error":"#DIV/0!"},null,null,null,"",{"$error":"#DIV/0!"},{"$error":"#DIV/0!"},{"$error":"#DIV/0!"},{"$error":"#DIV/0!"}]
[null,{"$f":"DATE('Annual Summary'!$G$7,8,ROW()-9)","v":"2023-08-19"},null,null,"",null,"","","","","","",null,null,null,{"$error":"#DIV/0!"},null,null,null,"",{"$error":"#DIV/0!"},{"$error":"#DIV/0!"},{"$error":"#DIV/0!"},{"$error":"#DIV/0!"}]
[null,{"$f":"DATE('Annual Summary'!$G$7,8,ROW()-9)","v":"2023-08-20"},null,null,"",null,"","","","","","",null,null,null,{"$error":"#DIV/0!"},null,null,null,"",{"$error":"#DIV/0!"},{"$error":"#DIV/0!"},{"$error":"#DIV/0!"},{"$error":"#DIV/0!"}]
[null,{"$f":"DATE('Annual Summary'!$G$7,8,ROW()-9)","v":"2023-08-21"},null,null,"",null,"","","","","","",null,null,null,{"$error":"#DIV/0!"},null,null,null,"",{"$error":"#DIV/0!"},{"$error":"#DIV/0!"},{"$error":"#DIV/0!"},{"$error":"#DIV/0!"}]
[null,{"$f":"DATE('Annual Summary'!$G$7,8,ROW()-9)","v":"2023-08-22"},null,null,"",null,"","","","","","",null,null,null,{"$error":"#DIV/0!"},null,null,null,"",{"$error":"#DIV/0!"},{"$error":"#DIV/0!"},{"$error":"#DIV/0!"},{"$error":"#DIV/0!"}]
[null,{"$f":"DATE('Annual Summary'!$G$7,8,ROW()-9)","v":"2023-08-23"},null,null,"",null,"","","","","","",null,null,null,{"$error":"#DIV/0!"},null,null,null,"",{"$error":"#DIV/0!"},{"$error":"#DIV/0!"},{"$error":"#DIV/0!"},{"$error":"#DIV/0!"}]
[null,{"$f":"DATE('Annual Summary'!$G$7,8,ROW()-9)","v":"2023-08-24"},null,null,"",null,"","","","","","",null,null,null,{"$error":"#DIV/0!"},null,null,null,"",{"$f":"AVERAGE(E29:E33)","v":{"$error":"#DIV/0!"}},{"$error":"#DIV/0!"},{"$error":"#DIV/0!"},{"$error":"#DIV/0!"}]
[null,{"$f":"DATE('Annual Summary'!$G$7,8,ROW()-9)","v":"2023-08-25"},null,null,"",null,"","","","","","",null,null,null,{"$error":"#DIV/0!"},null,null,null,"",{"$f":"AVERAGE(E30:E34)","v":{"$error":"#DIV/0!"}},{"$error":"#DIV/0!"},{"$f":"(-11.4041+(0.0894*V34)+(0.1932*U34))","v":{"$error":"#DIV/0!"}},{"$error":"#DIV/0!"}]
[null,{"$f":"DATE('Annual Summary'!$G$7,8,ROW()-9)","v":"2023-08-26"},null,null,"",null,"","","","","","",null,null,null,{"$error":"#DIV/0!"},null,null,null,"",{"$f":"AVERAGE(E31:E35)","v":{"$error":"#DIV/0!"}},{"$error":"#DIV/0!"},{"$error":"#DIV/0!"},{"$error":"#DIV/0!"}]
[null,{"$f":"DATE('Annual Summary'!$G$7,8,ROW()-9)","v":"2023-08-27"},null,null,"",null,"","","","","","",null,null,null,{"$error":"#DIV/0!"},null,null,null,"",{"$error":"#DIV/0!"},{"$error":"#DIV/0!"},{"$error":"#DIV/0!"},{"$error":"#DIV/0!"}]
[null,{"$f":"DATE('Annual Summary'!$G$7,8,ROW()-9)","v":"2023-08-28"},null,null,"",null,"","","","","","",null,null,null,{"$error":"#DIV/0!"},null,null,null,"",{"$error":"#DIV/0!"},{"$error":"#DIV/0!"},{"$error":"#DIV/0!"},{"$error":"#DIV/0!"}]
[null,{"$f":"DATE('Annual Summary'!$G$7,8,ROW()-9)","v":"2023-08-29"},null,null,"",null,"","","","","","",null,null,null,{"$error":"#DIV/0!"},null,null,null,"",{"$error":"#DIV/0!"},{"$error":"#DIV/0!"},{"$error":"#DIV/0!"},{"$error":"#DIV/0!"}]
[null,{"$f":"DATE('Annual Summary'!$G$7,8,ROW()-9)","v":"2023-08-30"},null,null,"",null,"","","","","","",null,null,null,{"$error":"#DIV/0!"},null,null,null,"",{"$error":"#DIV/0!"},{"$error":"#DIV/0!"},{"$error":"#DIV/0!"},{"$error":"#DIV/0!"}]
[null,{"$f":"DATE('Annual Summary'!$G$7,8,ROW()-9)","v":"2023-08-31"},null,null,"",null,"","","","","","",null,null,null,{"$error":"#DIV/0!"},null,null,null,"",{"$error":"#DIV/0!"},{"$error":"#DIV/0!"},{"$error":"#DIV/0!"},{"$error":"#DIV/0!"}]
[]
[null,"Monthly Average/Total",{"$f":"IF(ISERROR(AVERAGE($C$10:$C$40)),\"\",AVERAGE($C$10:$C$40))","v":""},{"$f":"IF(ISERROR(AVERAGE($D$10:$D$40)),\"\",AVERAGE($D$10:$D$40))","v":""},{"$f":"IFERROR(AVERAGE($E$10:$E$40),\"\")","v":""},{"$f":"IF(SUM($F$10:$F$40)=0,\"\",SUM($F$10:$F$40))","v":""},{"$f":"IFERROR(AVERAGE($G$10:$G$40),\"\")","v":""},{"$f":"IFERROR(LOOKUP(2,1/($H$10:$H$40<>\"\"),$H$10:$H$40),\"\")","v":""},{"$f":"_xlfn.IFNA(IFERROR(LOOKUP(2,1/($I$10:$I$40<>\"\"),$I$10:$I$40),LOOKUP(2,1/($H$10:$H$40<>\"\"),$H$10:$H$40)),\"\")","v":""},{"$f":"IFERROR(AVERAGE($J$10:$J$40),\"\")","v":""},{"$f":"IFERROR(LOOKUP(2,1/($K$10:$K$40<>\"\"),$K$10:$K$40),\"\")","v":""},{"$f":"_xlfn.IFNA(IFERROR(LOOKUP(2,1/($L$10:$L$40<>\"\"),$L$10:$L$40),LOOKUP(2,1/($K$10:$K$40<>\"\"),$K$10:$K$40)),\"\")","v":""},{"$f":"IF(SUM($M$10:$M$40)=0,\"\",SUM($M$10:$M$40))","v":""},{"$f":"IF(ISERROR(AVERAGE($N$10:$N$40)),\"\",AVERAGE($N$10:$N$40))","v":""},{"$f":"IF(SUM($O$10:$O$40)=0,\"\",SUM($O$10:$O$40))","v":""},null,null,null,null,{"$f":"SUM($T$10:$T$40)","v":0}]

{"sheet":"September","index":11,"n_rows":42,"n_cols":24,"rows_kept":42,"cut":false,"hidden":false,"merged":[[5,5,5,10]]}
[]
[]
[]
[]
[]
[null,null,null,null,null,{"$f":"MID(CELL(\"filename\",A1),FIND(\"]\",CELL(\"filename\",A1))+1,255) & \" \" & 'Annual Summary'!$G$7 & \" Weather Stats\"","v":"September 2023 Weather Stats"}]
[]
[]
[null,"Date","Min Air Temp (C)","Max Air Temp (C)","Average Air Temp (C)","Rainfall (mm)","Growth Degree Days","Cumulative GDD (Month)","Cumulative GDD (Year)","Growth Potential","Cumulative GP (Month)","Cumulative GP (Year)","Clipping Yield","Humidity % ","E.T (mm)","Smith Kerns Model","Microdochium Activity ","Anthracnose Activity ","Dollar Spot Activity","GP for C4 Grass","5-day average temp","5-day average humidity","Logit"]
[null,{"$f":"DATE('Annual Summary'!$G$7,9,ROW()-9)","v":"2023-09-01"},null,null,{"$f":"IFERROR(AVERAGE($C10,$D10),\"\")","v":""},null,{"$f":"IFERROR(IF(($E10-6)>0,$E10-6,0),\"\")","v":""},{"$f":"IF(ISBLANK($G$10),\"\",$G$10)","v":""},{"$f":"IFERROR(INDIRECT(TEXT(DATE('Annual Summary'!$G$7,MONTH($B10)-1,1),\"mmmm\") &\"!$I$42\") + IF($G$10=\"\",0,$G$10),\"\")","v":""},{"$f":"IFERROR(2.71828^(-0.5*(($E10-18)/5.5)^2),\"\")","v":""},{"$f":"IF(ISBLANK($J$10),\"\",$J$10)","v":""},{"$f":"IFERROR(INDIRECT(TEXT(DATE('Annual Summary'!$G$7,MONTH($B10)-1,1),\"mmmm\") &\"!$L$42\") + IF($K$10=\"\",0,$K$10),\"\")","v":""},null,null,null,{"$f":"X10","v":{"$error":"#DIV/0!"}},null,null,null,{"$f":"IFERROR(2.71828^(-0.5*(($E10-31)/7.3)^2),\"\")","v":""},{"$f":"AVERAGE(August!E37:E40,September!E10)","v":{"$error":"#DIV/0!"}},{"$f":"AVERAGE(August!N37:N40,September!N10)","v":{"$error":"#DIV/0!"}},{"$f":"(-11.4041+(0.0894*V10)+(0.1932*U10))","v":{"$error":"#DIV/0!"}},{"$f":"IF(OR(U10<=10,U10>=35),0,(EXP(W10))/(1+EXP(W10)))","v":{"$error":"#DIV/0!"}}]
[null,{"$f":"DATE('Annual Summary'!$G$7,9,ROW()-9)","v":"2023-09-02"},null,null,{"$f":"IFERROR(AVERAGE($C11,$D11),\"\")","v":""},null,{"$f":"IFERROR(IF(($E11-6)>0,$E11-6,0),\"\")","v":""},{"$f":"IFERROR($H10+$G11,\"\")","v":""},{"$f":"IFERROR($I10+$G11,\"\")","v":""},{"$f":"IFERROR(2.71828^(-0.5*(($E11-18)/5.5)^2),\"\")","v":""},{"$f":"IFERROR($K10+$J11,\"\")","v":""},{"$f":"IFERROR($L10+$J11,\"\")","v":""},null,null,null,{"$f":"X11","v":{"$error":"#DIV/0!"}},null,null,null,{"$f":"IFERROR(2.71828^(-0.5*(($E11-31)/7.3)^2),\"\")","v":""},{"$f":"AVERAGE(August!E38:E40,September!E10:E11)","v":{"$error":"#DIV/0!"}},{"$f":"AVERAGE(August!N38:N40,September!N10:N11)","v":{"$error":"#DIV/0!"}},{"$f":"(-11.4041+(0.0894*V11)+(0.1932*U11))","v":{"$error":"#DIV/0!"}},{"$f":"IF(OR(U11<=10,U11>=35),0,(EXP(W11))/(1+EXP(W11)))","v":{"$error":"#DIV/0!"}}]
[null,{"$f":"DATE('Annual Summary'!$G$7,9,ROW()-9)","v":"2023-09-03"},null,null,"",null,"",{"$f":"IFERROR($H11+$G12,\"\")","v":""},{"$f":"IFERROR($I11+$G12,\"\")","v":""},"",{"$f":"IFERROR($K11+$J12,\"\")","v":""},{"$f":"IFERROR($L11+$J12,\"\")","v":""},null,null,null,{"$error":"#DIV/0!"},null,null,null,"",{"$f":"AVERAGE(August!E39:E40,September!E10:E12)","v":{"$error":"#DIV/0!"}},{"$f":"AVERAGE(August!N39:N40,September!N10:N12)","v":{"$error":"#DIV/0!"}},{"$f":"(-11.4041+(0.0894*V12)+(0.1932*U12))","v":{"$error":"#DIV/0!"}},{"$error":"#DIV/0!"}]
[null,{"$f":"DATE('Annual Summary'!$G$7,9,ROW()-9)","v":"2023-09-04"},null,null,"",null,"","","","","","",null,null,null,{"$error":"#DIV/0!"},null,null,null,"",{"$f":"AVERAGE(August!E40,September!E10:E13)","v":{"$error":"#DIV/0!"}},{"$f":"AVERAGE(August!N40,September!N10:N13)","v":{"$error":"#DIV/0!"}},{"$error":"#DIV/0!"},{"$error":"#DIV/0!"}]
[null,{"$f":"DATE('Annual Summary'!$G$7,9,ROW()-9)","v":"2023-09-05"},null,null,"",null,"","","","","","",null,null,null,{"$error":"#DIV/0!"},null,null,null,"",{"$f":"AVERAGE(E10:E14)","v":{"$error":"#DIV/0!"}},{"$f":"AVERAGE(N10:N14)","v":{"$error":"#DIV/0!"}},{"$error":"#DIV/0!"},{"$error":"#DIV/0!"}]
[null,{"$f":"DATE('Annual Summary'!$G$7,9,ROW()-9)","v":"2023-09-06"},null,null,"",null,"","","","","","",null,null,null,{"$error":"#DIV/0!"},null,null,null,"",{"$f":"AVERAGE(E11:E15)","v":{"$error":"#DIV/0!"}},{"$f":"AVERAGE(N11:N15)","v":{"$error":"#DIV/0!"}},{"$error":"#DIV/0!"},{"$error":"#DIV/0!"}]
[null,{"$f":"DATE('Annual Summary'!$G$7,9,ROW()-9)","v":"2023-09-07"},null,null,"",null,"","","","","","",null,null,null,{"$error":"#DIV/0!"},null,null,null,"",{"$f":"AVERAGE(E12:E16)","v":{"$error":"#DIV/0!"}},{"$error":"#DIV/0!"},{"$error":"#DIV/0!"},{"$error":"#DIV/0!"}]
[null,{"$f":"DATE('Annual Summary'!$G$7,9,ROW()-9)","v":"2023-09-08"},null,null,"",null,"","","","","","",null,null,null,{"$error":"#DIV/0!"},null,null,null,"",{"$error":"#DIV/0!"},{"$error":"#DIV/0!"},{"$error":"#DIV/0!"},{"$error":"#DIV/0!"}]
[null,{"$f":"DATE('Annual Summary'!$G$7,9,ROW()-9)","v":"2023-09-09"},null,null,"",null,"","","","","","",null,null,null,{"$error":"#DIV/0!"},null,null,null,"",{"$error":"#DIV/0!"},{"$error":"#DIV/0!"},{"$error":"#DIV/0!"},{"$error":"#DIV/0!"}]
[null,{"$f":"DATE('Annual Summary'!$G$7,9,ROW()-9)","v":"2023-09-10"},null,null,"",null,"","","","","","",null,null,null,{"$error":"#DIV/0!"},null,null,null,"",{"$error":"#DIV/0!"},{"$error":"#DIV/0!"},{"$error":"#DIV/0!"},{"$error":"#DIV/0!"}]
[null,{"$f":"DATE('Annual Summary'!$G$7,9,ROW()-9)","v":"2023-09-11"},null,null,"",null,"","","","","","",null,null,null,{"$error":"#DIV/0!"},null,null,null,"",{"$error":"#DIV/0!"},{"$error":"#DIV/0!"},{"$error":"#DIV/0!"},{"$error":"#DIV/0!"}]
[null,{"$f":"DATE('Annual Summary'!$G$7,9,ROW()-9)","v":"2023-09-12"},null,null,"",null,"","","","","","",null,null,null,{"$error":"#DIV/0!"},null,null,null,"",{"$error":"#DIV/0!"},{"$error":"#DIV/0!"},{"$error":"#DIV/0!"},{"$error":"#DIV/0!"}]
[null,{"$f":"DATE('Annual Summary'!$G$7,9,ROW()-9)","v":"2023-09-13"},null,null,"",null,"","","","","","",null,null,null,{"$error":"#DIV/0!"},null,null,null,"",{"$error":"#DIV/0!"},{"$error":"#DIV/0!"},{"$error":"#DIV/0!"},{"$error":"#DIV/0!"}]
[null,{"$f":"DATE('Annual Summary'!$G$7,9,ROW()-9)","v":"2023-09-14"},null,null,"",null,"","","","","","",null,null,null,{"$error":"#DIV/0!"},null,null,null,"",{"$error":"#DIV/0!"},{"$error":"#DIV/0!"},{"$error":"#DIV/0!"},{"$error":"#DIV/0!"}]
[null,{"$f":"DATE('Annual Summary'!$G$7,9,ROW()-9)","v":"2023-09-15"},null,null,"",null,"","","","","","",null,null,null,{"$error":"#DIV/0!"},null,null,null,"",{"$error":"#DIV/0!"},{"$error":"#DIV/0!"},{"$error":"#DIV/0!"},{"$error":"#DIV/0!"}]
[null,{"$f":"DATE('Annual Summary'!$G$7,9,ROW()-9)","v":"2023-09-16"},null,null,"",null,"","","","","","",null,null,null,{"$error":"#DIV/0!"},null,null,null,"",{"$error":"#DIV/0!"},{"$error":"#DIV/0!"},{"$error":"#DIV/0!"},{"$error":"#DIV/0!"}]
[null,{"$f":"DATE('Annual Summary'!$G$7,9,ROW()-9)","v":"2023-09-17"},null,null,"",null,"","","","","","",null,null,null,{"$error":"#DIV/0!"},null,null,null,"",{"$error":"#DIV/0!"},{"$error":"#DIV/0!"},{"$error":"#DIV/0!"},{"$error":"#DIV/0!"}]
[null,{"$f":"DATE('Annual Summary'!$G$7,9,ROW()-9)","v":"2023-09-18"},null,null,"",null,"","","","","","",null,null,null,{"$error":"#DIV/0!"},null,null,null,"",{"$error":"#DIV/0!"},{"$error":"#DIV/0!"},{"$error":"#DIV/0!"},{"$error":"#DIV/0!"}]
[null,{"$f":"DATE('Annual Summary'!$G$7,9,ROW()-9)","v":"2023-09-19"},null,null,"",null,"","","","","","",null,null,null,{"$error":"#DIV/0!"},null,null,null,"",{"$error":"#DIV/0!"},{"$error":"#DIV/0!"},{"$error":"#DIV/0!"},{"$error":"#DIV/0!"}]
[null,{"$f":"DATE('Annual Summary'!$G$7,9,ROW()-9)","v":"2023-09-20"},null,null,"",null,"","","","","","",null,null,null,{"$error":"#DIV/0!"},null,null,null,"",{"$error":"#DIV/0!"},{"$error":"#DIV/0!"},{"$error":"#DIV/0!"},{"$error":"#DIV/0!"}]
[null,{"$f":"DATE('Annual Summary'!$G$7,9,ROW()-9)","v":"2023-09-21"},null,null,"",null,"","","","","","",null,null,null,{"$error":"#DIV/0!"},null,null,null,"",{"$error":"#DIV/0!"},{"$error":"#DIV/0!"},{"$error":"#DIV/0!"},{"$error":"#DIV/0!"}]
[null,{"$f":"DATE('Annual Summary'!$G$7,9,ROW()-9)","v":"2023-09-22"},null,null,"",null,"","","","","","",null,null,null,{"$error":"#DIV/0!"},null,null,null,"",{"$error":"#DIV/0!"},{"$error":"#DIV/0!"},{"$error":"#DIV/0!"},{"$error":"#DIV/0!"}]
[null,{"$f":"DATE('Annual Summary'!$G$7,9,ROW()-9)","v":"2023-09-23"},null,null,"",null,"","","","","","",null,null,null,{"$error":"#DIV/0!"},null,null,null,"",{"$error":"#DIV/0!"},{"$error":"#DIV/0!"},{"$error":"#DIV/0!"},{"$error":"#DIV/0!"}]
[null,{"$f":"DATE('Annual Summary'!$G$7,9,ROW()-9)","v":"2023-09-24"},null,null,"",null,"","","","","","",null,null,null,{"$error":"#DIV/0!"},null,null,null,"",{"$f":"AVERAGE(E29:E33)","v":{"$error":"#DIV/0!"}},{"$error":"#DIV/0!"},{"$error":"#DIV/0!"},{"$error":"#DIV/0!"}]
[null,{"$f":"DATE('Annual Summary'!$G$7,9,ROW()-9)","v":"2023-09-25"},null,null,"",null,"","","","","","",null,null,null,{"$error":"#DIV/0!"},null,null,null,"",{"$f":"AVERAGE(E30:E34)","v":{"$error":"#DIV/0!"}},{"$error":"#DIV/0!"},{"$f":"(-11.4041+(0.0894*V34)+(0.1932*U34))","v":{"$error":"#DIV/0!"}},{"$error":"#DIV/0!"}]
[null,{"$f":"DATE('Annual Summary'!$G$7,9,ROW()-9)","v":"2023-09-26"},null,null,"",null,"","","","","","",null,null,null,{"$error":"#DIV/0!"},null,null,null,"",{"$f":"AVERAGE(E31:E35)","v":{"$error":"#DIV/0!"}},{"$error":"#DIV/0!"},{"$error":"#DIV/0!"},{"$error":"#DIV/0!"}]
[null,{"$f":"DATE('Annual Summary'!$G$7,9,ROW()-9)","v":"2023-09-27"},null,null,"",null,"","","","","","",null,null,null,{"$error":"#DIV/0!"},null,null,null,"",{"$error":"#DIV/0!"},{"$error":"#DIV/0!"},{"$error":"#DIV/0!"},{"$error":"#DIV/0!"}]
[null,{"$f":"DATE('Annual Summary'!$G$7,9,ROW()-9)","v":"2023-09-28"},null,null,"",null,"","","","","","",null,null,null,{"$error":"#DIV/0!"},null,null,null,"",{"$error":"#DIV/0!"},{"$error":"#DIV/0!"},{"$error":"#DIV/0!"},{"$error":"#DIV/0!"}]
[null,{"$f":"DATE('Annual Summary'!$G$7,9,ROW()-9)","v":"2023-09-29"},null,null,"",null,"","","","","","",null,null,null,{"$error":"#DIV/0!"},null,null,null,"",{"$error":"#DIV/0!"},{"$error":"#DIV/0!"},{"$error":"#DIV/0!"},{"$error":"#DIV/0!"}]
[null,{"$f":"DATE('Annual Summary'!$G$7,9,ROW()-9)","v":"2023-09-30"},null,null,"",null,"","","","","","",null,null,null,{"$error":"#DIV/0!"},null,null,null,"",{"$error":"#DIV/0!"},{"$error":"#DIV/0!"},{"$error":"#DIV/0!"},{"$error":"#DIV/0!"}]
[]
[]
[null,"Monthly Average/Total",{"$f":"IF(ISERROR(AVERAGE($C$10:$C$40)),\"\",AVERAGE($C$10:$C$40))","v":""},{"$f":"IF(ISERROR(AVERAGE($D$10:$D$40)),\"\",AVERAGE($D$10:$D$40))","v":""},{"$f":"IFERROR(AVERAGE($E$10:$E$40),\"\")","v":""},{"$f":"IF(SUM($F$10:$F$40)=0,\"\",SUM($F$10:$F$40))","v":""},{"$f":"IFERROR(AVERAGE($G$10:$G$40),\"\")","v":""},{"$f":"IFERROR(LOOKUP(2,1/($H$10:$H$40<>\"\"),$H$10:$H$40),\"\")","v":""},{"$f":"_xlfn.IFNA(IFERROR(LOOKUP(2,1/($I$10:$I$40<>\"\"),$I$10:$I$40),LOOKUP(2,1/($H$10:$H$40<>\"\"),$H$10:$H$40)),\"\")","v":""},{"$f":"IFERROR(AVERAGE($J$10:$J$40),\"\")","v":""},{"$f":"IFERROR(LOOKUP(2,1/($K$10:$K$40<>\"\"),$K$10:$K$40),\"\")","v":""},{"$f":"_xlfn.IFNA(IFERROR(LOOKUP(2,1/($L$10:$L$40<>\"\"),$L$10:$L$40),LOOKUP(2,1/($K$10:$K$40<>\"\"),$K$10:$K$40)),\"\")","v":""},{"$f":"IF(SUM($M$10:$M$40)=0,\"\",SUM($M$10:$M$40))","v":""},{"$f":"IF(ISERROR(AVERAGE($N$10:$N$40)),\"\",AVERAGE($N$10:$N$40))","v":""},{"$f":"IF(SUM($O$10:$O$40)=0,\"\",SUM($O$10:$O$40))","v":""},null,null,null,null,{"$f":"SUM($T$10:$T$40)","v":0}]

{"sheet":"October","index":12,"n_rows":42,"n_cols":24,"rows_kept":42,"cut":false,"hidden":false,"merged":[[5,5,5,10]]}
[]
[]
[]
[]
[]
[null,null,null,null,null,{"$f":"MID(CELL(\"filename\",A1),FIND(\"]\",CELL(\"filename\",A1))+1,255) & \" \" & 'Annual Summary'!$G$7 & \" Weather Stats\"","v":"October 2023 Weather Stats"}]
[]
[]
[null,"Date","Min Air Temp (C)","Max Air Temp (C)","Average Air Temp (C)","Rainfall (mm)","Growth Degree Days","Cumulative GDD (Month)","Cumulative GDD (Year)","Growth Potential","Cumulative GP (Month)","Cumulative GP (Year)","Clipping Yield","Humidity % ","E.T (mm)","Smith Kerns Model","Microdochium Activity ","Anthracnose Activity ","Dollar Spot Activity","GP for C4 Grass","5-day average temp","5-day average humidity","Logit"]
[null,{"$f":"DATE('Annual Summary'!$G$7,10,ROW()-9)","v":"2023-10-01"},null,null,{"$f":"IFERROR(AVERAGE($C10,$D10),\"\")","v":""},null,{"$f":"IFERROR(IF(($E10-6)>0,$E10-6,0),\"\")","v":""},{"$f":"IF(ISBLANK($G$10),\"\",$G$10)","v":""},{"$f":"IFERROR(INDIRECT(TEXT(DATE('Annual Summary'!$G$7,MONTH($B10)-1,1),\"mmmm\") &\"!$I$42\") + IF($G$10=\"\",0,$G$10),\"\")","v":""},{"$f":"IFERROR(2.71828^(-0.5*(($E10-18)/5.5)^2),\"\")","v":""},{"$f":"IF(ISBLANK($J$10),\"\",$J$10)","v":""},{"$f":"IFERROR(INDIRECT(TEXT(DATE('Annual Summary'!$G$7,MONTH($B10)-1,1),\"mmmm\") &\"!$L$42\") + IF($K$10=\"\",0,$K$10),\"\")","v":""},null,null,null,{"$f":"X10","v":{"$error":"#DIV/0!"}},null,null,null,{"$f":"IFERROR(2.71828^(-0.5*(($E10-31)/7.3)^2),\"\")","v":""},{"$f":"AVERAGE(September!E37:E40,October!E10)","v":{"$error":"#DIV/0!"}},{"$f":"AVERAGE(September!N37:N40,October!N10)","v":{"$error":"#DIV/0!"}},{"$f":"(-11.4041+(0.0894*V10)+(0.1932*U10))","v":{"$error":"#DIV/0!"}},{"$f":"IF(OR(U10<=10,U10>=35),0,(EXP(W10))/(1+EXP(W10)))","v":{"$error":"#DIV/0!"}}]
[null,{"$f":"DATE('Annual Summary'!$G$7,10,ROW()-9)","v":"2023-10-02"},null,null,{"$f":"IFERROR(AVERAGE($C11,$D11),\"\")","v":""},null,{"$f":"IFERROR(IF(($E11-6)>0,$E11-6,0),\"\")","v":""},{"$f":"IFERROR($H10+$G11,\"\")","v":""},{"$f":"IFERROR($I10+$G11,\"\")","v":""},{"$f":"IFERROR(2.71828^(-0.5*(($E11-18)/5.5)^2),\"\")","v":""},{"$f":"IFERROR($K10+$J11,\"\")","v":""},{"$f":"IFERROR($L10+$J11,\"\")","v":""},null,null,null,{"$f":"X11","v":{"$error":"#DIV/0!"}},null,null,null,{"$f":"IFERROR(2.71828^(-0.5*(($E11-31)/7.3)^2),\"\")","v":""},{"$f":"AVERAGE(September!E38:E40,October!E10:E11)","v":{"$error":"#DIV/0!"}},{"$f":"AVERAGE(September!N38:N40,October!N10:N11)","v":{"$error":"#DIV/0!"}},{"$f":"(-11.4041+(0.0894*V11)+(0.1932*U11))","v":{"$error":"#DIV/0!"}},{"$f":"IF(OR(U11<=10,U11>=35),0,(EXP(W11))/(1+EXP(W11)))","v":{"$error":"#DIV/0!"}}]
[null,{"$f":"DATE('Annual Summary'!$G$7,10,ROW()-9)","v":"2023-10-03"},null,null,"",null,"",{"$f":"IFERROR($H11+$G12,\"\")","v":""},{"$f":"IFERROR($I11+$G12,\"\")","v":""},"",{"$f":"IFERROR($K11+$J12,\"\")","v":""},{"$f":"IFERROR($L11+$J12,\"\")","v":""},null,null,null,{"$error":"#DIV/0!"},null,null,null,"",{"$f":"AVERAGE(September!E39:E40,October!E10:E12)","v":{"$error":"#DIV/0!"}},{"$f":"AVERAGE(September!N39:N40,October!N10:N12)","v":{"$error":"#DIV/0!"}},{"$f":"(-11.4041+(0.0894*V12)+(0.1932*U12))","v":{"$error":"#DIV/0!"}},{"$error":"#DIV/0!"}]
[null,{"$f":"DATE('Annual Summary'!$G$7,10,ROW()-9)","v":"2023-10-04"},null,null,"",null,"","","","","","",null,null,null,{"$error":"#DIV/0!"},null,null,null,"",{"$f":"AVERAGE(September!E40,October!E10:E13)","v":{"$error":"#DIV/0!"}},{"$f":"AVERAGE(September!N40,October!N10:N13)","v":{"$error":"#DIV/0!"}},{"$error":"#DIV/0!"},{"$error":"#DIV/0!"}]
[null,{"$f":"DATE('Annual Summary'!$G$7,10,ROW()-9)","v":"2023-10-05"},null,null,"",null,"","","","","","",null,null,null,{"$error":"#DIV/0!"},null,null,null,"",{"$f":"AVERAGE(E10:E14)","v":{"$error":"#DIV/0!"}},{"$f":"AVERAGE(N10:N14)","v":{"$error":"#DIV/0!"}},{"$error":"#DIV/0!"},{"$error":"#DIV/0!"}]
[null,{"$f":"DATE('Annual Summary'!$G$7,10,ROW()-9)","v":"2023-10-06"},null,null,"",null,"","","","","","",null,null,null,{"$error":"#DIV/0!"},null,null,null,"",{"$f":"AVERAGE(E11:E15)","v":{"$error":"#DIV/0!"}},{"$f":"AVERAGE(N11:N15)","v":{"$error":"#DIV/0!"}},{"$error":"#DIV/0!"},{"$error":"#DIV/0!"}]
[null,{"$f":"DATE('Annual Summary'!$G$7,10,ROW()-9)","v":"2023-10-07"},null,null,"",null,"","","","","","",null,null,null,{"$error":"#DIV/0!"},null,null,null,"",{"$f":"AVERAGE(E12:E16)","v":{"$error":"#DIV/0!"}},{"$error":"#DIV/0!"},{"$error":"#DIV/0!"},{"$error":"#DIV/0!"}]
[null,{"$f":"DATE('Annual Summary'!$G$7,10,ROW()-9)","v":"2023-10-08"},null,null,"",null,"","","","","","",null,null,null,{"$error":"#DIV/0!"},null,null,null,"",{"$error":"#DIV/0!"},{"$error":"#DIV/0!"},{"$error":"#DIV/0!"},{"$error":"#DIV/0!"}]
[null,{"$f":"DATE('Annual Summary'!$G$7,10,ROW()-9)","v":"2023-10-09"},null,null,"",null,"","","","","","",null,null,null,{"$error":"#DIV/0!"},null,null,null,"",{"$error":"#DIV/0!"},{"$error":"#DIV/0!"},{"$error":"#DIV/0!"},{"$error":"#DIV/0!"}]
[null,{"$f":"DATE('Annual Summary'!$G$7,10,ROW()-9)","v":"2023-10-10"},null,null,"",null,"","","","","","",null,null,null,{"$error":"#DIV/0!"},null,null,null,"",{"$error":"#DIV/0!"},{"$error":"#DIV/0!"},{"$error":"#DIV/0!"},{"$error":"#DIV/0!"}]
[null,{"$f":"DATE('Annual Summary'!$G$7,10,ROW()-9)","v":"2023-10-11"},null,null,"",null,"","","","","","",null,null,null,{"$error":"#DIV/0!"},null,null,null,"",{"$error":"#DIV/0!"},{"$error":"#DIV/0!"},{"$error":"#DIV/0!"},{"$error":"#DIV/0!"}]
[null,{"$f":"DATE('Annual Summary'!$G$7,10,ROW()-9)","v":"2023-10-12"},null,null,"",null,"","","","","","",null,null,null,{"$error":"#DIV/0!"},null,null,null,"",{"$error":"#DIV/0!"},{"$error":"#DIV/0!"},{"$error":"#DIV/0!"},{"$error":"#DIV/0!"}]
[null,{"$f":"DATE('Annual Summary'!$G$7,10,ROW()-9)","v":"2023-10-13"},null,null,"",null,"","","","","","",null,null,null,{"$error":"#DIV/0!"},null,null,null,"",{"$error":"#DIV/0!"},{"$error":"#DIV/0!"},{"$error":"#DIV/0!"},{"$error":"#DIV/0!"}]
[null,{"$f":"DATE('Annual Summary'!$G$7,10,ROW()-9)","v":"2023-10-14"},null,null,"",null,"","","","","","",null,null,null,{"$error":"#DIV/0!"},null,null,null,"",{"$error":"#DIV/0!"},{"$error":"#DIV/0!"},{"$error":"#DIV/0!"},{"$error":"#DIV/0!"}]
[null,{"$f":"DATE('Annual Summary'!$G$7,10,ROW()-9)","v":"2023-10-15"},null,null,"",null,"","","","","","",null,null,null,{"$error":"#DIV/0!"},null,null,null,"",{"$error":"#DIV/0!"},{"$error":"#DIV/0!"},{"$error":"#DIV/0!"},{"$error":"#DIV/0!"}]
[null,{"$f":"DATE('Annual Summary'!$G$7,10,ROW()-9)","v":"2023-10-16"},null,null,"",null,"","","","","","",null,null,null,{"$error":"#DIV/0!"},null,null,null,"",{"$error":"#DIV/0!"},{"$error":"#DIV/0!"},{"$error":"#DIV/0!"},{"$error":"#DIV/0!"}]
[null,{"$f":"DATE('Annual Summary'!$G$7,10,ROW()-9)","v":"2023-10-17"},null,null,"",null,"","","","","","",null,null,null,{"$error":"#DIV/0!"},null,null,null,"",{"$error":"#DIV/0!"},{"$error":"#DIV/0!"},{"$error":"#DIV/0!"},{"$error":"#DIV/0!"}]
[null,{"$f":"DATE('Annual Summary'!$G$7,10,ROW()-9)","v":"2023-10-18"},null,null,"",null,"","","","","","",null,null,null,{"$error":"#DIV/0!"},null,null,null,"",{"$error":"#DIV/0!"},{"$error":"#DIV/0!"},{"$error":"#DIV/0!"},{"$error":"#DIV/0!"}]
[null,{"$f":"DATE('Annual Summary'!$G$7,10,ROW()-9)","v":"2023-10-19"},null,null,"",null,"","","","","","",null,null,null,{"$error":"#DIV/0!"},null,null,null,"",{"$error":"#DIV/0!"},{"$error":"#DIV/0!"},{"$error":"#DIV/0!"},{"$error":"#DIV/0!"}]
[null,{"$f":"DATE('Annual Summary'!$G$7,10,ROW()-9)","v":"2023-10-20"},null,null,"",null,"","","","","","",null,null,null,{"$error":"#DIV/0!"},null,null,null,"",{"$error":"#DIV/0!"},{"$error":"#DIV/0!"},{"$error":"#DIV/0!"},{"$error":"#DIV/0!"}]
[null,{"$f":"DATE('Annual Summary'!$G$7,10,ROW()-9)","v":"2023-10-21"},null,null,"",null,"","","","","","",null,null,null,{"$error":"#DIV/0!"},null,null,null,"",{"$error":"#DIV/0!"},{"$error":"#DIV/0!"},{"$error":"#DIV/0!"},{"$error":"#DIV/0!"}]
[null,{"$f":"DATE('Annual Summary'!$G$7,10,ROW()-9)","v":"2023-10-22"},null,null,"",null,"","","","","","",null,null,null,{"$error":"#DIV/0!"},null,null,null,"",{"$error":"#DIV/0!"},{"$error":"#DIV/0!"},{"$error":"#DIV/0!"},{"$error":"#DIV/0!"}]
[null,{"$f":"DATE('Annual Summary'!$G$7,10,ROW()-9)","v":"2023-10-23"},null,null,"",null,"","","","","","",null,null,null,{"$error":"#DIV/0!"},null,null,null,"",{"$error":"#DIV/0!"},{"$error":"#DIV/0!"},{"$error":"#DIV/0!"},{"$error":"#DIV/0!"}]
[null,{"$f":"DATE('Annual Summary'!$G$7,10,ROW()-9)","v":"2023-10-24"},null,null,"",null,"","","","","","",null,null,null,{"$error":"#DIV/0!"},null,null,null,"",{"$f":"AVERAGE(E29:E33)","v":{"$error":"#DIV/0!"}},{"$error":"#DIV/0!"},{"$error":"#DIV/0!"},{"$error":"#DIV/0!"}]
[null,{"$f":"DATE('Annual Summary'!$G$7,10,ROW()-9)","v":"2023-10-25"},null,null,"",null,"","","","","","",null,null,null,{"$error":"#DIV/0!"},null,null,null,"",{"$f":"AVERAGE(E30:E34)","v":{"$error":"#DIV/0!"}},{"$error":"#DIV/0!"},{"$f":"(-11.4041+(0.0894*V34)+(0.1932*U34))","v":{"$error":"#DIV/0!"}},{"$error":"#DIV/0!"}]
[null,{"$f":"DATE('Annual Summary'!$G$7,10,ROW()-9)","v":"2023-10-26"},null,null,"",null,"","","","","","",null,null,null,{"$error":"#DIV/0!"},null,null,null,"",{"$f":"AVERAGE(E31:E35)","v":{"$error":"#DIV/0!"}},{"$error":"#DIV/0!"},{"$error":"#DIV/0!"},{"$error":"#DIV/0!"}]
[null,{"$f":"DATE('Annual Summary'!$G$7,10,ROW()-9)","v":"2023-10-27"},null,null,"",null,"","","","","","",null,null,null,{"$error":"#DIV/0!"},null,null,null,"",{"$error":"#DIV/0!"},{"$error":"#DIV/0!"},{"$error":"#DIV/0!"},{"$error":"#DIV/0!"}]
[null,{"$f":"DATE('Annual Summary'!$G$7,10,ROW()-9)","v":"2023-10-28"},null,null,"",null,"","","","","","",null,null,null,{"$error":"#DIV/0!"},null,null,null,"",{"$error":"#DIV/0!"},{"$error":"#DIV/0!"},{"$error":"#DIV/0!"},{"$error":"#DIV/0!"}]
[null,{"$f":"DATE('Annual Summary'!$G$7,10,ROW()-9)","v":"2023-10-29"},null,null,"",null,"","","","","","",null,null,null,{"$error":"#DIV/0!"},null,null,null,"",{"$error":"#DIV/0!"},{"$error":"#DIV/0!"},{"$error":"#DIV/0!"},{"$error":"#DIV/0!"}]
[null,{"$f":"DATE('Annual Summary'!$G$7,10,ROW()-9)","v":"2023-10-30"},null,null,"",null,"","","","","","",null,null,null,{"$error":"#DIV/0!"},null,null,null,"",{"$error":"#DIV/0!"},{"$error":"#DIV/0!"},{"$error":"#DIV/0!"},{"$error":"#DIV/0!"}]
[null,{"$f":"DATE('Annual Summary'!$G$7,10,ROW()-9)","v":"2023-10-31"},null,null,"",null,"","","","","","",null,null,null,{"$error":"#DIV/0!"},null,null,null,"",{"$f":"AVERAGE(E36:E40)","v":{"$error":"#DIV/0!"}},{"$f":"AVERAGE(N36:N40)","v":{"$error":"#DIV/0!"}},{"$f":"(-11.4041+(0.0894*V40)+(0.1932*U40))","v":{"$error":"#DIV/0!"}},{"$f":"IF(OR(U40<=10,U40>=35),0,(EXP(W40))/(1+EXP(W40)))","v":{"$error":"#DIV/0!"}}]
[]
[null,"Monthly Average/Total",{"$f":"IF(ISERROR(AVERAGE($C$10:$C$40)),\"\",AVERAGE($C$10:$C$40))","v":""},{"$f":"IF(ISERROR(AVERAGE($D$10:$D$40)),\"\",AVERAGE($D$10:$D$40))","v":""},{"$f":"IFERROR(AVERAGE($E$10:$E$40),\"\")","v":""},{"$f":"IF(SUM($F$10:$F$40)=0,\"\",SUM($F$10:$F$40))","v":""},{"$f":"IFERROR(AVERAGE($G$10:$G$40),\"\")","v":""},{"$f":"IFERROR(LOOKUP(2,1/($H$10:$H$40<>\"\"),$H$10:$H$40),\"\")","v":""},{"$f":"_xlfn.IFNA(IFERROR(LOOKUP(2,1/($I$10:$I$40<>\"\"),$I$10:$I$40),LOOKUP(2,1/($H$10:$H$40<>\"\"),$H$10:$H$40)),\"\")","v":""},{"$f":"IFERROR(AVERAGE($J$10:$J$40),\"\")","v":""},{"$f":"IFERROR(LOOKUP(2,1/($K$10:$K$40<>\"\"),$K$10:$K$40),\"\")","v":""},{"$f":"_xlfn.IFNA(IFERROR(LOOKUP(2,1/($L$10:$L$40<>\"\"),$L$10:$L$40),LOOKUP(2,1/($K$10:$K$40<>\"\"),$K$10:$K$40)),\"\")","v":""},{"$f":"IF(SUM($M$10:$M$40)=0,\"\",SUM($M$10:$M$40))","v":""},{"$f":"IF(ISERROR(AVERAGE($N$10:$N$40)),\"\",AVERAGE($N$10:$N$40))","v":""},{"$f":"IF(SUM($O$10:$O$40)=0,\"\",SUM($O$10:$O$40))","v":""},null,null,null,null,{"$f":"SUM($T$10:$T$40)","v":0}]

{"sheet":"November","index":13,"n_rows":42,"n_cols":24,"rows_kept":42,"cut":false,"hidden":false,"merged":[[5,5,5,10]]}
[]
[]
[]
[]
[]
[null,null,null,null,null,{"$f":"MID(CELL(\"filename\",A1),FIND(\"]\",CELL(\"filename\",A1))+1,255) & \" \" & 'Annual Summary'!$G$7 & \" Weather Stats\"","v":"November 2023 Weather Stats"}]
[]
[]
[null,"Date","Min Air Temp (C)","Max Air Temp (C)","Average Air Temp (C)","Rainfall (mm)","Growth Degree Days","Cumulative GDD (Month)","Cumulative GDD (Year)","Growth Potential","Cumulative GP (Month)","Cumulative GP (Year)","Clipping Yield","Humidity % ","E.T (mm)","Smith Kerns Model","Microdochium Activity ","Anthracnose Activity ","Dollar Spot Activity","GP for C4 Grass","5-day average temp","5-day average humidity","Logit"]
[null,{"$f":"DATE('Annual Summary'!$G$7,11,ROW()-9)","v":"2023-11-01"},null,null,{"$f":"IFERROR(AVERAGE($C10,$D10),\"\")","v":""},null,{"$f":"IFERROR(IF(($E10-6)>0,$E10-6,0),\"\")","v":""},{"$f":"IF(ISBLANK($G$10),\"\",$G$10)","v":""},{"$f":"IFERROR(INDIRECT(TEXT(DATE('Annual Summary'!$G$7,MONTH($B10)-1,1),\"mmmm\") &\"!$I$42\") + IF($G$10=\"\",0,$G$10),\"\")","v":""},{"$f":"IFERROR(2.71828^(-0.5*(($E10-18)/5.5)^2),\"\")","v":""},{"$f":"IF(ISBLANK($J$10),\"\",$J$10)","v":""},{"$f":"IFERROR(INDIRECT(TEXT(DATE('Annual Summary'!$G$7,MONTH($B10)-1,1),\"mmmm\") &\"!$L$42\") + IF($K$10=\"\",0,$K$10),\"\")","v":""},null,null,null,{"$f":"X10","v":{"$error":"#DIV/0!"}},null,null,null,{"$f":"IFERROR(2.71828^(-0.5*(($E10-31)/7.3)^2),\"\")","v":""},{"$f":"AVERAGE(October!E37:E40,November!E10)","v":{"$error":"#DIV/0!"}},{"$f":"AVERAGE(October!N37:N40,November!N10)","v":{"$error":"#DIV/0!"}},{"$f":"(-11.4041+(0.0894*V10)+(0.1932*U10))","v":{"$error":"#DIV/0!"}},{"$f":"IF(OR(U10<=10,U10>=35),0,(EXP(W10))/(1+EXP(W10)))","v":{"$error":"#DIV/0!"}}]
[null,{"$f":"DATE('Annual Summary'!$G$7,11,ROW()-9)","v":"2023-11-02"},null,null,{"$f":"IFERROR(AVERAGE($C11,$D11),\"\")","v":""},null,{"$f":"IFERROR(IF(($E11-6)>0,$E11-6,0),\"\")","v":""},{"$f":"IFERROR($H10+$G11,\"\")","v":""},{"$f":"IFERROR($I10+$G11,\"\")","v":""},{"$f":"IFERROR(2.71828^(-0.5*(($E11-18)/5.5)^2),\"\")","v":""},{"$f":"IFERROR($K10+$J11,\"\")","v":""},{"$f":"IFERROR($L10+$J11,\"\")","v":""},null,null,null,{"$f":"X11","v":{"$error":"#DIV/0!"}},null,null,null,{"$f":"IFERROR(2.71828^(-0.5*(($E11-31)/7.3)^2),\"\")","v":""},{"$f":"AVERAGE(October!E38:E40,November!E10:E11)","v":{"$error":"#DIV/0!"}},{"$f":"AVERAGE(October!N38:N40,November!N10:N11)","v":{"$error":"#DIV/0!"}},{"$f":"(-11.4041+(0.0894*V11)+(0.1932*U11))","v":{"$error":"#DIV/0!"}},{"$f":"IF(OR(U11<=10,U11>=35),0,(EXP(W11))/(1+EXP(W11)))","v":{"$error":"#DIV/0!"}}]
[null,{"$f":"DATE('Annual Summary'!$G$7,11,ROW()-9)","v":"2023-11-03"},null,null,"",null,"",{"$f":"IFERROR($H11+$G12,\"\")","v":""},{"$f":"IFERROR($I11+$G12,\"\")","v":""},"",{"$f":"IFERROR($K11+$J12,\"\")","v":""},{"$f":"IFERROR($L11+$J12,\"\")","v":""},null,null,null,{"$error":"#DIV/0!"},null,null,null,"",{"$f":"AVERAGE(October!E39:E40,November!E10:E12)","v":{"$error":"#DIV/0!"}},{"$f":"AVERAGE(October!N39:N40,November!N10:N12)","v":{"$error":"#DIV/0!"}},{"$f":"(-11.4041+(0.0894*V12)+(0.1932*U12))","v":{"$error":"#DIV/0!"}},{"$error":"#DIV/0!"}]
[null,{"$f":"DATE('Annual Summary'!$G$7,11,ROW()-9)","v":"2023-11-04"},null,null,"",null,"","","","","","",null,null,null,{"$error":"#DIV/0!"},null,null,null,"",{"$f":"AVERAGE(October!E40,November!E10:E13)","v":{"$error":"#DIV/0!"}},{"$f":"AVERAGE(October!N40,November!N10:N13)","v":{"$error":"#DIV/0!"}},{"$error":"#DIV/0!"},{"$error":"#DIV/0!"}]
[null,{"$f":"DATE('Annual Summary'!$G$7,11,ROW()-9)","v":"2023-11-05"},null,null,"",null,"","","","","","",null,null,null,{"$error":"#DIV/0!"},null,null,null,"",{"$f":"AVERAGE(E10:E14)","v":{"$error":"#DIV/0!"}},{"$f":"AVERAGE(N10:N14)","v":{"$error":"#DIV/0!"}},{"$error":"#DIV/0!"},{"$error":"#DIV/0!"}]
[null,{"$f":"DATE('Annual Summary'!$G$7,11,ROW()-9)","v":"2023-11-06"},null,null,"",null,"","","","","","",null,null,null,{"$error":"#DIV/0!"},null,null,null,"",{"$f":"AVERAGE(E11:E15)","v":{"$error":"#DIV/0!"}},{"$f":"AVERAGE(N11:N15)","v":{"$error":"#DIV/0!"}},{"$error":"#DIV/0!"},{"$error":"#DIV/0!"}]
[null,{"$f":"DATE('Annual Summary'!$G$7,11,ROW()-9)","v":"2023-11-07"},null,null,"",null,"","","","","","",null,null,null,{"$error":"#DIV/0!"},null,null,null,"",{"$f":"AVERAGE(E12:E16)","v":{"$error":"#DIV/0!"}},{"$error":"#DIV/0!"},{"$error":"#DIV/0!"},{"$error":"#DIV/0!"}]
[null,{"$f":"DATE('Annual Summary'!$G$7,11,ROW()-9)","v":"2023-11-08"},null,null,"",null,"","","","","","",null,null,null,{"$error":"#DIV/0!"},null,null,null,"",{"$error":"#DIV/0!"},{"$error":"#DIV/0!"},{"$error":"#DIV/0!"},{"$error":"#DIV/0!"}]
[null,{"$f":"DATE('Annual Summary'!$G$7,11,ROW()-9)","v":"2023-11-09"},null,null,"",null,"","","","","","",null,null,null,{"$error":"#DIV/0!"},null,null,null,"",{"$error":"#DIV/0!"},{"$error":"#DIV/0!"},{"$error":"#DIV/0!"},{"$error":"#DIV/0!"}]
[null,{"$f":"DATE('Annual Summary'!$G$7,11,ROW()-9)","v":"2023-11-10"},null,null,"",null,"","","","","","",null,null,null,{"$error":"#DIV/0!"},null,null,null,"",{"$error":"#DIV/0!"},{"$error":"#DIV/0!"},{"$error":"#DIV/0!"},{"$error":"#DIV/0!"}]
[null,{"$f":"DATE('Annual Summary'!$G$7,11,ROW()-9)","v":"2023-11-11"},null,null,"",null,"","","","","","",null,null,null,{"$error":"#DIV/0!"},null,null,null,"",{"$error":"#DIV/0!"},{"$error":"#DIV/0!"},{"$error":"#DIV/0!"},{"$error":"#DIV/0!"}]
[null,{"$f":"DATE('Annual Summary'!$G$7,11,ROW()-9)","v":"2023-11-12"},null,null,"",null,"","","","","","",null,null,null,{"$error":"#DIV/0!"},null,null,null,"",{"$error":"#DIV/0!"},{"$error":"#DIV/0!"},{"$error":"#DIV/0!"},{"$error":"#DIV/0!"}]
[null,{"$f":"DATE('Annual Summary'!$G$7,11,ROW()-9)","v":"2023-11-13"},null,null,"",null,"","","","","","",null,null,null,{"$error":"#DIV/0!"},null,null,null,"",{"$error":"#DIV/0!"},{"$error":"#DIV/0!"},{"$error":"#DIV/0!"},{"$error":"#DIV/0!"}]
[null,{"$f":"DATE('Annual Summary'!$G$7,11,ROW()-9)","v":"2023-11-14"},null,null,"",null,"","","","","","",null,null,null,{"$error":"#DIV/0!"},null,null,null,"",{"$error":"#DIV/0!"},{"$error":"#DIV/0!"},{"$error":"#DIV/0!"},{"$error":"#DIV/0!"}]
[null,{"$f":"DATE('Annual Summary'!$G$7,11,ROW()-9)","v":"2023-11-15"},null,null,"",null,"","","","","","",null,null,null,{"$error":"#DIV/0!"},null,null,null,"",{"$error":"#DIV/0!"},{"$error":"#DIV/0!"},{"$error":"#DIV/0!"},{"$error":"#DIV/0!"}]
[null,{"$f":"DATE('Annual Summary'!$G$7,11,ROW()-9)","v":"2023-11-16"},null,null,"",null,"","","","","","",null,null,null,{"$error":"#DIV/0!"},null,null,null,"",{"$error":"#DIV/0!"},{"$error":"#DIV/0!"},{"$error":"#DIV/0!"},{"$error":"#DIV/0!"}]
[null,{"$f":"DATE('Annual Summary'!$G$7,11,ROW()-9)","v":"2023-11-17"},null,null,"",null,"","","","","","",null,null,null,{"$error":"#DIV/0!"},null,null,null,"",{"$error":"#DIV/0!"},{"$error":"#DIV/0!"},{"$error":"#DIV/0!"},{"$error":"#DIV/0!"}]
[null,{"$f":"DATE('Annual Summary'!$G$7,11,ROW()-9)","v":"2023-11-18"},null,null,"",null,"","","","","","",null,null,null,{"$error":"#DIV/0!"},null,null,null,"",{"$error":"#DIV/0!"},{"$error":"#DIV/0!"},{"$error":"#DIV/0!"},{"$error":"#DIV/0!"}]
[null,{"$f":"DATE('Annual Summary'!$G$7,11,ROW()-9)","v":"2023-11-19"},null,null,"",null,"","","","","","",null,null,null,{"$error":"#DIV/0!"},null,null,null,"",{"$error":"#DIV/0!"},{"$error":"#DIV/0!"},{"$error":"#DIV/0!"},{"$error":"#DIV/0!"}]
[null,{"$f":"DATE('Annual Summary'!$G$7,11,ROW()-9)","v":"2023-11-20"},null,null,"",null,"","","","","","",null,null,null,{"$error":"#DIV/0!"},null,null,null,"",{"$error":"#DIV/0!"},{"$error":"#DIV/0!"},{"$error":"#DIV/0!"},{"$error":"#DIV/0!"}]
[null,{"$f":"DATE('Annual Summary'!$G$7,11,ROW()-9)","v":"2023-11-21"},null,null,"",null,"","","","","","",null,null,null,{"$error":"#DIV/0!"},null,null,null,"",{"$error":"#DIV/0!"},{"$error":"#DIV/0!"},{"$error":"#DIV/0!"},{"$error":"#DIV/0!"}]
[null,{"$f":"DATE('Annual Summary'!$G$7,11,ROW()-9)","v":"2023-11-22"},null,null,"",null,"","","","","","",null,null,null,{"$error":"#DIV/0!"},null,null,null,"",{"$error":"#DIV/0!"},{"$error":"#DIV/0!"},{"$error":"#DIV/0!"},{"$error":"#DIV/0!"}]
[null,{"$f":"DATE('Annual Summary'!$G$7,11,ROW()-9)","v":"2023-11-23"},null,null,"",null,"","","","","","",null,null,null,{"$error":"#DIV/0!"},null,null,null,"",{"$error":"#DIV/0!"},{"$error":"#DIV/0!"},{"$error":"#DIV/0!"},{"$error":"#DIV/0!"}]
[null,{"$f":"DATE('Annual Summary'!$G$7,11,ROW()-9)","v":"2023-11-24"},null,null,"",null,"","","","","","",null,null,null,{"$error":"#DIV/0!"},null,null,null,"",{"$f":"AVERAGE(E29:E33)","v":{"$error":"#DIV/0!"}},{"$error":"#DIV/0!"},{"$error":"#DIV/0!"},{"$error":"#DIV/0!"}]
[null,{"$f":"DATE('Annual Summary'!$G$7,11,ROW()-9)","v":"2023-11-25"},null,null,"",null,"","","","","","",null,null,null,{"$error":"#DIV/0!"},null,null,null,"",{"$f":"AVERAGE(E30:E34)","v":{"$error":"#DIV/0!"}},{"$error":"#DIV/0!"},{"$f":"(-11.4041+(0.0894*V34)+(0.1932*U34))","v":{"$error":"#DIV/0!"}},{"$error":"#DIV/0!"}]
[null,{"$f":"DATE('Annual Summary'!$G$7,11,ROW()-9)","v":"2023-11-26"},null,null,"",null,"","","","","","",null,null,null,{"$error":"#DIV/0!"},null,null,null,"",{"$f":"AVERAGE(E31:E35)","v":{"$error":"#DIV/0!"}},{"$error":"#DIV/0!"},{"$error":"#DIV/0!"},{"$error":"#DIV/0!"}]
[null,{"$f":"DATE('Annual Summary'!$G$7,11,ROW()-9)","v":"2023-11-27"},null,null,"",null,"","","","","","",null,null,null,{"$error":"#DIV/0!"},null,null,null,"",{"$error":"#DIV/0!"},{"$error":"#DIV/0!"},{"$error":"#DIV/0!"},{"$error":"#DIV/0!"}]
[null,{"$f":"DATE('Annual Summary'!$G$7,11,ROW()-9)","v":"2023-11-28"},null,null,"",null,"","","","","","",null,null,null,{"$error":"#DIV/0!"},null,null,null,"",{"$error":"#DIV/0!"},{"$error":"#DIV/0!"},{"$error":"#DIV/0!"},{"$error":"#DIV/0!"}]
[null,{"$f":"DATE('Annual Summary'!$G$7,11,ROW()-9)","v":"2023-11-29"},null,null,"",null,"","","","","","",null,null,null,{"$error":"#DIV/0!"},null,null,null,"",{"$error":"#DIV/0!"},{"$error":"#DIV/0!"},{"$error":"#DIV/0!"},{"$error":"#DIV/0!"}]
[null,{"$f":"DATE('Annual Summary'!$G$7,11,ROW()-9)","v":"2023-11-30"},null,null,"",null,"","","","","","",null,null,null,{"$error":"#DIV/0!"},null,null,null,"",{"$error":"#DIV/0!"},{"$error":"#DIV/0!"},{"$error":"#DIV/0!"},{"$error":"#DIV/0!"}]
[null,null,null,null,null,null,null,null,null,null,null,null,null,null,null,null,null,null,null,null,{"$error":"#DIV/0!"},{"$error":"#DIV/0!"},{"$error":"#DIV/0!"},{"$error":"#DIV/0!"}]
[]
[null,"Monthly Average/Total",{"$f":"IF(ISERROR(AVERAGE($C$10:$C$40)),\"\",AVERAGE($C$10:$C$40))","v":""},{"$f":"IF(ISERROR(AVERAGE($D$10:$D$40)),\"\",AVERAGE($D$10:$D$40))","v":""},{"$f":"IFERROR(AVERAGE($E$10:$E$40),\"\")","v":""},{"$f":"IF(SUM($F$10:$F$40)=0,\"\",SUM($F$10:$F$40))","v":""},{"$f":"IFERROR(AVERAGE($G$10:$G$40),\"\")","v":""},{"$f":"IFERROR(LOOKUP(2,1/($H$10:$H$40<>\"\"),$H$10:$H$40),\"\")","v":""},{"$f":"_xlfn.IFNA(IFERROR(LOOKUP(2,1/($I$10:$I$40<>\"\"),$I$10:$I$40),LOOKUP(2,1/($H$10:$H$40<>\"\"),$H$10:$H$40)),\"\")","v":""},{"$f":"IFERROR(AVERAGE($J$10:$J$40),\"\")","v":""},{"$f":"IFERROR(LOOKUP(2,1/($K$10:$K$40<>\"\"),$K$10:$K$40),\"\")","v":""},{"$f":"_xlfn.IFNA(IFERROR(LOOKUP(2,1/($L$10:$L$40<>\"\"),$L$10:$L$40),LOOKUP(2,1/($K$10:$K$40<>\"\"),$K$10:$K$40)),\"\")","v":""},{"$f":"IF(SUM($M$10:$M$40)=0,\"\",SUM($M$10:$M$40))","v":""},{"$f":"IF(ISERROR(AVERAGE($N$10:$N$40)),\"\",AVERAGE($N$10:$N$40))","v":""},{"$f":"IF(SUM($O$10:$O$40)=0,\"\",SUM($O$10:$O$40))","v":""},null,null,null,null,{"$f":"SUM($T$10:$T$40)","v":0}]

{"sheet":"December","index":14,"n_rows":42,"n_cols":24,"rows_kept":42,"cut":false,"hidden":false,"merged":[[5,5,5,10]]}
[]
[]
[]
[]
[]
[null,null,null,null,null,{"$f":"MID(CELL(\"filename\",A1),FIND(\"]\",CELL(\"filename\",A1))+1,255) & \" \" & 'Annual Summary'!$G$7 & \" Weather Stats\"","v":"December 2023 Weather Stats"}]
[]
[]
[null,"Date","Min Air Temp (C)","Max Air Temp (C)","Average Air Temp (C)","Rainfall (mm)","Growth Degree Days","Cumulative GDD (Month)","Cumulative GDD (Year)","Growth Potential","Cumulative GP (Month)","Cumulative GP (Year)","Clipping Yield","Humidity % ","E.T (mm)","Smith Kerns Model","Microdochium Activity ","Anthracnose Activity ","Dollar Spot Activity","GP for C4 Grass","5-day average temp","5-day average humidity","Logit"]
[null,{"$f":"DATE('Annual Summary'!$G$7,12,ROW()-9)","v":"2023-12-01"},null,null,{"$f":"IFERROR(AVERAGE($C10,$D10),\"\")","v":""},null,{"$f":"IFERROR(IF(($E10-6)>0,$E10-6,0),\"\")","v":""},{"$f":"IF(ISBLANK($G$10),\"\",$G$10)","v":""},{"$f":"IFERROR(INDIRECT(TEXT(DATE('Annual Summary'!$G$7,MONTH($B10)-1,1),\"mmmm\") &\"!$I$42\") + IF($G$10=\"\",0,$G$10),\"\")","v":""},{"$f":"IFERROR(2.71828^(-0.5*(($E10-18)/5.5)^2),\"\")","v":""},{"$f":"IF(ISBLANK($J$10),\"\",$J$10)","v":""},{"$f":"IFERROR(INDIRECT(TEXT(DATE('Annual Summary'!$G$7,MONTH($B10)-1,1),\"mmmm\") &\"!$L$42\") + IF($K$10=\"\",0,$K$10),\"\")","v":""},null,null,null,{"$f":"X10","v":{"$error":"#DIV/0!"}},null,null,null,{"$f":"IFERROR(2.71828^(-0.5*(($E10-31)/7.3)^2),\"\")","v":""},{"$f":"AVERAGE(November!E37:E40,December!E10)","v":{"$error":"#DIV/0!"}},{"$f":"AVERAGE(November!N37:N40,December!N10)","v":{"$error":"#DIV/0!"}},{"$f":"(-11.4041+(0.0894*V10)+(0.1932*U10))","v":{"$error":"#DIV/0!"}},{"$f":"IF(OR(U10<=10,U10>=35),0,(EXP(W10))/(1+EXP(W10)))","v":{"$error":"#DIV/0!"}}]
[null,{"$f":"DATE('Annual Summary'!$G$7,12,ROW()-9)","v":"2023-12-02"},null,null,{"$f":"IFERROR(AVERAGE($C11,$D11),\"\")","v":""},null,{"$f":"IFERROR(IF(($E11-6)>0,$E11-6,0),\"\")","v":""},{"$f":"IFERROR($H10+$G11,\"\")","v":""},{"$f":"IFERROR($I10+$G11,\"\")","v":""},{"$f":"IFERROR(2.71828^(-0.5*(($E11-18)/5.5)^2),\"\")","v":""},{"$f":"IFERROR($K10+$J11,\"\")","v":""},{"$f":"IFERROR($L10+$J11,\"\")","v":""},null,null,null,{"$f":"X11","v":{"$error":"#DIV/0!"}},null,null,null,{"$f":"IFERROR(2.71828^(-0.5*(($E11-31)/7.3)^2),\"\")","v":""},{"$f":"AVERAGE(November!E38:E40,December!E10:E11)","v":{"$error":"#DIV/0!"}},{"$f":"AVERAGE(November!N38:N40,December!N10:N11)","v":{"$error":"#DIV/0!"}},{"$f":"(-11.4041+(0.0894*V11)+(0.1932*U11))","v":{"$error":"#DIV/0!"}},{"$f":"IF(OR(U11<=10,U11>=35),0,(EXP(W11))/(1+EXP(W11)))","v":{"$error":"#DIV/0!"}}]
[null,{"$f":"DATE('Annual Summary'!$G$7,12,ROW()-9)","v":"2023-12-03"},null,null,"",null,"",{"$f":"IFERROR($H11+$G12,\"\")","v":""},{"$f":"IFERROR($I11+$G12,\"\")","v":""},"",{"$f":"IFERROR($K11+$J12,\"\")","v":""},{"$f":"IFERROR($L11+$J12,\"\")","v":""},null,null,null,{"$error":"#DIV/0!"},null,null,null,"",{"$f":"AVERAGE(November!E39:E40,December!E10:E12)","v":{"$error":"#DIV/0!"}},{"$f":"AVERAGE(November!N39:N40,December!N10:N12)","v":{"$error":"#DIV/0!"}},{"$f":"(-11.4041+(0.0894*V12)+(0.1932*U12))","v":{"$error":"#DIV/0!"}},{"$error":"#DIV/0!"}]
[null,{"$f":"DATE('Annual Summary'!$G$7,12,ROW()-9)","v":"2023-12-04"},null,null,"",null,"","","","","","",null,null,null,{"$error":"#DIV/0!"},null,null,null,"",{"$f":"AVERAGE(November!E40,December!E10:E13)","v":{"$error":"#DIV/0!"}},{"$f":"AVERAGE(November!N40,December!N10:N13)","v":{"$error":"#DIV/0!"}},{"$error":"#DIV/0!"},{"$error":"#DIV/0!"}]
[null,{"$f":"DATE('Annual Summary'!$G$7,12,ROW()-9)","v":"2023-12-05"},null,null,"",null,"","","","","","",null,null,null,{"$error":"#DIV/0!"},null,null,null,"",{"$f":"AVERAGE(E10:E14)","v":{"$error":"#DIV/0!"}},{"$f":"AVERAGE(N10:N14)","v":{"$error":"#DIV/0!"}},{"$error":"#DIV/0!"},{"$error":"#DIV/0!"}]
[null,{"$f":"DATE('Annual Summary'!$G$7,12,ROW()-9)","v":"2023-12-06"},null,null,"",null,"","","","","","",null,null,null,{"$error":"#DIV/0!"},null,null,null,"",{"$f":"AVERAGE(E11:E15)","v":{"$error":"#DIV/0!"}},{"$f":"AVERAGE(N11:N15)","v":{"$error":"#DIV/0!"}},{"$error":"#DIV/0!"},{"$error":"#DIV/0!"}]
[null,{"$f":"DATE('Annual Summary'!$G$7,12,ROW()-9)","v":"2023-12-07"},null,null,"",null,"","","","","","",null,null,null,{"$error":"#DIV/0!"},null,null,null,"",{"$f":"AVERAGE(E12:E16)","v":{"$error":"#DIV/0!"}},{"$error":"#DIV/0!"},{"$error":"#DIV/0!"},{"$error":"#DIV/0!"}]
[null,{"$f":"DATE('Annual Summary'!$G$7,12,ROW()-9)","v":"2023-12-08"},null,null,"",null,"","","","","","",null,null,null,{"$error":"#DIV/0!"},null,null,null,"",{"$error":"#DIV/0!"},{"$error":"#DIV/0!"},{"$error":"#DIV/0!"},{"$error":"#DIV/0!"}]
[null,{"$f":"DATE('Annual Summary'!$G$7,12,ROW()-9)","v":"2023-12-09"},null,null,"",null,"","","","","","",null,null,null,{"$error":"#DIV/0!"},null,null,null,"",{"$error":"#DIV/0!"},{"$error":"#DIV/0!"},{"$error":"#DIV/0!"},{"$error":"#DIV/0!"}]
[null,{"$f":"DATE('Annual Summary'!$G$7,12,ROW()-9)","v":"2023-12-10"},null,null,"",null,"","","","","","",null,null,null,{"$error":"#DIV/0!"},null,null,null,"",{"$error":"#DIV/0!"},{"$error":"#DIV/0!"},{"$error":"#DIV/0!"},{"$error":"#DIV/0!"}]
[null,{"$f":"DATE('Annual Summary'!$G$7,12,ROW()-9)","v":"2023-12-11"},null,null,"",null,"","","","","","",null,null,null,{"$error":"#DIV/0!"},null,null,null,"",{"$error":"#DIV/0!"},{"$error":"#DIV/0!"},{"$error":"#DIV/0!"},{"$error":"#DIV/0!"}]
[null,{"$f":"DATE('Annual Summary'!$G$7,12,ROW()-9)","v":"2023-12-12"},null,null,"",null,"","","","","","",null,null,null,{"$error":"#DIV/0!"},null,null,null,"",{"$error":"#DIV/0!"},{"$error":"#DIV/0!"},{"$error":"#DIV/0!"},{"$error":"#DIV/0!"}]
[null,{"$f":"DATE('Annual Summary'!$G$7,12,ROW()-9)","v":"2023-12-13"},null,null,"",null,"","","","","","",null,null,null,{"$error":"#DIV/0!"},null,null,null,"",{"$error":"#DIV/0!"},{"$error":"#DIV/0!"},{"$error":"#DIV/0!"},{"$error":"#DIV/0!"}]
[null,{"$f":"DATE('Annual Summary'!$G$7,12,ROW()-9)","v":"2023-12-14"},null,null,"",null,"","","","","","",null,null,null,{"$error":"#DIV/0!"},null,null,null,"",{"$error":"#DIV/0!"},{"$error":"#DIV/0!"},{"$error":"#DIV/0!"},{"$error":"#DIV/0!"}]
[null,{"$f":"DATE('Annual Summary'!$G$7,12,ROW()-9)","v":"2023-12-15"},null,null,"",null,"","","","","","",null,null,null,{"$error":"#DIV/0!"},null,null,null,"",{"$error":"#DIV/0!"},{"$error":"#DIV/0!"},{"$error":"#DIV/0!"},{"$error":"#DIV/0!"}]
[null,{"$f":"DATE('Annual Summary'!$G$7,12,ROW()-9)","v":"2023-12-16"},null,null,"",null,"","","","","","",null,null,null,{"$error":"#DIV/0!"},null,null,null,"",{"$error":"#DIV/0!"},{"$error":"#DIV/0!"},{"$error":"#DIV/0!"},{"$error":"#DIV/0!"}]
[null,{"$f":"DATE('Annual Summary'!$G$7,12,ROW()-9)","v":"2023-12-17"},null,null,"",null,"","","","","","",null,null,null,{"$error":"#DIV/0!"},null,null,null,"",{"$error":"#DIV/0!"},{"$error":"#DIV/0!"},{"$error":"#DIV/0!"},{"$error":"#DIV/0!"}]
[null,{"$f":"DATE('Annual Summary'!$G$7,12,ROW()-9)","v":"2023-12-18"},null,null,"",null,"","","","","","",null,null,null,{"$error":"#DIV/0!"},null,null,null,"",{"$error":"#DIV/0!"},{"$error":"#DIV/0!"},{"$error":"#DIV/0!"},{"$error":"#DIV/0!"}]
[null,{"$f":"DATE('Annual Summary'!$G$7,12,ROW()-9)","v":"2023-12-19"},null,null,"",null,"","","","","","",null,null,null,{"$error":"#DIV/0!"},null,null,null,"",{"$error":"#DIV/0!"},{"$error":"#DIV/0!"},{"$error":"#DIV/0!"},{"$error":"#DIV/0!"}]
[null,{"$f":"DATE('Annual Summary'!$G$7,12,ROW()-9)","v":"2023-12-20"},null,null,"",null,"","","","","","",null,null,null,{"$error":"#DIV/0!"},null,null,null,"",{"$error":"#DIV/0!"},{"$error":"#DIV/0!"},{"$error":"#DIV/0!"},{"$error":"#DIV/0!"}]
[null,{"$f":"DATE('Annual Summary'!$G$7,12,ROW()-9)","v":"2023-12-21"},null,null,"",null,"","","","","","",null,null,null,{"$error":"#DIV/0!"},null,null,null,"",{"$error":"#DIV/0!"},{"$error":"#DIV/0!"},{"$error":"#DIV/0!"},{"$error":"#DIV/0!"}]
[null,{"$f":"DATE('Annual Summary'!$G$7,12,ROW()-9)","v":"2023-12-22"},null,null,"",null,"","","","","","",null,null,null,{"$error":"#DIV/0!"},null,null,null,"",{"$error":"#DIV/0!"},{"$error":"#DIV/0!"},{"$error":"#DIV/0!"},{"$error":"#DIV/0!"}]
[null,{"$f":"DATE('Annual Summary'!$G$7,12,ROW()-9)","v":"2023-12-23"},null,null,"",null,"","","","","","",null,null,null,{"$error":"#DIV/0!"},null,null,null,"",{"$error":"#DIV/0!"},{"$error":"#DIV/0!"},{"$error":"#DIV/0!"},{"$error":"#DIV/0!"}]
[null,{"$f":"DATE('Annual Summary'!$G$7,12,ROW()-9)","v":"2023-12-24"},null,null,"",null,"","","","","","",null,null,null,{"$error":"#DIV/0!"},null,null,null,"",{"$f":"AVERAGE(E29:E33)","v":{"$error":"#DIV/0!"}},{"$error":"#DIV/0!"},{"$error":"#DIV/0!"},{"$error":"#DIV/0!"}]
[null,{"$f":"DATE('Annual Summary'!$G$7,12,ROW()-9)","v":"2023-12-25"},null,null,"",null,"","","","","","",null,null,null,{"$error":"#DIV/0!"},null,null,null,"",{"$f":"AVERAGE(E30:E34)","v":{"$error":"#DIV/0!"}},{"$error":"#DIV/0!"},{"$f":"(-11.4041+(0.0894*V34)+(0.1932*U34))","v":{"$error":"#DIV/0!"}},{"$error":"#DIV/0!"}]
[null,{"$f":"DATE('Annual Summary'!$G$7,12,ROW()-9)","v":"2023-12-26"},null,null,"",null,"","","","","","",null,null,null,{"$error":"#DIV/0!"},null,null,null,"",{"$f":"AVERAGE(E31:E35)","v":{"$error":"#DIV/0!"}},{"$error":"#DIV/0!"},{"$error":"#DIV/0!"},{"$error":"#DIV/0!"}]
[null,{"$f":"DATE('Annual Summary'!$G$7,12,ROW()-9)","v":"2023-12-27"},null,null,"",null,"","","","","","",null,null,null,{"$error":"#DIV/0!"},null,null,null,"",{"$error":"#DIV/0!"},{"$error":"#DIV/0!"},{"$error":"#DIV/0!"},{"$error":"#DIV/0!"}]
[null,{"$f":"DATE('Annual Summary'!$G$7,12,ROW()-9)","v":"2023-12-28"},null,null,"",null,"","","","","","",null,null,null,{"$error":"#DIV/0!"},null,null,null,"",{"$error":"#DIV/0!"},{"$error":"#DIV/0!"},{"$error":"#DIV/0!"},{"$error":"#DIV/0!"}]
[null,{"$f":"DATE('Annual Summary'!$G$7,12,ROW()-9)","v":"2023-12-29"},null,null,"",null,"","","","","","",null,null,null,{"$error":"#DIV/0!"},null,null,null,"",{"$error":"#DIV/0!"},{"$error":"#DIV/0!"},{"$error":"#DIV/0!"},{"$error":"#DIV/0!"}]
[null,{"$f":"DATE('Annual Summary'!$G$7,12,ROW()-9)","v":"2023-12-30"},null,null,"",null,"","","","","","",null,null,null,{"$error":"#DIV/0!"},null,null,null,"",{"$error":"#DIV/0!"},{"$error":"#DIV/0!"},{"$error":"#DIV/0!"},{"$error":"#DIV/0!"}]
[null,{"$f":"DATE('Annual Summary'!$G$7,12,ROW()-9)","v":"2023-12-31"},null,null,"",null,"","","","","","",null,null,null,{"$error":"#DIV/0!"},null,null,null,"",{"$error":"#DIV/0!"},{"$error":"#DIV/0!"},{"$error":"#DIV/0!"},{"$error":"#DIV/0!"}]
[]
[null,"Monthly Average/Total",{"$f":"IF(ISERROR(AVERAGE($C$10:$C$40)),\"\",AVERAGE($C$10:$C$40))","v":""},{"$f":"IF(ISERROR(AVERAGE($D$10:$D$40)),\"\",AVERAGE($D$10:$D$40))","v":""},{"$f":"IFERROR(AVERAGE($E$10:$E$40),\"\")","v":""},{"$f":"IF(SUM($F$10:$F$40)=0,\"\",SUM($F$10:$F$40))","v":""},{"$f":"IFERROR(AVERAGE($G$10:$G$40),\"\")","v":""},{"$f":"IFERROR(LOOKUP(2,1/($H$10:$H$40<>\"\"),$H$10:$H$40),\"\")","v":""},{"$f":"_xlfn.IFNA(IFERROR(LOOKUP(2,1/($I$10:$I$40<>\"\"),$I$10:$I$40),LOOKUP(2,1/($H$10:$H$40<>\"\"),$H$10:$H$40)),\"\")","v":""},{"$f":"IFERROR(AVERAGE($J$10:$J$40),\"\")","v":""},{"$f":"IFERROR(LOOKUP(2,1/($K$10:$K$40<>\"\"),$K$10:$K$40),\"\")","v":""},{"$f":"_xlfn.IFNA(IFERROR(LOOKUP(2,1/($L$10:$L$40<>\"\"),$L$10:$L$40),LOOKUP(2,1/($K$10:$K$40<>\"\"),$K$10:$K$40)),\"\")","v":""},{"$f":"IF(SUM($M$10:$M$40)=0,\"\",SUM($M$10:$M$40))","v":""},{"$f":"IF(ISERROR(AVERAGE($N$10:$N$40)),\"\",AVERAGE($N$10:$N$40))","v":""},{"$f":"IF(SUM($O$10:$O$40)=0,\"\",SUM($O$10:$O$40))","v":""},null,null,null,null,{"$f":"SUM($T$10:$T$40)","v":0}]